BEGIN:VCALENDAR
VERSION:2.0
PRODID:-//Jekyll Island Arts Association - ECPv6.15.20//NONSGML v1.0//EN
CALSCALE:GREGORIAN
METHOD:PUBLISH
X-WR-CALNAME:Jekyll Island Arts Association
X-ORIGINAL-URL:https://jekyllartists.com
X-WR-CALDESC:Events for Jekyll Island Arts Association
REFRESH-INTERVAL;VALUE=DURATION:PT1H
X-Robots-Tag:noindex
X-PUBLISHED-TTL:PT1H
BEGIN:VTIMEZONE
TZID:UTC
BEGIN:STANDARD
TZOFFSETFROM:+0000
TZOFFSETTO:+0000
TZNAME:UTC
DTSTART:20230101T000000
END:STANDARD
END:VTIMEZONE
BEGIN:VEVENT
DTSTART;TZID=UTC:20241006T130000
DTEND;TZID=UTC:20241006T150000
DTSTAMP:20260425T165317
CREATED:20240917T001017Z
LAST-MODIFIED:20240917T001017Z
UID:9999-1728219600-1728226800@jekyllartists.com
SUMMARY:Meet the October Artists
DESCRIPTION:
URL:https://jekyllartists.com/event/meet-the-october-artists-2/
LOCATION:Goodyear Cottage\, 321 Riverview Drive\, Jekyll Island\, GA\, 31527\, United States
CATEGORIES:Reception
END:VEVENT
BEGIN:VEVENT
DTSTART;TZID=UTC:20241001T120000
DTEND;TZID=UTC:20241001T160000
DTSTAMP:20260425T165317
CREATED:20240331T004344Z
LAST-MODIFIED:20240917T000911Z
UID:9780-1727784000-1727798400@jekyllartists.com
SUMMARY:October Gallery Show Opens
DESCRIPTION:Joanna Hill – Painting\nBrenda Joy Hughes – Sculpture\nTerri Shay – Painting
URL:https://jekyllartists.com/event/october-gallery-show-opens-7/
LOCATION:Goodyear Cottage\, 321 Riverview Drive\, Jekyll Island\, GA\, 31527\, United States
CATEGORIES:Gallery Exhibition
END:VEVENT
BEGIN:VEVENT
DTSTART;TZID=UTC:20240901T130000
DTEND;TZID=UTC:20240901T150000
DTSTAMP:20260425T165317
CREATED:20240819T005826Z
LAST-MODIFIED:20240823T181513Z
UID:9967-1725195600-1725202800@jekyllartists.com
SUMMARY:Meet the September Artists
DESCRIPTION:
URL:https://jekyllartists.com/event/meet-the-september-artists-3/
LOCATION:Goodyear Cottage\, 321 Riverview Drive\, Jekyll Island\, GA\, 31527\, United States
CATEGORIES:Reception
END:VEVENT
BEGIN:VEVENT
DTSTART;TZID=UTC:20240901T100000
DTEND;TZID=UTC:20240901T160000
DTSTAMP:20260425T165317
CREATED:20240331T004144Z
LAST-MODIFIED:20240823T181554Z
UID:9778-1725184800-1725206400@jekyllartists.com
SUMMARY:September Gallery Show Opens
DESCRIPTION:Paul Christian – Pottery\nJamie Scott – Painting\nNat Scott – Pottery
URL:https://jekyllartists.com/event/september-gallery-show-opens-4/
LOCATION:Goodyear Cottage\, 321 Riverview Drive\, Jekyll Island\, GA\, 31527\, United States
CATEGORIES:Gallery Exhibition
END:VEVENT
BEGIN:VEVENT
DTSTART;TZID=UTC:20240825T120000
DTEND;TZID=UTC:20240825T150000
DTSTAMP:20260425T165317
CREATED:20240823T182357Z
LAST-MODIFIED:20240823T182357Z
UID:9977-1724587200-1724598000@jekyllartists.com
SUMMARY:Artists Demonstration
DESCRIPTION:
URL:https://jekyllartists.com/event/artists-demonstration/
LOCATION:Goodyear Cottage\, 321 Riverview Drive\, Jekyll Island\, GA\, 31527\, United States
CATEGORIES:Public Invited
END:VEVENT
BEGIN:VEVENT
DTSTART;TZID=UTC:20240805T100000
DTEND;TZID=UTC:20240805T160000
DTSTAMP:20260425T165317
CREATED:20240805T172622Z
LAST-MODIFIED:20240805T172622Z
UID:9941-1722852000-1722873600@jekyllartists.com
SUMMARY:Shop & Gallery Closed - Hurricane Debby
DESCRIPTION:
URL:https://jekyllartists.com/event/shop-gallery-closed-hurricane-debby-2/
LOCATION:Goodyear Cottage\, 321 Riverview Drive\, Jekyll Island\, GA\, 31527\, United States
CATEGORIES:Gallery Closed
END:VEVENT
BEGIN:VEVENT
DTSTART;TZID=UTC:20240805T100000
DTEND;TZID=UTC:20240805T160000
DTSTAMP:20260425T165317
CREATED:20240805T172551Z
LAST-MODIFIED:20240805T172551Z
UID:9939-1722852000-1722873600@jekyllartists.com
SUMMARY:Shop & Gallery Closed - Hurricane Debby
DESCRIPTION:
URL:https://jekyllartists.com/event/shop-gallery-closed-hurricane-debby/
LOCATION:Goodyear Cottage\, 321 Riverview Drive\, Jekyll Island\, GA\, 31527\, United States
CATEGORIES:Gallery Closed
END:VEVENT
BEGIN:VEVENT
DTSTART;TZID=UTC:20240804T130000
DTEND;TZID=UTC:20240804T150000
DTSTAMP:20260425T165317
CREATED:20240727T235156Z
LAST-MODIFIED:20240727T235313Z
UID:9921-1722776400-1722783600@jekyllartists.com
SUMMARY:Meet the August Artists - reception
DESCRIPTION:
URL:https://jekyllartists.com/event/meet-the-august-artists-reception-2/
LOCATION:Goodyear Cottage\, 321 Riverview Drive\, Jekyll Island\, GA\, 31527\, United States
CATEGORIES:Reception
END:VEVENT
BEGIN:VEVENT
DTSTART;TZID=UTC:20240801T120000
DTEND;TZID=UTC:20240801T160000
DTSTAMP:20260425T165317
CREATED:20240331T003914Z
LAST-MODIFIED:20240711T212525Z
UID:9776-1722513600-1722528000@jekyllartists.com
SUMMARY:August Gallery Show Opens
DESCRIPTION:Debra Brewster\, Handmade Arts\nGerald Dukes\, Heritage Arts\nDonald Farrell\, Painting\nCarol Hodges\, Pottery\nAme Ivanov\, Heritage Arts\nJoyce Scribner\, Fiber Arts
URL:https://jekyllartists.com/event/august-gallery-show-opens-5/
LOCATION:Goodyear Cottage\, 321 Riverview Drive\, Jekyll Island\, GA\, 31527\, United States
CATEGORIES:Gallery Exhibition
END:VEVENT
BEGIN:VEVENT
DTSTART;TZID=UTC:20240727T120000
DTEND;TZID=UTC:20240727T140000
DTSTAMP:20260425T165317
CREATED:20240701T013033Z
LAST-MODIFIED:20240706T170024Z
UID:9892-1722081600-1722088800@jekyllartists.com
SUMMARY:Visit with the Artist\, Photography Discussion
DESCRIPTION:
URL:https://jekyllartists.com/event/visit-with-the-artist-photography-discussion-4/
LOCATION:Goodyear Cottage\, 321 Riverview Drive\, Jekyll Island\, GA\, 31527\, United States
CATEGORIES:Public Invited
END:VEVENT
BEGIN:VEVENT
DTSTART;TZID=UTC:20240720T120000
DTEND;TZID=UTC:20240720T140000
DTSTAMP:20260425T165317
CREATED:20240701T012900Z
LAST-MODIFIED:20240706T165959Z
UID:9890-1721476800-1721484000@jekyllartists.com
SUMMARY:Visit with the Artist\, Photography Discussion
DESCRIPTION:
URL:https://jekyllartists.com/event/visit-with-the-artist-photography-discussion-3/
LOCATION:Goodyear Cottage\, 321 Riverview Drive\, Jekyll Island\, GA\, 31527\, United States
CATEGORIES:Public Invited
END:VEVENT
BEGIN:VEVENT
DTSTART;TZID=UTC:20240713T120000
DTEND;TZID=UTC:20240713T140000
DTSTAMP:20260425T165317
CREATED:20240701T004546Z
LAST-MODIFIED:20240706T165928Z
UID:9888-1720872000-1720879200@jekyllartists.com
SUMMARY:Visit with the Artist\, Photography Discussion
DESCRIPTION:
URL:https://jekyllartists.com/event/visit-with-the-artist-photography-discussion-2/
LOCATION:Goodyear Cottage\, 321 Riverview Drive\, Jekyll Island\, GA\, 31527\, United States
CATEGORIES:Public Invited
END:VEVENT
BEGIN:VEVENT
DTSTART;TZID=UTC:20240707T130000
DTEND;TZID=UTC:20240707T150000
DTSTAMP:20260425T165317
CREATED:20240617T183206Z
LAST-MODIFIED:20240701T013142Z
UID:9878-1720357200-1720364400@jekyllartists.com
SUMMARY:Meet the July Artist
DESCRIPTION:
URL:https://jekyllartists.com/event/meet-the-july-artist/
LOCATION:Goodyear Cottage\, 321 Riverview Drive\, Jekyll Island\, GA\, 31527\, United States
CATEGORIES:Reception
END:VEVENT
BEGIN:VEVENT
DTSTART;TZID=UTC:20240706T120000
DTEND;TZID=UTC:20240706T140000
DTSTAMP:20260425T165317
CREATED:20240701T004423Z
LAST-MODIFIED:20240706T165901Z
UID:9886-1720267200-1720274400@jekyllartists.com
SUMMARY:Visit with the Artist\, Photography Discussion
DESCRIPTION:
URL:https://jekyllartists.com/event/visit-with-the-artist-photography-discussion/
LOCATION:Goodyear Cottage\, 321 Riverview Drive\, Jekyll Island\, GA\, 31527\, United States
CATEGORIES:Public Invited
END:VEVENT
BEGIN:VEVENT
DTSTART;TZID=UTC:20240701T120000
DTEND;TZID=UTC:20240701T160000
DTSTAMP:20260425T165317
CREATED:20240317T032221Z
LAST-MODIFIED:20240617T182930Z
UID:9738-1719835200-1719849600@jekyllartists.com
SUMMARY:July Gallery Show Opens
DESCRIPTION:
URL:https://jekyllartists.com/event/july-gallery-show-opens-7/
LOCATION:Goodyear Cottage\, 321 Riverview Drive\, Jekyll Island\, GA\, 31527\, United States
CATEGORIES:Gallery Exhibition
END:VEVENT
BEGIN:VEVENT
DTSTART;TZID=UTC:20240629T100000
DTEND;TZID=UTC:20240629T123000
DTSTAMP:20260425T165317
CREATED:20240622T183342Z
LAST-MODIFIED:20240622T183342Z
UID:9881-1719655200-1719664200@jekyllartists.com
SUMMARY:Martha Cook Pottery Demonstration
DESCRIPTION:
URL:https://jekyllartists.com/event/martha-cook-pottery-demonstration/
LOCATION:Goodyear Cottage\, 321 Riverview Drive\, Jekyll Island\, GA\, 31527\, United States
CATEGORIES:Public Invited
END:VEVENT
BEGIN:VEVENT
DTSTART;TZID=UTC:20240622T130000
DTEND;TZID=UTC:20240622T150000
DTSTAMP:20260425T165317
CREATED:20240607T214627Z
LAST-MODIFIED:20240607T214627Z
UID:9867-1719061200-1719068400@jekyllartists.com
SUMMARY:Book Signing - Tricia Andreassen
DESCRIPTION:
URL:https://jekyllartists.com/event/book-signing-tricia-andreassen/
LOCATION:Goodyear Cottage\, 321 Riverview Drive\, Jekyll Island\, GA\, 31527\, United States
CATEGORIES:Public Invited
END:VEVENT
BEGIN:VEVENT
DTSTART;TZID=UTC:20240602T130000
DTEND;TZID=UTC:20240602T150000
DTSTAMP:20260425T165317
CREATED:20240522T182121Z
LAST-MODIFIED:20240522T182121Z
UID:9847-1717333200-1717340400@jekyllartists.com
SUMMARY:Meet the June Artists - reception
DESCRIPTION:
URL:https://jekyllartists.com/event/meet-the-june-artists-reception/
LOCATION:Goodyear Cottage\, 321 Riverview Drive\, Jekyll Island\, GA\, 31527\, United States
CATEGORIES:Reception
END:VEVENT
BEGIN:VEVENT
DTSTART;TZID=UTC:20240601T100000
DTEND;TZID=UTC:20240601T160000
DTSTAMP:20260425T165317
CREATED:20240317T031200Z
LAST-MODIFIED:20240522T182213Z
UID:9736-1717236000-1717257600@jekyllartists.com
SUMMARY:June Gallery Show Opens
DESCRIPTION:Justine Ferreri – Sculpture\nDeborah Jinkins – Painting
URL:https://jekyllartists.com/event/june-gallery-show-opens-7/
LOCATION:Goodyear Cottage\, 321 Riverview Drive\, Jekyll Island\, GA\, 31527\, United States
CATEGORIES:Gallery Exhibition
END:VEVENT
BEGIN:VEVENT
DTSTART;TZID=UTC:20240531T160000
DTEND;TZID=UTC:20240531T160000
DTSTAMP:20260425T165317
CREATED:20231011T234946Z
LAST-MODIFIED:20231011T234946Z
UID:9324-1717171200-1717171200@jekyllartists.com
SUMMARY:May Gallery Show Closes
DESCRIPTION:
URL:https://jekyllartists.com/event/may-gallery-show-closes-6/
LOCATION:Goodyear Cottage\, 321 Riverview Drive\, Jekyll Island\, GA\, 31527\, United States
CATEGORIES:Gallery Exhibition
END:VEVENT
BEGIN:VEVENT
DTSTART;TZID=UTC:20240505T130000
DTEND;TZID=UTC:20240505T150000
DTSTAMP:20260425T165317
CREATED:20240422T193618Z
LAST-MODIFIED:20240430T231607Z
UID:9814-1714914000-1714921200@jekyllartists.com
SUMMARY:Meet the May Artists - Reception
DESCRIPTION:
URL:https://jekyllartists.com/event/meet-the-may-artists-reception-2/
LOCATION:Goodyear Cottage\, 321 Riverview Drive\, Jekyll Island\, GA\, 31527\, United States
CATEGORIES:Reception
END:VEVENT
BEGIN:VEVENT
DTSTART;TZID=UTC:20240501T120000
DTEND;TZID=UTC:20240501T160000
DTSTAMP:20260425T165317
CREATED:20231011T234856Z
LAST-MODIFIED:20240422T193910Z
UID:9322-1714564800-1714579200@jekyllartists.com
SUMMARY:May Gallery Show Opens
DESCRIPTION:
URL:https://jekyllartists.com/event/may-gallery-show-opens-6/
CATEGORIES:Gallery Exhibition
END:VEVENT
BEGIN:VEVENT
DTSTART;TZID=UTC:20240430T040000
DTEND;TZID=UTC:20240430T160000
DTSTAMP:20260425T165317
CREATED:20231011T234623Z
LAST-MODIFIED:20231011T234623Z
UID:9320-1714449600-1714492800@jekyllartists.com
SUMMARY:April Gallery Show Closes
DESCRIPTION:
URL:https://jekyllartists.com/event/april-gallery-show-closes-5/
LOCATION:Goodyear Cottage\, 321 Riverview Drive\, Jekyll Island\, GA\, 31527\, United States
CATEGORIES:Gallery Exhibition
END:VEVENT
BEGIN:VEVENT
DTSTART;TZID=UTC:20240425T130000
DTEND;TZID=UTC:20240425T150000
DTSTAMP:20260425T165317
CREATED:20240402T190321Z
LAST-MODIFIED:20240402T190321Z
UID:9801-1714050000-1714057200@jekyllartists.com
SUMMARY:Meet the Artist - Demonstration
DESCRIPTION:Anne Marie Dalis\, painting & pottery
URL:https://jekyllartists.com/event/meet-the-artist-demonstration-4/
LOCATION:Goodyear Cottage\, 321 Riverview Drive\, Jekyll Island\, GA\, 31527\, United States
CATEGORIES:Public Invited
END:VEVENT
BEGIN:VEVENT
DTSTART;TZID=UTC:20240418T130000
DTEND;TZID=UTC:20240418T150000
DTSTAMP:20260425T165317
CREATED:20240402T190213Z
LAST-MODIFIED:20240402T190213Z
UID:9799-1713445200-1713452400@jekyllartists.com
SUMMARY:Meet the Artist - Demonstration
DESCRIPTION:Anne Marie Dalis\, painting & pottery
URL:https://jekyllartists.com/event/meet-the-artist-demonstration-3/
LOCATION:Goodyear Cottage\, 321 Riverview Drive\, Jekyll Island\, GA\, 31527\, United States
CATEGORIES:Public Invited
END:VEVENT
BEGIN:VEVENT
DTSTART;TZID=UTC:20240411T130000
DTEND;TZID=UTC:20240411T150000
DTSTAMP:20260425T165317
CREATED:20240402T190045Z
LAST-MODIFIED:20240402T190121Z
UID:9796-1712840400-1712847600@jekyllartists.com
SUMMARY:Meet the Artist - Demonstration
DESCRIPTION:Anne Marie Dalis\, painting & pottery
URL:https://jekyllartists.com/event/meet-the-artist-demonstration-2/
LOCATION:Goodyear Cottage\, 321 Riverview Drive\, Jekyll Island\, GA\, 31527\, United States
CATEGORIES:Public Invited
END:VEVENT
BEGIN:VEVENT
DTSTART;TZID=UTC:20240407T130000
DTEND;TZID=UTC:20240407T150000
DTSTAMP:20260425T165317
CREATED:20240320T203937Z
LAST-MODIFIED:20240402T190402Z
UID:9750-1712494800-1712502000@jekyllartists.com
SUMMARY:Meet the April Artist - Reception
DESCRIPTION:
URL:https://jekyllartists.com/event/meet-the-april-artist-2/
LOCATION:Goodyear Cottage\, 321 Riverview Drive\, Jekyll Island\, GA\, 31527\, United States
CATEGORIES:Reception
END:VEVENT
BEGIN:VEVENT
DTSTART;TZID=UTC:20240404T130000
DTEND;TZID=UTC:20240404T150000
DTSTAMP:20260425T165317
CREATED:20240402T185941Z
LAST-MODIFIED:20240402T185941Z
UID:9794-1712235600-1712242800@jekyllartists.com
SUMMARY:Meet the Artist - Demonstration
DESCRIPTION:Anne Marie Dalis\, painting & pottery
URL:https://jekyllartists.com/event/meet-the-artist-demonstration/
LOCATION:Goodyear Cottage\, 321 Riverview Drive\, Jekyll Island\, GA\, 31527\, United States
CATEGORIES:Public Invited
END:VEVENT
BEGIN:VEVENT
DTSTART;TZID=UTC:20240330T100000
DTEND;TZID=UTC:20240330T160000
DTSTAMP:20260425T165317
CREATED:20231011T234520Z
LAST-MODIFIED:20240326T003418Z
UID:9318-1711792800-1711814400@jekyllartists.com
SUMMARY:April Gallery Show Opens
DESCRIPTION:Ann Marie Dalis\, Painting & Pottery
URL:https://jekyllartists.com/event/april-gallery-show-opens-6/
LOCATION:Goodyear Cottage\, 321 Riverview Drive\, Jekyll Island\, GA\, 31527\, United States
CATEGORIES:Gallery Exhibition
END:VEVENT
BEGIN:VEVENT
DTSTART;TZID=UTC:20240319T190000
DTEND;TZID=UTC:20240319T203000
DTSTAMP:20260425T165317
CREATED:20240318T195053Z
LAST-MODIFIED:20240318T195132Z
UID:9742-1710874800-1710880200@jekyllartists.com
SUMMARY:Jekyll Singers Spring Concert
DESCRIPTION:
URL:https://jekyllartists.com/event/jekyll-island-singers-spring-concert-2/
LOCATION:Jekyll Island Convention Center
CATEGORIES:Concert
END:VEVENT
END:VCALENDAR