BEGIN:VCALENDAR
VERSION:2.0
PRODID:-//Jekyll Island Arts Association - ECPv6.15.20//NONSGML v1.0//EN
CALSCALE:GREGORIAN
METHOD:PUBLISH
X-WR-CALNAME:Jekyll Island Arts Association
X-ORIGINAL-URL:https://jekyllartists.com
X-WR-CALDESC:Events for Jekyll Island Arts Association
REFRESH-INTERVAL;VALUE=DURATION:PT1H
X-Robots-Tag:noindex
X-PUBLISHED-TTL:PT1H
BEGIN:VTIMEZONE
TZID:America/New_York
BEGIN:DAYLIGHT
TZOFFSETFROM:-0500
TZOFFSETTO:-0400
TZNAME:EDT
DTSTART:20240310T070000
END:DAYLIGHT
BEGIN:STANDARD
TZOFFSETFROM:-0400
TZOFFSETTO:-0500
TZNAME:EST
DTSTART:20241103T060000
END:STANDARD
BEGIN:DAYLIGHT
TZOFFSETFROM:-0500
TZOFFSETTO:-0400
TZNAME:EDT
DTSTART:20250309T070000
END:DAYLIGHT
BEGIN:STANDARD
TZOFFSETFROM:-0400
TZOFFSETTO:-0500
TZNAME:EST
DTSTART:20251102T060000
END:STANDARD
BEGIN:DAYLIGHT
TZOFFSETFROM:-0500
TZOFFSETTO:-0400
TZNAME:EDT
DTSTART:20260308T070000
END:DAYLIGHT
BEGIN:STANDARD
TZOFFSETFROM:-0400
TZOFFSETTO:-0500
TZNAME:EST
DTSTART:20261101T060000
END:STANDARD
END:VTIMEZONE
BEGIN:VEVENT
DTSTART;TZID=America/New_York:20251001T120000
DTEND;TZID=America/New_York:20251001T160000
DTSTAMP:20260425T075455
CREATED:20250331T142530Z
LAST-MODIFIED:20250909T142805Z
UID:10447-1759320000-1759334400@jekyllartists.com
SUMMARY:October Gallery Show Opens
DESCRIPTION:
URL:https://jekyllartists.com/event/october-gallery-show-opens-8/
LOCATION:Goodyear Cottage\, 321 Riverview Drive\, Jekyll Island\, GA\, 31527\, United States
CATEGORIES:Gallery Exhibition
END:VEVENT
BEGIN:VEVENT
DTSTART;TZID=America/New_York:20250921T120000
DTEND;TZID=America/New_York:20250921T160000
DTSTAMP:20260425T075455
CREATED:20250909T143139Z
LAST-MODIFIED:20250909T143434Z
UID:10716-1758456000-1758470400@jekyllartists.com
SUMMARY:Artist Meet & Greet
DESCRIPTION:Photographer\, Chris Slack
URL:https://jekyllartists.com/event/meet-the-artist-3/
LOCATION:Goodyear Cottage\, 321 Riverview Drive\, Jekyll Island\, GA\, 31527\, United States
CATEGORIES:Public Invited
END:VEVENT
BEGIN:VEVENT
DTSTART;TZID=America/New_York:20250920T120000
DTEND;TZID=America/New_York:20250920T160000
DTSTAMP:20260425T075455
CREATED:20250908T190531Z
LAST-MODIFIED:20250908T190531Z
UID:10707-1758369600-1758384000@jekyllartists.com
SUMMARY:Artists Meet & Greet
DESCRIPTION:Photographer Jen Hatcher\nPhotographer George Hernandez
URL:https://jekyllartists.com/event/artists-meet-greet-2/
LOCATION:Goodyear Cottage\, 321 Riverview Drive\, Jekyll Island\, GA\, 31527\, United States
CATEGORIES:Public Invited
END:VEVENT
BEGIN:VEVENT
DTSTART;TZID=America/New_York:20250918T120000
DTEND;TZID=America/New_York:20250918T160000
DTSTAMP:20260425T075455
CREATED:20250909T143007Z
LAST-MODIFIED:20250909T143407Z
UID:10714-1758196800-1758211200@jekyllartists.com
SUMMARY:Artist Meet & Greet
DESCRIPTION:Photographer Susan Lutz
URL:https://jekyllartists.com/event/meet-the-artist-2/
LOCATION:Goodyear Cottage\, 321 Riverview Drive\, Jekyll Island\, GA\, 31527\, United States
CATEGORIES:Public Invited
END:VEVENT
BEGIN:VEVENT
DTSTART;TZID=America/New_York:20250913T120000
DTEND;TZID=America/New_York:20250913T160000
DTSTAMP:20260425T075455
CREATED:20250908T190156Z
LAST-MODIFIED:20250908T190238Z
UID:10705-1757764800-1757779200@jekyllartists.com
SUMMARY:Artists Meet & Greet
DESCRIPTION:Potter Jonathan Currier\nPhotographer Christine Dorrestein\nPhotographer Steve Kendall
URL:https://jekyllartists.com/event/artists-meet-greet/
LOCATION:Goodyear Cottage\, 321 Riverview Drive\, Jekyll Island\, GA\, 31527\, United States
CATEGORIES:Public Invited
END:VEVENT
BEGIN:VEVENT
DTSTART;TZID=America/New_York:20250913T120000
DTEND;TZID=America/New_York:20250913T160000
DTSTAMP:20260425T075455
CREATED:20250823T182320Z
LAST-MODIFIED:20250823T182320Z
UID:10670-1757764800-1757779200@jekyllartists.com
SUMMARY:Book Signing - Sandy Malone
DESCRIPTION:
URL:https://jekyllartists.com/event/book-signing-sandy-malone/
LOCATION:Goodyear Cottage\, 321 Riverview Drive\, Jekyll Island\, GA\, 31527\, United States
CATEGORIES:Public Invited
END:VEVENT
BEGIN:VEVENT
DTSTART;TZID=America/New_York:20250907T130000
DTEND;TZID=America/New_York:20250907T150000
DTSTAMP:20260425T075455
CREATED:20250429T143919Z
LAST-MODIFIED:20250823T181154Z
UID:10492-1757250000-1757257200@jekyllartists.com
SUMMARY:Meet the September Artists - Reception
DESCRIPTION:
URL:https://jekyllartists.com/event/meet-the-september-artists-reception-2/
LOCATION:Goodyear Cottage\, 321 Riverview Drive\, Jekyll Island\, GA\, 31527\, United States
CATEGORIES:Reception
END:VEVENT
BEGIN:VEVENT
DTSTART;TZID=America/New_York:20250901T120000
DTEND;TZID=America/New_York:20250901T160000
DTSTAMP:20260425T075455
CREATED:20250331T142332Z
LAST-MODIFIED:20250823T181135Z
UID:10445-1756728000-1756742400@jekyllartists.com
SUMMARY:September Gallery Show Opens
DESCRIPTION:
URL:https://jekyllartists.com/event/september-gallery-show-opens-5/
LOCATION:Goodyear Cottage\, 321 Riverview Drive\, Jekyll Island\, GA\, 31527\, United States
CATEGORIES:Gallery Exhibition
END:VEVENT
BEGIN:VEVENT
DTSTART;TZID=America/New_York:20250816T100000
DTEND;TZID=America/New_York:20250816T140000
DTSTAMP:20260425T075455
CREATED:20250602T174005Z
LAST-MODIFIED:20250602T174005Z
UID:10531-1755338400-1755352800@jekyllartists.com
SUMMARY:Artist's Spotlight - demos/talks
DESCRIPTION:Dawn Walsh – Pine Needle Basketry
URL:https://jekyllartists.com/event/artists-spotlight-demos-talks-3/
LOCATION:Goodyear Cottage\, 321 Riverview Drive\, Jekyll Island\, GA\, 31527\, United States
CATEGORIES:Public Invited
END:VEVENT
BEGIN:VEVENT
DTSTART;TZID=America/New_York:20250809T120000
DTEND;TZID=America/New_York:20250809T150000
DTSTAMP:20260425T075455
CREATED:20250808T173508Z
LAST-MODIFIED:20250808T173548Z
UID:10649-1754740800-1754751600@jekyllartists.com
SUMMARY:August Artists Demonstrations
DESCRIPTION:Meet August show artists Deb Brewster and Carol Hodges
URL:https://jekyllartists.com/event/august-artists-demonstrations/
LOCATION:Goodyear Cottage\, 321 Riverview Drive\, Jekyll Island\, GA\, 31527\, United States
CATEGORIES:Public Invited
END:VEVENT
BEGIN:VEVENT
DTSTART;TZID=America/New_York:20250809T110000
DTEND;TZID=America/New_York:20250809T130000
DTSTAMP:20260425T075455
CREATED:20250808T173325Z
LAST-MODIFIED:20250808T173325Z
UID:10647-1754737200-1754744400@jekyllartists.com
SUMMARY:Book signing - Tricia Andreassen
DESCRIPTION:
URL:https://jekyllartists.com/event/book-signing-tricia-andreassen-2/
LOCATION:Goodyear Cottage\, 321 Riverview Drive\, Jekyll Island\, GA\, 31527\, United States
CATEGORIES:Public Invited
END:VEVENT
BEGIN:VEVENT
DTSTART;TZID=America/New_York:20250803T130000
DTEND;TZID=America/New_York:20250803T150000
DTSTAMP:20260425T075455
CREATED:20250429T143650Z
LAST-MODIFIED:20250726T171111Z
UID:10490-1754226000-1754233200@jekyllartists.com
SUMMARY:Meet the August Artists - Reception
DESCRIPTION:Cathy Beckmann Handmade Arts\nMidge Bovino Painting\nDebra Brewster Sculpture\nRoseanne Dieterich Painting\nSteven Hartman Painting\nCarol Hodges Pottery\nAme Ivanov  Needle Arts\nCheryl Keefer Painting
URL:https://jekyllartists.com/event/meet-the-august-artists-reception-3/
LOCATION:Goodyear Cottage\, 321 Riverview Drive\, Jekyll Island\, GA\, 31527\, United States
CATEGORIES:Reception
END:VEVENT
BEGIN:VEVENT
DTSTART;TZID=America/New_York:20250801T120000
DTEND;TZID=America/New_York:20250801T160000
DTSTAMP:20260425T075455
CREATED:20250331T142237Z
LAST-MODIFIED:20250731T210849Z
UID:10443-1754049600-1754064000@jekyllartists.com
SUMMARY:August Gallery Show Opens
DESCRIPTION:Cathy Beckmann Handmade Arts\nMidge Bovino Painting\nDebra Brewster Sculpture\nRoseanne Dieterich Painting\nSteven Hartman Painting\nCarol Hodges Pottery\nAme Ivanov  Needle Arts\nCheryl Keefer Painting
URL:https://jekyllartists.com/event/august-gallery-show-opens-6/
LOCATION:Goodyear Cottage\, 321 Riverview Drive\, Jekyll Island\, GA\, 31527\, United States
CATEGORIES:Gallery Exhibition
END:VEVENT
BEGIN:VEVENT
DTSTART;TZID=America/New_York:20250712T100000
DTEND;TZID=America/New_York:20250712T130000
DTSTAMP:20260425T075455
CREATED:20250602T173845Z
LAST-MODIFIED:20250602T173845Z
UID:10529-1752314400-1752325200@jekyllartists.com
SUMMARY:Artist's Spotlight - demos/talks
DESCRIPTION:Carol Hodges – Wildlife Photography
URL:https://jekyllartists.com/event/artists-spotlight-demos-talks-2/
LOCATION:Goodyear Cottage\, 321 Riverview Drive\, Jekyll Island\, GA\, 31527\, United States
CATEGORIES:Public Invited
END:VEVENT
BEGIN:VEVENT
DTSTART;TZID=America/New_York:20250706T130000
DTEND;TZID=America/New_York:20250706T150000
DTSTAMP:20260425T075455
CREATED:20250429T143554Z
LAST-MODIFIED:20250702T182356Z
UID:10488-1751806800-1751814000@jekyllartists.com
SUMMARY:Meet the July Artists - Reception
DESCRIPTION:
URL:https://jekyllartists.com/event/meet-the-july-artists-reception/
LOCATION:Goodyear Cottage\, 321 Riverview Drive\, Jekyll Island\, GA\, 31527\, United States
CATEGORIES:Reception
END:VEVENT
BEGIN:VEVENT
DTSTART;TZID=America/New_York:20250701T120000
DTEND;TZID=America/New_York:20250701T160000
DTSTAMP:20260425T075455
CREATED:20250331T142026Z
LAST-MODIFIED:20250331T143513Z
UID:10441-1751371200-1751385600@jekyllartists.com
SUMMARY:July Gallery Show Opens
DESCRIPTION:Jeanne Collins\, Photography\nLouise Eaton\, Painting\nCarla Price\, Pottery\nCaryl Rice\, Fiber Arts\nLinda Wunder\, Painting
URL:https://jekyllartists.com/event/july-gallery-show-opens-8/
LOCATION:Goodyear Cottage\, 321 Riverview Drive\, Jekyll Island\, GA\, 31527\, United States
CATEGORIES:Gallery Exhibition
END:VEVENT
BEGIN:VEVENT
DTSTART;TZID=America/New_York:20250615T100000
DTEND;TZID=America/New_York:20250615T140000
DTSTAMP:20260425T075455
CREATED:20250602T173719Z
LAST-MODIFIED:20250602T174228Z
UID:10527-1749981600-1749996000@jekyllartists.com
SUMMARY:Artist's Spotlight - demos/talks
DESCRIPTION:Deb Brewster – Hand Built Pottery \nCarol Hodges – Hand Built Pottery
URL:https://jekyllartists.com/event/artists-spotlight-demos-talks/
LOCATION:Goodyear Cottage\, 321 Riverview Drive\, Jekyll Island\, GA\, 31527\, United States
CATEGORIES:Public Invited
END:VEVENT
BEGIN:VEVENT
DTSTART;TZID=America/New_York:20250601T130000
DTEND;TZID=America/New_York:20250601T150000
DTSTAMP:20260425T075455
CREATED:20250429T143452Z
LAST-MODIFIED:20250429T143452Z
UID:10486-1748782800-1748790000@jekyllartists.com
SUMMARY:Meet the June Artists - Reception
DESCRIPTION:
URL:https://jekyllartists.com/event/meet-the-june-artists-reception-2/
LOCATION:Goodyear Cottage\, 321 Riverview Drive\, Jekyll Island\, GA\, 31527\, United States
CATEGORIES:Reception
END:VEVENT
BEGIN:VEVENT
DTSTART;TZID=America/New_York:20250601T100000
DTEND;TZID=America/New_York:20250601T160000
DTSTAMP:20260425T075455
CREATED:20250318T183902Z
LAST-MODIFIED:20250331T143531Z
UID:10430-1748772000-1748793600@jekyllartists.com
SUMMARY:June Gallery Show Opens
DESCRIPTION:Suzy Dmetruk\, Painting\nJustine Ferrari\, Sculpture
URL:https://jekyllartists.com/event/june-gallery-show-opens-8/
LOCATION:Goodyear Cottage\, 321 Riverview Drive\, Jekyll Island\, GA\, 31527\, United States
CATEGORIES:Gallery Exhibition
END:VEVENT
BEGIN:VEVENT
DTSTART;TZID=America/New_York:20250504T130000
DTEND;TZID=America/New_York:20250504T150000
DTSTAMP:20260425T075455
CREATED:20250421T203045Z
LAST-MODIFIED:20250421T203045Z
UID:10478-1746363600-1746370800@jekyllartists.com
SUMMARY:Meet the May Artists - Reception
DESCRIPTION:Debbie Craig – Pottery \nLiz Holm – Painting
URL:https://jekyllartists.com/event/meet-the-may-artists-reception-3/
LOCATION:Goodyear Cottage\, 321 Riverview Drive\, Jekyll Island\, GA\, 31527\, United States
CATEGORIES:Reception
END:VEVENT
BEGIN:VEVENT
DTSTART;TZID=America/New_York:20250501T120000
DTEND;TZID=America/New_York:20250501T160000
DTSTAMP:20260425T075455
CREATED:20250318T183559Z
LAST-MODIFIED:20250331T143550Z
UID:10428-1746100800-1746115200@jekyllartists.com
SUMMARY:May Gallery Show Opens
DESCRIPTION:Debbie Craig\, Pottery\nLiz Holm\, Painting
URL:https://jekyllartists.com/event/may-gallery-show-opens-7/
LOCATION:Goodyear Cottage\, 321 Riverview Drive\, Jekyll Island\, GA\, 31527\, United States
CATEGORIES:Gallery Exhibition
END:VEVENT
BEGIN:VEVENT
DTSTART;TZID=America/New_York:20250406T130000
DTEND;TZID=America/New_York:20250406T150000
DTSTAMP:20260425T075455
CREATED:20250224T193445Z
LAST-MODIFIED:20250224T193445Z
UID:10386-1743944400-1743951600@jekyllartists.com
SUMMARY:Meet the April Artists - Reception
DESCRIPTION:Julia Lawing\, Painting \nGeorgia Perkins-Miller\, Pottery
URL:https://jekyllartists.com/event/meet-the-april-artists-reception/
LOCATION:Goodyear Cottage\, 321 Riverview Drive\, Jekyll Island\, GA\, 31527\, United States
CATEGORIES:Reception
END:VEVENT
BEGIN:VEVENT
DTSTART;TZID=America/New_York:20250401T120000
DTEND;TZID=America/New_York:20250401T160000
DTSTAMP:20260425T075455
CREATED:20250224T193317Z
LAST-MODIFIED:20250331T143628Z
UID:10384-1743508800-1743523200@jekyllartists.com
SUMMARY:April Gallery Show Opens
DESCRIPTION:
URL:https://jekyllartists.com/event/april-gallery-show-opens-7/
LOCATION:Goodyear Cottage\, 321 Riverview Drive\, Jekyll Island\, GA\, 31527\, United States
CATEGORIES:Gallery Exhibition
END:VEVENT
BEGIN:VEVENT
DTSTART;TZID=America/New_York:20250311T190000
DTEND;TZID=America/New_York:20250311T203000
DTSTAMP:20260425T075455
CREATED:20250224T192048Z
LAST-MODIFIED:20250224T192048Z
UID:10381-1741719600-1741725000@jekyllartists.com
SUMMARY:Jekyll Singers Spring Concert
DESCRIPTION:
URL:https://jekyllartists.com/event/jekyll-singers-spring-concert-2/
LOCATION:Jekyll Island Convention Center
CATEGORIES:Concert
END:VEVENT
BEGIN:VEVENT
DTSTART;TZID=America/New_York:20250309T100000
DTEND;TZID=America/New_York:20250309T160000
DTSTAMP:20260425T075455
CREATED:20241210T190053Z
LAST-MODIFIED:20250307T153717Z
UID:10157-1741514400-1741536000@jekyllartists.com
SUMMARY:Arts Festival
DESCRIPTION:
URL:https://jekyllartists.com/event/arts-festival-5/
LOCATION:Goodyear Cottage\, 321 Riverview Drive\, Jekyll Island\, GA\, 31527\, United States
CATEGORIES:Festival
END:VEVENT
BEGIN:VEVENT
DTSTART;TZID=America/New_York:20250308T100000
DTEND;TZID=America/New_York:20250308T170000
DTSTAMP:20260425T075455
CREATED:20241210T190011Z
LAST-MODIFIED:20250308T005553Z
UID:10155-1741428000-1741453200@jekyllartists.com
SUMMARY:Arts Festival
DESCRIPTION:
URL:https://jekyllartists.com/event/arts-festival-4/
LOCATION:Goodyear Cottage\, 321 Riverview Drive\, Jekyll Island\, GA\, 31527\, United States
CATEGORIES:Festival
END:VEVENT
BEGIN:VEVENT
DTSTART;TZID=America/New_York:20250307T100000
DTEND;TZID=America/New_York:20250307T170000
DTSTAMP:20260425T075455
CREATED:20241210T185918Z
LAST-MODIFIED:20250306T184635Z
UID:10152-1741341600-1741366800@jekyllartists.com
SUMMARY:Arts Festival Begins!
DESCRIPTION: 
URL:https://jekyllartists.com/event/arts-festival-3/
LOCATION:Goodyear Cottage\, 321 Riverview Drive\, Jekyll Island\, GA\, 31527\, United States
CATEGORIES:Festival
END:VEVENT
BEGIN:VEVENT
DTSTART;TZID=America/New_York:20250301T080000
DTEND;TZID=America/New_York:20250306T190000
DTSTAMP:20260425T075455
CREATED:20250224T191825Z
LAST-MODIFIED:20250224T191825Z
UID:10379-1740816000-1741287600@jekyllartists.com
SUMMARY:Gallery and Shop Closed for Festival Preparation
DESCRIPTION:
URL:https://jekyllartists.com/event/gallery-and-shop-closed-for-festival-preparation/
LOCATION:Goodyear Cottage\, 321 Riverview Drive\, Jekyll Island\, GA\, 31527\, United States
CATEGORIES:Gallery Closed
END:VEVENT
BEGIN:VEVENT
DTSTART;TZID=America/New_York:20250202T130000
DTEND;TZID=America/New_York:20250202T150000
DTSTAMP:20260425T075455
CREATED:20250103T164133Z
LAST-MODIFIED:20250131T213806Z
UID:10190-1738501200-1738508400@jekyllartists.com
SUMMARY:Meet the February Artists
DESCRIPTION:
URL:https://jekyllartists.com/event/meet-the-february-artists-4/
LOCATION:Goodyear Cottage\, 321 Riverview Drive\, Jekyll Island\, GA\, 31527\, United States
CATEGORIES:Reception
END:VEVENT
BEGIN:VEVENT
DTSTART;TZID=America/New_York:20250201T120000
DTEND;TZID=America/New_York:20250201T160000
DTSTAMP:20260425T075455
CREATED:20250103T163545Z
LAST-MODIFIED:20250131T213718Z
UID:10188-1738411200-1738425600@jekyllartists.com
SUMMARY:February Gallery Show Opens!
DESCRIPTION:
URL:https://jekyllartists.com/event/february-gallery-show-opens-8/
LOCATION:Goodyear Cottage\, 321 Riverview Drive\, Jekyll Island\, GA\, 31527\, United States
CATEGORIES:Gallery Exhibition
END:VEVENT
END:VCALENDAR