BEGIN:VCALENDAR
VERSION:2.0
PRODID:-//Jekyll Island Arts Association - ECPv6.15.20//NONSGML v1.0//EN
CALSCALE:GREGORIAN
METHOD:PUBLISH
X-WR-CALNAME:Jekyll Island Arts Association
X-ORIGINAL-URL:https://jekyllartists.com
X-WR-CALDESC:Events for Jekyll Island Arts Association
REFRESH-INTERVAL;VALUE=DURATION:PT1H
X-Robots-Tag:noindex
X-PUBLISHED-TTL:PT1H
BEGIN:VTIMEZONE
TZID:UTC
BEGIN:STANDARD
TZOFFSETFROM:+0000
TZOFFSETTO:+0000
TZNAME:UTC
DTSTART:20220101T000000
END:STANDARD
END:VTIMEZONE
BEGIN:VEVENT
DTSTART;TZID=UTC:20231231T100000
DTEND;TZID=UTC:20231231T170000
DTSTAMP:20260426T002626
CREATED:20231219T201108Z
LAST-MODIFIED:20231219T201108Z
UID:9479-1704016800-1704042000@jekyllartists.com
SUMMARY:Daily Demonstration Schedule
DESCRIPTION:
URL:https://jekyllartists.com/event/daily-demonstration-schedule-11/
LOCATION:Goodyear Cottage\, 321 Riverview Drive\, Jekyll Island\, GA\, 31527\, United States
CATEGORIES:Public Invited
END:VEVENT
BEGIN:VEVENT
DTSTART;TZID=UTC:20231231T050000
DTEND;TZID=UTC:20231231T170000
DTSTAMP:20260426T002626
CREATED:20231121T063205Z
LAST-MODIFIED:20231121T063205Z
UID:9400-1703998800-1704042000@jekyllartists.com
SUMMARY:Merry Artists Market Closes
DESCRIPTION:
URL:https://jekyllartists.com/event/merry-artists-market-closes-3/
LOCATION:Goodyear Cottage\, 321 Riverview Drive\, Jekyll Island\, GA\, 31527\, United States
CATEGORIES:Public Invited
END:VEVENT
BEGIN:VEVENT
DTSTART;TZID=UTC:20231230T100000
DTEND;TZID=UTC:20231230T170000
DTSTAMP:20260426T002626
CREATED:20231219T201015Z
LAST-MODIFIED:20231219T201015Z
UID:9477-1703930400-1703955600@jekyllartists.com
SUMMARY:Daily Demonstration Schedule
DESCRIPTION:
URL:https://jekyllartists.com/event/daily-demonstration-schedule-10/
LOCATION:Goodyear Cottage\, 321 Riverview Drive\, Jekyll Island\, GA\, 31527\, United States
CATEGORIES:Public Invited
END:VEVENT
BEGIN:VEVENT
DTSTART;VALUE=DATE:20231225
DTEND;VALUE=DATE:20231226
DTSTAMP:20260426T002626
CREATED:20230322T002025Z
LAST-MODIFIED:20230322T002120Z
UID:8749-1703462400-1703548799@jekyllartists.com
SUMMARY:Merry Christmas - Gallery Closed
DESCRIPTION:
URL:https://jekyllartists.com/event/merry-christmas-gallery-closed-3/
LOCATION:Goodyear Cottage\, 321 Riverview Drive\, Jekyll Island\, GA\, 31527\, United States
CATEGORIES:Gallery Closed
END:VEVENT
BEGIN:VEVENT
DTSTART;TZID=UTC:20231224T100000
DTEND;TZID=UTC:20231224T140000
DTSTAMP:20260426T002626
CREATED:20231223T224013Z
LAST-MODIFIED:20231223T224013Z
UID:9487-1703412000-1703426400@jekyllartists.com
SUMMARY:Christmas Eve - early closure
DESCRIPTION:Goodyear Cottage and Shop will close at 2:00pm today and will be closed Christmas day.
URL:https://jekyllartists.com/event/christmas-eve-early-closure/
LOCATION:Goodyear Cottage\, 321 Riverview Drive\, Jekyll Island\, GA\, 31527\, United States
CATEGORIES:Public Invited
END:VEVENT
BEGIN:VEVENT
DTSTART;TZID=UTC:20231223T100000
DTEND;TZID=UTC:20231223T170000
DTSTAMP:20260426T002626
CREATED:20231219T200857Z
LAST-MODIFIED:20231219T200925Z
UID:9475-1703325600-1703350800@jekyllartists.com
SUMMARY:Daily Demonstration Schedule
DESCRIPTION:
URL:https://jekyllartists.com/event/daily-demonstration-schedule-9/
LOCATION:Goodyear Cottage\, 321 Riverview Drive\, Jekyll Island\, GA\, 31527\, United States
CATEGORIES:Public Invited
END:VEVENT
BEGIN:VEVENT
DTSTART;TZID=UTC:20231222T120000
DTEND;TZID=UTC:20231222T160000
DTSTAMP:20260426T002626
CREATED:20231219T200805Z
LAST-MODIFIED:20231219T200805Z
UID:9473-1703246400-1703260800@jekyllartists.com
SUMMARY:Daily Demonstration Schedule
DESCRIPTION:
URL:https://jekyllartists.com/event/daily-demonstration-schedule-8/
LOCATION:Goodyear Cottage\, 321 Riverview Drive\, Jekyll Island\, GA\, 31527\, United States
CATEGORIES:Public Invited
END:VEVENT
BEGIN:VEVENT
DTSTART;TZID=UTC:20231217T133000
DTEND;TZID=UTC:20231217T150000
DTSTAMP:20260426T002626
CREATED:20231125T193931Z
LAST-MODIFIED:20231125T193931Z
UID:9404-1702819800-1702825200@jekyllartists.com
SUMMARY:Jekyll Singers - Christmas Carols
DESCRIPTION:
URL:https://jekyllartists.com/event/jekyll-singers-christmas-carols/
LOCATION:Goodyear Cottage\, 321 Riverview Drive\, Jekyll Island\, GA\, 31527\, United States
CATEGORIES:Concert,Public Invited
END:VEVENT
BEGIN:VEVENT
DTSTART;TZID=UTC:20231217T100000
DTEND;TZID=UTC:20231217T170000
DTSTAMP:20260426T002626
CREATED:20231213T212127Z
LAST-MODIFIED:20231213T212127Z
UID:9458-1702807200-1702832400@jekyllartists.com
SUMMARY:Daily Demonstration Schedule
DESCRIPTION:
URL:https://jekyllartists.com/event/daily-demonstration-schedule-7/
LOCATION:Goodyear Cottage\, 321 Riverview Drive\, Jekyll Island\, GA\, 31527\, United States
CATEGORIES:Public Invited
END:VEVENT
BEGIN:VEVENT
DTSTART;TZID=UTC:20231216T100000
DTEND;TZID=UTC:20231216T170000
DTSTAMP:20260426T002626
CREATED:20231213T212040Z
LAST-MODIFIED:20231213T212040Z
UID:9456-1702720800-1702746000@jekyllartists.com
SUMMARY:Daily Demonstration Schedule
DESCRIPTION:
URL:https://jekyllartists.com/event/daily-demonstration-schedule-6/
LOCATION:Goodyear Cottage\, 321 Riverview Drive\, Jekyll Island\, GA\, 31527\, United States
CATEGORIES:Public Invited
END:VEVENT
BEGIN:VEVENT
DTSTART;TZID=UTC:20231215T120000
DTEND;TZID=UTC:20231215T160000
DTSTAMP:20260426T002626
CREATED:20231212T010959Z
LAST-MODIFIED:20231213T211927Z
UID:9450-1702641600-1702656000@jekyllartists.com
SUMMARY:Daily Demonstration Schedule
DESCRIPTION:
URL:https://jekyllartists.com/event/ongoing-demonstrations/
LOCATION:Goodyear Cottage\, 321 Riverview Drive\, Jekyll Island\, GA\, 31527\, United States
CATEGORIES:Public Invited
END:VEVENT
BEGIN:VEVENT
DTSTART;TZID=UTC:20231212T190000
DTEND;TZID=UTC:20231212T210000
DTSTAMP:20260426T002626
CREATED:20230925T214731Z
LAST-MODIFIED:20230925T214731Z
UID:9155-1702407600-1702414800@jekyllartists.com
SUMMARY:Singers Winter Concert
DESCRIPTION:
URL:https://jekyllartists.com/event/singers-winter-concert/
LOCATION:Jekyll Island Convention Center
CATEGORIES:Concert
END:VEVENT
BEGIN:VEVENT
DTSTART;TZID=UTC:20231210T100000
DTEND;TZID=UTC:20231210T170000
DTSTAMP:20260426T002626
CREATED:20231202T202155Z
LAST-MODIFIED:20231202T202155Z
UID:9444-1702202400-1702227600@jekyllartists.com
SUMMARY:Daily Demonstration Schedule
DESCRIPTION:
URL:https://jekyllartists.com/event/daily-demonstration-schedule-5/
LOCATION:Goodyear Cottage\, 321 Riverview Drive\, Jekyll Island\, GA\, 31527\, United States
CATEGORIES:Public Invited
END:VEVENT
BEGIN:VEVENT
DTSTART;TZID=UTC:20231209T140000
DTEND;TZID=UTC:20231209T160000
DTSTAMP:20260426T002626
CREATED:20231125T194054Z
LAST-MODIFIED:20231125T194054Z
UID:9406-1702130400-1702137600@jekyllartists.com
SUMMARY:Jekyll Handbell Choir
DESCRIPTION:
URL:https://jekyllartists.com/event/jekyll-handbell-choir/
LOCATION:Goodyear Cottage\, 321 Riverview Drive\, Jekyll Island\, GA\, 31527\, United States
CATEGORIES:Concert,Public Invited
END:VEVENT
BEGIN:VEVENT
DTSTART;TZID=UTC:20231209T100000
DTEND;TZID=UTC:20231209T170000
DTSTAMP:20260426T002626
CREATED:20231202T202042Z
LAST-MODIFIED:20231202T202042Z
UID:9442-1702116000-1702141200@jekyllartists.com
SUMMARY:Daily Demonstration Schedule
DESCRIPTION:
URL:https://jekyllartists.com/event/daily-demonstration-schedule-4/
LOCATION:Goodyear Cottage\, 321 Riverview Drive\, Jekyll Island\, GA\, 31527\, United States
CATEGORIES:Public Invited
END:VEVENT
BEGIN:VEVENT
DTSTART;TZID=UTC:20231208T120000
DTEND;TZID=UTC:20231208T160000
DTSTAMP:20260426T002626
CREATED:20231202T201926Z
LAST-MODIFIED:20231202T201926Z
UID:9440-1702036800-1702051200@jekyllartists.com
SUMMARY:Daily Demonstration Schedule
DESCRIPTION:
URL:https://jekyllartists.com/event/daily-demonstration-schedule-3/
LOCATION:Goodyear Cottage\, 321 Riverview Drive\, Jekyll Island\, GA\, 31527\, United States
CATEGORIES:Public Invited
END:VEVENT
BEGIN:VEVENT
DTSTART;TZID=UTC:20231203T100000
DTEND;TZID=UTC:20231203T170000
DTSTAMP:20260426T002626
CREATED:20231202T201717Z
LAST-MODIFIED:20231202T201747Z
UID:9438-1701597600-1701622800@jekyllartists.com
SUMMARY:Daily Demonstration Schedule
DESCRIPTION:
URL:https://jekyllartists.com/event/daily-demonstration-schedule-2/
LOCATION:Goodyear Cottage\, 321 Riverview Drive\, Jekyll Island\, GA\, 31527\, United States
CATEGORIES:Public Invited
END:VEVENT
BEGIN:VEVENT
DTSTART;TZID=UTC:20231202T100000
DTEND;TZID=UTC:20231202T170000
DTSTAMP:20260426T002626
CREATED:20231202T201513Z
LAST-MODIFIED:20231202T201600Z
UID:9435-1701511200-1701536400@jekyllartists.com
SUMMARY:Daily Demonstration Schedule
DESCRIPTION:
URL:https://jekyllartists.com/event/daily-demonstration-schedule/
LOCATION:Goodyear Cottage\, 321 Riverview Drive\, Jekyll Island\, GA\, 31527\, United States
CATEGORIES:Public Invited
END:VEVENT
BEGIN:VEVENT
DTSTART;TZID=UTC:20231124T100000
DTEND;TZID=UTC:20231124T170000
DTSTAMP:20260426T002626
CREATED:20230322T001536Z
LAST-MODIFIED:20231111T203257Z
UID:8741-1700820000-1700845200@jekyllartists.com
SUMMARY:Merry Artists Market Opens
DESCRIPTION:
URL:https://jekyllartists.com/event/merry-artists-market-opens-2/
LOCATION:Goodyear Cottage\, 321 Riverview Drive\, Jekyll Island\, GA\, 31527\, United States
CATEGORIES:Public Invited
END:VEVENT
BEGIN:VEVENT
DTSTART;VALUE=DATE:20231123
DTEND;VALUE=DATE:20231124
DTSTAMP:20260426T002626
CREATED:20230322T001633Z
LAST-MODIFIED:20230322T001927Z
UID:8743-1700697600-1700783999@jekyllartists.com
SUMMARY:Happy Thanksgiving - Gallery Closed
DESCRIPTION:
URL:https://jekyllartists.com/event/thanksgiving-day-gallery-closed/
LOCATION:Goodyear Cottage\, 321 Riverview Drive\, Jekyll Island\, GA\, 31527\, United States
CATEGORIES:Gallery Closed
END:VEVENT
BEGIN:VEVENT
DTSTART;TZID=UTC:20231120T160000
DTEND;TZID=UTC:20231120T160000
DTSTAMP:20260426T002626
CREATED:20230515T185901Z
LAST-MODIFIED:20231016T225820Z
UID:8850-1700496000-1700496000@jekyllartists.com
SUMMARY:November Gallery Show Closes
DESCRIPTION:
URL:https://jekyllartists.com/event/november-gallery-show-closes-5/
LOCATION:Goodyear Cottage\, 321 Riverview Drive\, Jekyll Island\, GA\, 31527\, United States
CATEGORIES:Gallery Exhibition
END:VEVENT
BEGIN:VEVENT
DTSTART;TZID=UTC:20231105T130000
DTEND;TZID=UTC:20231105T150000
DTSTAMP:20260426T002626
CREATED:20230515T185759Z
LAST-MODIFIED:20231016T225353Z
UID:8848-1699189200-1699196400@jekyllartists.com
SUMMARY:Meet the November Artists - Reception
DESCRIPTION:An Eclectic Exhibition of Works in Fiber by Jekyll Island’s Finest Weavers\, Quilters and Fabric Artisans
URL:https://jekyllartists.com/event/meet-the-november-artists-reception/
LOCATION:Goodyear Cottage\, 321 Riverview Drive\, Jekyll Island\, GA\, 31527\, United States
CATEGORIES:Reception
END:VEVENT
BEGIN:VEVENT
DTSTART;TZID=UTC:20231101T120000
DTEND;TZID=UTC:20231101T160000
DTSTAMP:20260426T002626
CREATED:20230515T185627Z
LAST-MODIFIED:20231016T225433Z
UID:8846-1698840000-1698854400@jekyllartists.com
SUMMARY:November Gallery Show Opens
DESCRIPTION:An Eclectic Exhibition of Works in Fiber by Jekyll Island’s Finest Weavers\, Quilters and Fabric Artisans
URL:https://jekyllartists.com/event/november-gallery-show-opens-6/
LOCATION:Goodyear Cottage\, 321 Riverview Drive\, Jekyll Island\, GA\, 31527\, United States
CATEGORIES:Public Invited
END:VEVENT
BEGIN:VEVENT
DTSTART;TZID=UTC:20231031T160000
DTEND;TZID=UTC:20231031T160000
DTSTAMP:20260426T002626
CREATED:20230515T185356Z
LAST-MODIFIED:20230515T185356Z
UID:8844-1698768000-1698768000@jekyllartists.com
SUMMARY:October Gallery Show Closes
DESCRIPTION:
URL:https://jekyllartists.com/event/october-gallery-show-closes-4/
LOCATION:Goodyear Cottage\, 321 Riverview Drive\, Jekyll Island\, GA\, 31527\, United States
CATEGORIES:Gallery Exhibition
END:VEVENT
BEGIN:VEVENT
DTSTART;TZID=UTC:20231001T130000
DTEND;TZID=UTC:20231001T150000
DTSTAMP:20260426T002626
CREATED:20230515T185215Z
LAST-MODIFIED:20230909T000338Z
UID:8842-1696165200-1696172400@jekyllartists.com
SUMMARY:Meet the October Artists - Reception
DESCRIPTION:Deanna Brown\, Painting \nMichelle DeHaven\, Heritage Arts \nLinda Lanter\, Heritage Arts \nCathy Miller\, Heritage Arts \nBarbara Poloncic\, Heritage Arts
URL:https://jekyllartists.com/event/meet-the-october-artists-reception/
LOCATION:Goodyear Cottage\, 321 Riverview Drive\, Jekyll Island\, GA\, 31527\, United States
CATEGORIES:Reception
END:VEVENT
BEGIN:VEVENT
DTSTART;TZID=UTC:20231001T100000
DTEND;TZID=UTC:20231001T160000
DTSTAMP:20260426T002626
CREATED:20230515T185103Z
LAST-MODIFIED:20230909T000310Z
UID:8840-1696154400-1696176000@jekyllartists.com
SUMMARY:October Gallery Show Opens
DESCRIPTION:Deanna Brown\, Painting \nMichelle DeHaven\, Heritage Arts \nLinda Lanter\, Heritage Arts \nCathy Miller\, Heritage Arts \nBarbara Poloncic\, Heritage Arts
URL:https://jekyllartists.com/event/october-gallery-show-opens-6/
LOCATION:Goodyear Cottage\, 321 Riverview Drive\, Jekyll Island\, GA\, 31527\, United States
CATEGORIES:Public Invited
END:VEVENT
BEGIN:VEVENT
DTSTART;TZID=UTC:20230930T160000
DTEND;TZID=UTC:20230930T160000
DTSTAMP:20260426T002626
CREATED:20230515T184838Z
LAST-MODIFIED:20230515T184838Z
UID:8838-1696089600-1696089600@jekyllartists.com
SUMMARY:September Gallery Show Closes
DESCRIPTION:
URL:https://jekyllartists.com/event/september-gallery-show-closes-3/
LOCATION:Goodyear Cottage\, 321 Riverview Drive\, Jekyll Island\, GA\, 31527\, United States
CATEGORIES:Gallery Exhibition
END:VEVENT
BEGIN:VEVENT
DTSTART;TZID=UTC:20230910T130000
DTEND;TZID=UTC:20230910T150000
DTSTAMP:20260426T002626
CREATED:20230515T184711Z
LAST-MODIFIED:20230801T031637Z
UID:8836-1694350800-1694358000@jekyllartists.com
SUMMARY:Meet the September Artists - Reception
DESCRIPTION:Constance Dalbo\, Fiber Arts \nRobert Dalbo\, Heritage Arts \nChris Dougherty\, Painter
URL:https://jekyllartists.com/event/meet-the-september-artists-reception/
LOCATION:Goodyear Cottage\, 321 Riverview Drive\, Jekyll Island\, GA\, 31527\, United States
CATEGORIES:Reception
END:VEVENT
BEGIN:VEVENT
DTSTART;TZID=UTC:20230901T120000
DTEND;TZID=UTC:20230901T160000
DTSTAMP:20260426T002626
CREATED:20230515T184614Z
LAST-MODIFIED:20230519T221009Z
UID:8834-1693569600-1693584000@jekyllartists.com
SUMMARY:September Gallery Show Opens
DESCRIPTION:Constance Dalbo\, Fiber Arts \nRobert Dalbo\, Heritage Arts \nChris Dougherty\, Painter
URL:https://jekyllartists.com/event/september-gallery-show-opens-3/
LOCATION:Goodyear Cottage\, 321 Riverview Drive\, Jekyll Island\, GA\, 31527\, United States
CATEGORIES:Public Invited
END:VEVENT
BEGIN:VEVENT
DTSTART;TZID=UTC:20230831T160000
DTEND;TZID=UTC:20230831T160000
DTSTAMP:20260426T002626
CREATED:20230515T184409Z
LAST-MODIFIED:20230515T184409Z
UID:8832-1693497600-1693497600@jekyllartists.com
SUMMARY:August Gallery Show Closes
DESCRIPTION:
URL:https://jekyllartists.com/event/august-gallery-show-closes-2/
LOCATION:Goodyear Cottage\, 321 Riverview Drive\, Jekyll Island\, GA\, 31527\, United States
CATEGORIES:Gallery Exhibition
END:VEVENT
END:VCALENDAR