BEGIN:VCALENDAR
VERSION:2.0
PRODID:-//Jekyll Island Arts Association - ECPv6.15.20//NONSGML v1.0//EN
CALSCALE:GREGORIAN
METHOD:PUBLISH
X-WR-CALNAME:Jekyll Island Arts Association
X-ORIGINAL-URL:https://jekyllartists.com
X-WR-CALDESC:Events for Jekyll Island Arts Association
REFRESH-INTERVAL;VALUE=DURATION:PT1H
X-Robots-Tag:noindex
X-PUBLISHED-TTL:PT1H
BEGIN:VTIMEZONE
TZID:UTC
BEGIN:STANDARD
TZOFFSETFROM:+0000
TZOFFSETTO:+0000
TZNAME:UTC
DTSTART:20220101T000000
END:STANDARD
END:VTIMEZONE
BEGIN:VEVENT
DTSTART;TZID=UTC:20240602T130000
DTEND;TZID=UTC:20240602T150000
DTSTAMP:20260425T165717
CREATED:20240522T182121Z
LAST-MODIFIED:20240522T182121Z
UID:9847-1717333200-1717340400@jekyllartists.com
SUMMARY:Meet the June Artists - reception
DESCRIPTION:
URL:https://jekyllartists.com/event/meet-the-june-artists-reception/
LOCATION:Goodyear Cottage\, 321 Riverview Drive\, Jekyll Island\, GA\, 31527\, United States
CATEGORIES:Reception
END:VEVENT
BEGIN:VEVENT
DTSTART;TZID=UTC:20240601T100000
DTEND;TZID=UTC:20240601T160000
DTSTAMP:20260425T165717
CREATED:20240317T031200Z
LAST-MODIFIED:20240522T182213Z
UID:9736-1717236000-1717257600@jekyllartists.com
SUMMARY:June Gallery Show Opens
DESCRIPTION:Justine Ferreri – Sculpture\nDeborah Jinkins – Painting
URL:https://jekyllartists.com/event/june-gallery-show-opens-7/
LOCATION:Goodyear Cottage\, 321 Riverview Drive\, Jekyll Island\, GA\, 31527\, United States
CATEGORIES:Gallery Exhibition
END:VEVENT
BEGIN:VEVENT
DTSTART;TZID=UTC:20240531T160000
DTEND;TZID=UTC:20240531T160000
DTSTAMP:20260425T165717
CREATED:20231011T234946Z
LAST-MODIFIED:20231011T234946Z
UID:9324-1717171200-1717171200@jekyllartists.com
SUMMARY:May Gallery Show Closes
DESCRIPTION:
URL:https://jekyllartists.com/event/may-gallery-show-closes-6/
LOCATION:Goodyear Cottage\, 321 Riverview Drive\, Jekyll Island\, GA\, 31527\, United States
CATEGORIES:Gallery Exhibition
END:VEVENT
BEGIN:VEVENT
DTSTART;TZID=UTC:20240505T130000
DTEND;TZID=UTC:20240505T150000
DTSTAMP:20260425T165717
CREATED:20240422T193618Z
LAST-MODIFIED:20240430T231607Z
UID:9814-1714914000-1714921200@jekyllartists.com
SUMMARY:Meet the May Artists - Reception
DESCRIPTION:
URL:https://jekyllartists.com/event/meet-the-may-artists-reception-2/
LOCATION:Goodyear Cottage\, 321 Riverview Drive\, Jekyll Island\, GA\, 31527\, United States
CATEGORIES:Reception
END:VEVENT
BEGIN:VEVENT
DTSTART;TZID=UTC:20240501T120000
DTEND;TZID=UTC:20240501T160000
DTSTAMP:20260425T165717
CREATED:20231011T234856Z
LAST-MODIFIED:20240422T193910Z
UID:9322-1714564800-1714579200@jekyllartists.com
SUMMARY:May Gallery Show Opens
DESCRIPTION:
URL:https://jekyllartists.com/event/may-gallery-show-opens-6/
CATEGORIES:Gallery Exhibition
END:VEVENT
BEGIN:VEVENT
DTSTART;TZID=UTC:20240430T040000
DTEND;TZID=UTC:20240430T160000
DTSTAMP:20260425T165717
CREATED:20231011T234623Z
LAST-MODIFIED:20231011T234623Z
UID:9320-1714449600-1714492800@jekyllartists.com
SUMMARY:April Gallery Show Closes
DESCRIPTION:
URL:https://jekyllartists.com/event/april-gallery-show-closes-5/
LOCATION:Goodyear Cottage\, 321 Riverview Drive\, Jekyll Island\, GA\, 31527\, United States
CATEGORIES:Gallery Exhibition
END:VEVENT
BEGIN:VEVENT
DTSTART;TZID=UTC:20240425T130000
DTEND;TZID=UTC:20240425T150000
DTSTAMP:20260425T165717
CREATED:20240402T190321Z
LAST-MODIFIED:20240402T190321Z
UID:9801-1714050000-1714057200@jekyllartists.com
SUMMARY:Meet the Artist - Demonstration
DESCRIPTION:Anne Marie Dalis\, painting & pottery
URL:https://jekyllartists.com/event/meet-the-artist-demonstration-4/
LOCATION:Goodyear Cottage\, 321 Riverview Drive\, Jekyll Island\, GA\, 31527\, United States
CATEGORIES:Public Invited
END:VEVENT
BEGIN:VEVENT
DTSTART;TZID=UTC:20240418T130000
DTEND;TZID=UTC:20240418T150000
DTSTAMP:20260425T165717
CREATED:20240402T190213Z
LAST-MODIFIED:20240402T190213Z
UID:9799-1713445200-1713452400@jekyllartists.com
SUMMARY:Meet the Artist - Demonstration
DESCRIPTION:Anne Marie Dalis\, painting & pottery
URL:https://jekyllartists.com/event/meet-the-artist-demonstration-3/
LOCATION:Goodyear Cottage\, 321 Riverview Drive\, Jekyll Island\, GA\, 31527\, United States
CATEGORIES:Public Invited
END:VEVENT
BEGIN:VEVENT
DTSTART;TZID=UTC:20240411T130000
DTEND;TZID=UTC:20240411T150000
DTSTAMP:20260425T165717
CREATED:20240402T190045Z
LAST-MODIFIED:20240402T190121Z
UID:9796-1712840400-1712847600@jekyllartists.com
SUMMARY:Meet the Artist - Demonstration
DESCRIPTION:Anne Marie Dalis\, painting & pottery
URL:https://jekyllartists.com/event/meet-the-artist-demonstration-2/
LOCATION:Goodyear Cottage\, 321 Riverview Drive\, Jekyll Island\, GA\, 31527\, United States
CATEGORIES:Public Invited
END:VEVENT
BEGIN:VEVENT
DTSTART;TZID=UTC:20240407T130000
DTEND;TZID=UTC:20240407T150000
DTSTAMP:20260425T165717
CREATED:20240320T203937Z
LAST-MODIFIED:20240402T190402Z
UID:9750-1712494800-1712502000@jekyllartists.com
SUMMARY:Meet the April Artist - Reception
DESCRIPTION:
URL:https://jekyllartists.com/event/meet-the-april-artist-2/
LOCATION:Goodyear Cottage\, 321 Riverview Drive\, Jekyll Island\, GA\, 31527\, United States
CATEGORIES:Reception
END:VEVENT
BEGIN:VEVENT
DTSTART;TZID=UTC:20240404T130000
DTEND;TZID=UTC:20240404T150000
DTSTAMP:20260425T165717
CREATED:20240402T185941Z
LAST-MODIFIED:20240402T185941Z
UID:9794-1712235600-1712242800@jekyllartists.com
SUMMARY:Meet the Artist - Demonstration
DESCRIPTION:Anne Marie Dalis\, painting & pottery
URL:https://jekyllartists.com/event/meet-the-artist-demonstration/
LOCATION:Goodyear Cottage\, 321 Riverview Drive\, Jekyll Island\, GA\, 31527\, United States
CATEGORIES:Public Invited
END:VEVENT
BEGIN:VEVENT
DTSTART;TZID=UTC:20240330T100000
DTEND;TZID=UTC:20240330T160000
DTSTAMP:20260425T165717
CREATED:20231011T234520Z
LAST-MODIFIED:20240326T003418Z
UID:9318-1711792800-1711814400@jekyllartists.com
SUMMARY:April Gallery Show Opens
DESCRIPTION:Ann Marie Dalis\, Painting & Pottery
URL:https://jekyllartists.com/event/april-gallery-show-opens-6/
LOCATION:Goodyear Cottage\, 321 Riverview Drive\, Jekyll Island\, GA\, 31527\, United States
CATEGORIES:Gallery Exhibition
END:VEVENT
BEGIN:VEVENT
DTSTART;TZID=UTC:20240319T190000
DTEND;TZID=UTC:20240319T203000
DTSTAMP:20260425T165717
CREATED:20240318T195053Z
LAST-MODIFIED:20240318T195132Z
UID:9742-1710874800-1710880200@jekyllartists.com
SUMMARY:Jekyll Singers Spring Concert
DESCRIPTION:
URL:https://jekyllartists.com/event/jekyll-island-singers-spring-concert-2/
LOCATION:Jekyll Island Convention Center
CATEGORIES:Concert
END:VEVENT
BEGIN:VEVENT
DTSTART;TZID=UTC:20240310T100000
DTEND;TZID=UTC:20240310T160000
DTSTAMP:20260425T165717
CREATED:20240201T235244Z
LAST-MODIFIED:20240228T202528Z
UID:9623-1710064800-1710086400@jekyllartists.com
SUMMARY:2024 Arts Festival
DESCRIPTION:
URL:https://jekyllartists.com/event/2024-arts-festival-2/
LOCATION:Goodyear Cottage\, 321 Riverview Drive\, Jekyll Island\, GA\, 31527\, United States
CATEGORIES:Festival
END:VEVENT
BEGIN:VEVENT
DTSTART;TZID=UTC:20240309T100000
DTEND;TZID=UTC:20240309T170000
DTSTAMP:20260425T165717
CREATED:20240201T235149Z
LAST-MODIFIED:20240228T202424Z
UID:9621-1709978400-1710003600@jekyllartists.com
SUMMARY:2024 Arts Festival
DESCRIPTION:Car Show: Arts Festival Daily Schedule – Jekyll Island Arts Association (jekyllartists.com)
URL:https://jekyllartists.com/event/2024-arts-festival/
LOCATION:Goodyear Cottage\, 321 Riverview Drive\, Jekyll Island\, GA\, 31527\, United States
CATEGORIES:Festival
END:VEVENT
BEGIN:VEVENT
DTSTART;TZID=UTC:20240308T120000
DTEND;TZID=UTC:20240308T170000
DTSTAMP:20260425T165717
CREATED:20240201T235110Z
LAST-MODIFIED:20240228T202255Z
UID:9619-1709899200-1709917200@jekyllartists.com
SUMMARY:2024 Arts Festival Begins!
DESCRIPTION: 
URL:https://jekyllartists.com/event/2024-arts-festival-begins/
LOCATION:Goodyear Cottage\, 321 Riverview Drive\, Jekyll Island\, GA\, 31527\, United States
CATEGORIES:Festival
END:VEVENT
BEGIN:VEVENT
DTSTART;TZID=UTC:20240229T160000
DTEND;TZID=UTC:20240229T160000
DTSTAMP:20260425T165717
CREATED:20231011T234058Z
LAST-MODIFIED:20231011T234347Z
UID:9316-1709222400-1709222400@jekyllartists.com
SUMMARY:February Gallery Show Closes
DESCRIPTION:
URL:https://jekyllartists.com/event/february-gallery-show-closes-7/
LOCATION:Goodyear Cottage\, 321 Riverview Drive\, Jekyll Island\, GA\, 31527\, United States
CATEGORIES:Gallery Exhibition
END:VEVENT
BEGIN:VEVENT
DTSTART;TZID=UTC:20240204T130000
DTEND;TZID=UTC:20240204T150000
DTSTAMP:20260425T165717
CREATED:20240118T224750Z
LAST-MODIFIED:20240201T202407Z
UID:9531-1707051600-1707058800@jekyllartists.com
SUMMARY:Meet the February Artists
DESCRIPTION:Joanne Munzar\, Jewelry & Photography \nMark See\, Pottery
URL:https://jekyllartists.com/event/meet-the-february-artists-3/
LOCATION:Goodyear Cottage\, 321 Riverview Drive\, Jekyll Island\, GA\, 31527\, United States
CATEGORIES:Reception
END:VEVENT
BEGIN:VEVENT
DTSTART;TZID=UTC:20240201T120000
DTEND;TZID=UTC:20240201T160000
DTSTAMP:20260425T165717
CREATED:20231011T234000Z
LAST-MODIFIED:20240118T224822Z
UID:9314-1706788800-1706803200@jekyllartists.com
SUMMARY:February Gallery Show Opens
DESCRIPTION:Joanne Munzar\, Jewelry & Photography \nMark See\, Pottery
URL:https://jekyllartists.com/event/february-gallery-show-opens-7/
LOCATION:Goodyear Cottage\, 321 Riverview Drive\, Jekyll Island\, GA\, 31527\, United States
CATEGORIES:Gallery Exhibition
END:VEVENT
BEGIN:VEVENT
DTSTART;TZID=UTC:20240131T160000
DTEND;TZID=UTC:20240131T160000
DTSTAMP:20260425T165717
CREATED:20231011T233758Z
LAST-MODIFIED:20231011T233758Z
UID:9312-1706716800-1706716800@jekyllartists.com
SUMMARY:January Gallery Show Closes
DESCRIPTION:
URL:https://jekyllartists.com/event/january-gallery-show-closes-7/
LOCATION:Goodyear Cottage\, 321 Riverview Drive\, Jekyll Island\, GA\, 31527\, United States
CATEGORIES:Gallery Exhibition
END:VEVENT
BEGIN:VEVENT
DTSTART;TZID=UTC:20240107T130000
DTEND;TZID=UTC:20240107T150000
DTSTAMP:20260425T165717
CREATED:20231215T073630Z
LAST-MODIFIED:20231215T073630Z
UID:9468-1704632400-1704639600@jekyllartists.com
SUMMARY:Meet the January Artists
DESCRIPTION:
URL:https://jekyllartists.com/event/meet-the-january-artists-2/
LOCATION:Goodyear Cottage\, 321 Riverview Drive\, Jekyll Island\, GA\, 31527\, United States
CATEGORIES:Reception
END:VEVENT
BEGIN:VEVENT
DTSTART;TZID=UTC:20240101T120000
DTEND;TZID=UTC:20240101T160000
DTSTAMP:20260425T165717
CREATED:20231011T233655Z
LAST-MODIFIED:20231011T233655Z
UID:9310-1704110400-1704124800@jekyllartists.com
SUMMARY:January Gallery Show Opens
DESCRIPTION:Kelly Richard\, Sculpture \nCarol Ann Wages\, Photography \nSusan Yoder\, Painting
URL:https://jekyllartists.com/event/january-gallery-show-opens-7/
LOCATION:Goodyear Cottage\, 321 Riverview Drive\, Jekyll Island\, GA\, 31527\, United States
CATEGORIES:Gallery Exhibition
END:VEVENT
BEGIN:VEVENT
DTSTART;VALUE=DATE:20240101
DTEND;VALUE=DATE:20240102
DTSTAMP:20260425T165717
CREATED:20231230T215423Z
LAST-MODIFIED:20231230T215423Z
UID:9492-1704067200-1704153599@jekyllartists.com
SUMMARY:Happy New Year - Goodyear Cottage is Closed
DESCRIPTION:
URL:https://jekyllartists.com/event/happy-new-year-goodyear-cottage-is-closed/
LOCATION:Goodyear Cottage\, 321 Riverview Drive\, Jekyll Island\, GA\, 31527\, United States
CATEGORIES:Gallery Closed
END:VEVENT
BEGIN:VEVENT
DTSTART;TZID=UTC:20231231T100000
DTEND;TZID=UTC:20231231T170000
DTSTAMP:20260425T165717
CREATED:20231219T201108Z
LAST-MODIFIED:20231219T201108Z
UID:9479-1704016800-1704042000@jekyllartists.com
SUMMARY:Daily Demonstration Schedule
DESCRIPTION:
URL:https://jekyllartists.com/event/daily-demonstration-schedule-11/
LOCATION:Goodyear Cottage\, 321 Riverview Drive\, Jekyll Island\, GA\, 31527\, United States
CATEGORIES:Public Invited
END:VEVENT
BEGIN:VEVENT
DTSTART;TZID=UTC:20231231T050000
DTEND;TZID=UTC:20231231T170000
DTSTAMP:20260425T165717
CREATED:20231121T063205Z
LAST-MODIFIED:20231121T063205Z
UID:9400-1703998800-1704042000@jekyllartists.com
SUMMARY:Merry Artists Market Closes
DESCRIPTION:
URL:https://jekyllartists.com/event/merry-artists-market-closes-3/
LOCATION:Goodyear Cottage\, 321 Riverview Drive\, Jekyll Island\, GA\, 31527\, United States
CATEGORIES:Public Invited
END:VEVENT
BEGIN:VEVENT
DTSTART;TZID=UTC:20231230T100000
DTEND;TZID=UTC:20231230T170000
DTSTAMP:20260425T165717
CREATED:20231219T201015Z
LAST-MODIFIED:20231219T201015Z
UID:9477-1703930400-1703955600@jekyllartists.com
SUMMARY:Daily Demonstration Schedule
DESCRIPTION:
URL:https://jekyllartists.com/event/daily-demonstration-schedule-10/
LOCATION:Goodyear Cottage\, 321 Riverview Drive\, Jekyll Island\, GA\, 31527\, United States
CATEGORIES:Public Invited
END:VEVENT
BEGIN:VEVENT
DTSTART;VALUE=DATE:20231225
DTEND;VALUE=DATE:20231226
DTSTAMP:20260425T165717
CREATED:20230322T002025Z
LAST-MODIFIED:20230322T002120Z
UID:8749-1703462400-1703548799@jekyllartists.com
SUMMARY:Merry Christmas - Gallery Closed
DESCRIPTION:
URL:https://jekyllartists.com/event/merry-christmas-gallery-closed-3/
LOCATION:Goodyear Cottage\, 321 Riverview Drive\, Jekyll Island\, GA\, 31527\, United States
CATEGORIES:Gallery Closed
END:VEVENT
BEGIN:VEVENT
DTSTART;TZID=UTC:20231224T100000
DTEND;TZID=UTC:20231224T140000
DTSTAMP:20260425T165717
CREATED:20231223T224013Z
LAST-MODIFIED:20231223T224013Z
UID:9487-1703412000-1703426400@jekyllartists.com
SUMMARY:Christmas Eve - early closure
DESCRIPTION:Goodyear Cottage and Shop will close at 2:00pm today and will be closed Christmas day.
URL:https://jekyllartists.com/event/christmas-eve-early-closure/
LOCATION:Goodyear Cottage\, 321 Riverview Drive\, Jekyll Island\, GA\, 31527\, United States
CATEGORIES:Public Invited
END:VEVENT
BEGIN:VEVENT
DTSTART;TZID=UTC:20231223T100000
DTEND;TZID=UTC:20231223T170000
DTSTAMP:20260425T165717
CREATED:20231219T200857Z
LAST-MODIFIED:20231219T200925Z
UID:9475-1703325600-1703350800@jekyllartists.com
SUMMARY:Daily Demonstration Schedule
DESCRIPTION:
URL:https://jekyllartists.com/event/daily-demonstration-schedule-9/
LOCATION:Goodyear Cottage\, 321 Riverview Drive\, Jekyll Island\, GA\, 31527\, United States
CATEGORIES:Public Invited
END:VEVENT
BEGIN:VEVENT
DTSTART;TZID=UTC:20231222T120000
DTEND;TZID=UTC:20231222T160000
DTSTAMP:20260425T165717
CREATED:20231219T200805Z
LAST-MODIFIED:20231219T200805Z
UID:9473-1703246400-1703260800@jekyllartists.com
SUMMARY:Daily Demonstration Schedule
DESCRIPTION:
URL:https://jekyllartists.com/event/daily-demonstration-schedule-8/
LOCATION:Goodyear Cottage\, 321 Riverview Drive\, Jekyll Island\, GA\, 31527\, United States
CATEGORIES:Public Invited
END:VEVENT
END:VCALENDAR