BEGIN:VCALENDAR
VERSION:2.0
PRODID:-//Jekyll Island Arts Association - ECPv6.15.20//NONSGML v1.0//EN
CALSCALE:GREGORIAN
METHOD:PUBLISH
X-ORIGINAL-URL:https://jekyllartists.com
X-WR-CALDESC:Events for Jekyll Island Arts Association
REFRESH-INTERVAL;VALUE=DURATION:PT1H
X-Robots-Tag:noindex
X-PUBLISHED-TTL:PT1H
BEGIN:VTIMEZONE
TZID:UTC
BEGIN:STANDARD
TZOFFSETFROM:+0000
TZOFFSETTO:+0000
TZNAME:UTC
DTSTART:20170101T000000
END:STANDARD
END:VTIMEZONE
BEGIN:VEVENT
DTSTART;TZID=UTC:20180319T150000
DTEND;TZID=UTC:20180319T163000
DTSTAMP:20260424T093607
CREATED:20171223T221329Z
LAST-MODIFIED:20171223T221329Z
UID:2513-1521471600-1521477000@jekyllartists.com
SUMMARY:Jekyll Singers ~ Rehearsal Spring Concert
DESCRIPTION:Jekyll Singers number 30+ both Men and Women. We sing 4-part harmony pieces and rehearse each week for about 10 weeks prior to the concert.
URL:https://jekyllartists.com/event/jekyll-singers-rehearsal-spring-concert-10/
LOCATION:Jekyll Island Methodist Church\, 503 Riverview Drive\, Jekyll Island\, 31527\, United States
CATEGORIES:Rehearsal
END:VEVENT
BEGIN:VEVENT
DTSTART;TZID=UTC:20180312T150000
DTEND;TZID=UTC:20180312T163000
DTSTAMP:20260424T093607
CREATED:20171223T221329Z
LAST-MODIFIED:20171223T221329Z
UID:2512-1520866800-1520872200@jekyllartists.com
SUMMARY:Jekyll Singers ~ Rehearsal Spring Concert
DESCRIPTION:Jekyll Singers number 30+ both Men and Women. We sing 4-part harmony pieces and rehearse each week for about 10 weeks prior to the concert.
URL:https://jekyllartists.com/event/jekyll-singers-rehearsal-spring-concert-9/
LOCATION:Jekyll Island Methodist Church\, 503 Riverview Drive\, Jekyll Island\, 31527\, United States
CATEGORIES:Rehearsal
END:VEVENT
BEGIN:VEVENT
DTSTART;TZID=UTC:20180305T150000
DTEND;TZID=UTC:20180305T163000
DTSTAMP:20260424T093607
CREATED:20171223T221328Z
LAST-MODIFIED:20171223T221328Z
UID:2511-1520262000-1520267400@jekyllartists.com
SUMMARY:Jekyll Singers ~ Rehearsal Spring Concert
DESCRIPTION:Jekyll Singers number 30+ both Men and Women. We sing 4-part harmony pieces and rehearse each week for about 10 weeks prior to the concert.
URL:https://jekyllartists.com/event/jekyll-singers-rehearsal-spring-concert-8/
LOCATION:Jekyll Island Methodist Church\, 503 Riverview Drive\, Jekyll Island\, 31527\, United States
CATEGORIES:Rehearsal
END:VEVENT
BEGIN:VEVENT
DTSTART;TZID=UTC:20180226T150000
DTEND;TZID=UTC:20180226T163000
DTSTAMP:20260424T093607
CREATED:20171223T221328Z
LAST-MODIFIED:20171223T221328Z
UID:2510-1519657200-1519662600@jekyllartists.com
SUMMARY:Jekyll Singers ~ Rehearsal Spring Concert
DESCRIPTION:Jekyll Singers number 30+ both Men and Women. We sing 4-part harmony pieces and rehearse each week for about 10 weeks prior to the concert.
URL:https://jekyllartists.com/event/jekyll-singers-rehearsal-spring-concert-7/
LOCATION:Jekyll Island Methodist Church\, 503 Riverview Drive\, Jekyll Island\, 31527\, United States
CATEGORIES:Rehearsal
END:VEVENT
BEGIN:VEVENT
DTSTART;TZID=UTC:20180219T150000
DTEND;TZID=UTC:20180219T163000
DTSTAMP:20260424T093607
CREATED:20171223T221328Z
LAST-MODIFIED:20171223T221328Z
UID:2509-1519052400-1519057800@jekyllartists.com
SUMMARY:Jekyll Singers ~ Rehearsal Spring Concert
DESCRIPTION:Jekyll Singers number 30+ both Men and Women. We sing 4-part harmony pieces and rehearse each week for about 10 weeks prior to the concert.
URL:https://jekyllartists.com/event/jekyll-singers-rehearsal-spring-concert-6/
LOCATION:Jekyll Island Methodist Church\, 503 Riverview Drive\, Jekyll Island\, 31527\, United States
CATEGORIES:Rehearsal
END:VEVENT
BEGIN:VEVENT
DTSTART;TZID=UTC:20180212T150000
DTEND;TZID=UTC:20180212T163000
DTSTAMP:20260424T093607
CREATED:20171223T221325Z
LAST-MODIFIED:20171223T221325Z
UID:2508-1518447600-1518453000@jekyllartists.com
SUMMARY:Jekyll Singers ~ Rehearsal Spring Concert
DESCRIPTION:Jekyll Singers number 30+ both Men and Women. We sing 4-part harmony pieces and rehearse each week for about 10 weeks prior to the concert.
URL:https://jekyllartists.com/event/jekyll-singers-rehearsal-spring-concert-5/
LOCATION:Jekyll Island Methodist Church\, 503 Riverview Drive\, Jekyll Island\, 31527\, United States
CATEGORIES:Rehearsal
END:VEVENT
BEGIN:VEVENT
DTSTART;TZID=UTC:20180205T150000
DTEND;TZID=UTC:20180205T163000
DTSTAMP:20260424T093607
CREATED:20171223T221324Z
LAST-MODIFIED:20171223T221324Z
UID:2507-1517842800-1517848200@jekyllartists.com
SUMMARY:Jekyll Singers ~ Rehearsal Spring Concert
DESCRIPTION:Jekyll Singers number 30+ both Men and Women. We sing 4-part harmony pieces and rehearse each week for about 10 weeks prior to the concert.
URL:https://jekyllartists.com/event/jekyll-singers-rehearsal-spring-concert-4/
LOCATION:Jekyll Island Methodist Church\, 503 Riverview Drive\, Jekyll Island\, 31527\, United States
CATEGORIES:Rehearsal
END:VEVENT
BEGIN:VEVENT
DTSTART;TZID=UTC:20180129T150000
DTEND;TZID=UTC:20180129T163000
DTSTAMP:20260424T093607
CREATED:20171223T221324Z
LAST-MODIFIED:20171223T221324Z
UID:2506-1517238000-1517243400@jekyllartists.com
SUMMARY:Jekyll Singers ~ Rehearsal Spring Concert
DESCRIPTION:Jekyll Singers number 30+ both Men and Women. We sing 4-part harmony pieces and rehearse each week for about 10 weeks prior to the concert.
URL:https://jekyllartists.com/event/jekyll-singers-rehearsal-spring-concert-3/
LOCATION:Jekyll Island Methodist Church\, 503 Riverview Drive\, Jekyll Island\, 31527\, United States
CATEGORIES:Rehearsal
END:VEVENT
BEGIN:VEVENT
DTSTART;TZID=UTC:20180122T150000
DTEND;TZID=UTC:20180122T163000
DTSTAMP:20260424T093607
CREATED:20171223T221324Z
LAST-MODIFIED:20171223T221324Z
UID:2505-1516633200-1516638600@jekyllartists.com
SUMMARY:Jekyll Singers ~ Rehearsal Spring Concert
DESCRIPTION:Jekyll Singers number 30+ both Men and Women. We sing 4-part harmony pieces and rehearse each week for about 10 weeks prior to the concert.
URL:https://jekyllartists.com/event/jekyll-singers-rehearsal-spring-concert-2/
LOCATION:Jekyll Island Methodist Church\, 503 Riverview Drive\, Jekyll Island\, 31527\, United States
CATEGORIES:Rehearsal
END:VEVENT
BEGIN:VEVENT
DTSTART;TZID=UTC:20180115T150000
DTEND;TZID=UTC:20180115T163000
DTSTAMP:20260424T093607
CREATED:20171223T221323Z
LAST-MODIFIED:20171223T221323Z
UID:2504-1516028400-1516033800@jekyllartists.com
SUMMARY:Jekyll Singers ~ Rehearsal Spring Concert
DESCRIPTION:Jekyll Singers number 30+ both Men and Women. We sing 4-part harmony pieces and rehearse each week for about 10 weeks prior to the concert.
URL:https://jekyllartists.com/event/jekyll-singers-rehearsal-spring-concert/
LOCATION:Jekyll Island Methodist Church\, 503 Riverview Drive\, Jekyll Island\, 31527\, United States
CATEGORIES:Rehearsal
END:VEVENT
END:VCALENDAR