BEGIN:VCALENDAR
VERSION:2.0
PRODID:-//Jekyll Island Arts Association - ECPv6.15.20//NONSGML v1.0//EN
CALSCALE:GREGORIAN
METHOD:PUBLISH
X-WR-CALNAME:Jekyll Island Arts Association
X-ORIGINAL-URL:https://jekyllartists.com
X-WR-CALDESC:Events for Jekyll Island Arts Association
REFRESH-INTERVAL;VALUE=DURATION:PT1H
X-Robots-Tag:noindex
X-PUBLISHED-TTL:PT1H
BEGIN:VTIMEZONE
TZID:UTC
BEGIN:STANDARD
TZOFFSETFROM:+0000
TZOFFSETTO:+0000
TZNAME:UTC
DTSTART:20170101T000000
END:STANDARD
END:VTIMEZONE
BEGIN:VTIMEZONE
TZID:UTC
BEGIN:STANDARD
TZOFFSETFROM:+0000
TZOFFSETTO:+0000
TZNAME:UTC
DTSTART:20170101T000000
END:STANDARD
END:VTIMEZONE
BEGIN:VEVENT
DTSTART;TZID=UTC:20180603T130000
DTEND;TZID=UTC:20180603T150000
DTSTAMP:20260424T025419
CREATED:20180126T220246Z
LAST-MODIFIED:20180126T220246Z
UID:3276-1528030800-1528038000@jekyllartists.com
SUMMARY:June Gallery Show Reception
DESCRIPTION:The Monthly Gallery Exhibit Reception by the Artists whose work is featured. The reception features wine and selection of tasty morsels.
URL:https://jekyllartists.com/event/june-gallery-show-reception/
CATEGORIES:Reception
END:VEVENT
BEGIN:VEVENT
DTSTART;TZID=UTC:20180506T130000
DTEND;TZID=UTC:20180506T150000
DTSTAMP:20260424T025419
CREATED:20180118T211913Z
LAST-MODIFIED:20180124T201259Z
UID:2957-1525611600-1525618800@jekyllartists.com
SUMMARY:May Gallery Show Reception
DESCRIPTION:The Monthly Gallery Exhibit Reception by the Artists whose work is featured. The reception features wine and selection of tasty morsels.
URL:https://jekyllartists.com/event/may-gallery-show-reception/
CATEGORIES:Reception
END:VEVENT
BEGIN:VEVENT
DTSTART;TZID=UTC:20180204T130000
DTEND;TZID=UTC:20180204T150000
DTSTAMP:20260424T025419
CREATED:20171218T214430Z
LAST-MODIFIED:20180205T193230Z
UID:1703-1517749200-1517756400@jekyllartists.com
SUMMARY:February Gallery Show Reception
DESCRIPTION:The Monthly Gallery Exhibit Reception by the Artists whose work is featured. The reception features Wine and selection of Tasty Morsels.
URL:https://jekyllartists.com/event/february-gallery-show-reception/
CATEGORIES:Reception
END:VEVENT
BEGIN:VEVENT
DTSTART;TZID=UTC:20180107T130000
DTEND;TZID=UTC:20180107T150000
DTSTAMP:20260424T025419
CREATED:20171218T214426Z
LAST-MODIFIED:20171218T220128Z
UID:1698-1515330000-1515337200@jekyllartists.com
SUMMARY:January Gallery Show Reception
DESCRIPTION:The Monthly Gallery Exhibit Reception by the Artists whose work is featured. The reception features Wine and selection of Tasty Morsels.
URL:https://jekyllartists.com/event/january-gallery-show-reception/
CATEGORIES:Reception
END:VEVENT
END:VCALENDAR