BEGIN:VCALENDAR
VERSION:2.0
PRODID:-//Jekyll Island Arts Association - ECPv6.15.20//NONSGML v1.0//EN
CALSCALE:GREGORIAN
METHOD:PUBLISH
X-ORIGINAL-URL:https://jekyllartists.com
X-WR-CALDESC:Events for Jekyll Island Arts Association
REFRESH-INTERVAL;VALUE=DURATION:PT1H
X-Robots-Tag:noindex
X-PUBLISHED-TTL:PT1H
BEGIN:VTIMEZONE
TZID:UTC
BEGIN:STANDARD
TZOFFSETFROM:+0000
TZOFFSETTO:+0000
TZNAME:UTC
DTSTART:20170101T000000
END:STANDARD
END:VTIMEZONE
BEGIN:VTIMEZONE
TZID:UTC
BEGIN:STANDARD
TZOFFSETFROM:+0000
TZOFFSETTO:+0000
TZNAME:UTC
DTSTART:20170101T000000
END:STANDARD
END:VTIMEZONE
BEGIN:VEVENT
DTSTART;TZID=UTC:20220501T130000
DTEND;TZID=UTC:20220501T150000
DTSTAMP:20260423T232237
CREATED:20220429T030645Z
LAST-MODIFIED:20220501T024221Z
UID:7734-1651410000-1651417200@jekyllartists.com
SUMMARY:Meet the May Artists
DESCRIPTION:Artists: Jean Slayton-Collins- Photography\, Mike Sluder – Sculpture
URL:https://jekyllartists.com/event/meet-the-may-artists-2/
CATEGORIES:Reception
END:VEVENT
BEGIN:VEVENT
DTSTART;TZID=UTC:20220403T130000
DTEND;TZID=UTC:20220403T150000
DTSTAMP:20260423T232237
CREATED:20220325T210024Z
LAST-MODIFIED:20220325T210024Z
UID:7684-1648990800-1648998000@jekyllartists.com
SUMMARY:Meet the April Artists
DESCRIPTION:
URL:https://jekyllartists.com/event/meet-the-april-artists/
CATEGORIES:Reception
END:VEVENT
BEGIN:VEVENT
DTSTART;TZID=UTC:20220325T170000
DTEND;TZID=UTC:20220325T190000
DTSTAMP:20260423T232237
CREATED:20220319T224314Z
LAST-MODIFIED:20220319T224314Z
UID:7667-1648227600-1648234800@jekyllartists.com
SUMMARY:JIAA Volunteer Appreciation Party
DESCRIPTION:
URL:https://jekyllartists.com/event/jiaa-volunteer-appreciation-party/
CATEGORIES:Reception
END:VEVENT
BEGIN:VEVENT
DTSTART;TZID=UTC:20220310T160000
DTEND;TZID=UTC:20220310T180000
DTSTAMP:20260423T232237
CREATED:20220310T014857Z
LAST-MODIFIED:20220310T014857Z
UID:7648-1646928000-1646935200@jekyllartists.com
SUMMARY:Festival Sneak Peek
DESCRIPTION:
URL:https://jekyllartists.com/event/festival-sneak-peek/
CATEGORIES:Reception
END:VEVENT
BEGIN:VEVENT
DTSTART;TZID=UTC:20220206T130000
DTEND;TZID=UTC:20220206T150000
DTSTAMP:20260423T232237
CREATED:20220130T000302Z
LAST-MODIFIED:20220130T000302Z
UID:7524-1644152400-1644159600@jekyllartists.com
SUMMARY:Meet the February Artists
DESCRIPTION:
URL:https://jekyllartists.com/event/meet-the-february-artists/
CATEGORIES:Public Invited,Reception
END:VEVENT
BEGIN:VEVENT
DTSTART;TZID=UTC:20200202T130000
DTEND;TZID=UTC:20200202T150000
DTSTAMP:20260423T232237
CREATED:20191201T214423Z
LAST-MODIFIED:20191201T214423Z
UID:6205-1580648400-1580655600@jekyllartists.com
SUMMARY:February Gallery Show Reception
DESCRIPTION:
URL:https://jekyllartists.com/event/february-gallery-show-reception-3/
CATEGORIES:Reception
END:VEVENT
BEGIN:VEVENT
DTSTART;TZID=UTC:20200105T130000
DTEND;TZID=UTC:20200105T150000
DTSTAMP:20260423T232237
CREATED:20191201T213920Z
LAST-MODIFIED:20191201T213920Z
UID:6199-1578229200-1578236400@jekyllartists.com
SUMMARY:January Gallery Show Reception
DESCRIPTION:
URL:https://jekyllartists.com/event/january-gallery-show-reception-3/
CATEGORIES:Reception
END:VEVENT
BEGIN:VEVENT
DTSTART;TZID=UTC:20191006T130000
DTEND;TZID=UTC:20191006T150000
DTSTAMP:20260423T232237
CREATED:20190508T003824Z
LAST-MODIFIED:20190508T003844Z
UID:5697-1570366800-1570374000@jekyllartists.com
SUMMARY:October Gallery Show Reception
DESCRIPTION:
URL:https://jekyllartists.com/event/october-gallery-show-reception-2/
CATEGORIES:Gallery Exhibition,Public Invited,Reception
END:VEVENT
BEGIN:VEVENT
DTSTART;TZID=UTC:20190804T130000
DTEND;TZID=UTC:20190804T150000
DTSTAMP:20260423T232237
CREATED:20190508T000401Z
LAST-MODIFIED:20190626T193749Z
UID:5685-1564923600-1564930800@jekyllartists.com
SUMMARY:August Gallery Show Reception
DESCRIPTION:
URL:https://jekyllartists.com/event/august-september-gallery-show-reception/
CATEGORIES:Gallery Exhibition,Public Invited,Reception
END:VEVENT
BEGIN:VEVENT
DTSTART;TZID=UTC:20190707T130000
DTEND;TZID=UTC:20190707T150000
DTSTAMP:20260423T232237
CREATED:20190507T235537Z
LAST-MODIFIED:20190507T235537Z
UID:5677-1562504400-1562511600@jekyllartists.com
SUMMARY:July Gallery Show Reception
DESCRIPTION:
URL:https://jekyllartists.com/event/july-gallery-show-reception-2/
CATEGORIES:Gallery Exhibition,Public Invited,Reception
END:VEVENT
BEGIN:VEVENT
DTSTART;TZID=UTC:20190602T130000
DTEND;TZID=UTC:20190602T150000
DTSTAMP:20260423T232237
CREATED:20181210T211831Z
LAST-MODIFIED:20181210T211831Z
UID:5158-1559480400-1559487600@jekyllartists.com
SUMMARY:June Gallery Show Reception
DESCRIPTION:The Monthly Gallery Exhibit Reception by the Artists whose work is featured. The reception features wine and selection of tasty morsels.
URL:https://jekyllartists.com/event/june-gallery-show-reception-2/
CATEGORIES:Reception
END:VEVENT
BEGIN:VEVENT
DTSTART;TZID=UTC:20190505T130000
DTEND;TZID=UTC:20190505T150000
DTSTAMP:20260423T232237
CREATED:20181210T210901Z
LAST-MODIFIED:20181210T210901Z
UID:5152-1557061200-1557068400@jekyllartists.com
SUMMARY:May Gallery Show Reception
DESCRIPTION:The Monthly Gallery Exhibit Reception by the Artists whose work is featured. The reception features wine and selection of tasty morsels.
URL:https://jekyllartists.com/event/may-gallery-show-reception-2/
CATEGORIES:Reception
END:VEVENT
BEGIN:VEVENT
DTSTART;TZID=UTC:20190407T130000
DTEND;TZID=UTC:20190407T150000
DTSTAMP:20260423T232237
CREATED:20181210T205949Z
LAST-MODIFIED:20181210T205949Z
UID:5140-1554642000-1554649200@jekyllartists.com
SUMMARY:April Gallery Show Reception
DESCRIPTION:
URL:https://jekyllartists.com/event/april-gallery-show-reception-2/
CATEGORIES:Reception
END:VEVENT
BEGIN:VEVENT
DTSTART;TZID=UTC:20190215T170000
DTEND;TZID=UTC:20190215T190000
DTSTAMP:20260423T232237
CREATED:20190206T195354Z
LAST-MODIFIED:20190206T195354Z
UID:5437-1550250000-1550257200@jekyllartists.com
SUMMARY:Visiting Artist Welcome Reception
DESCRIPTION:
URL:https://jekyllartists.com/event/visiting-artist-welcome-reception/
CATEGORIES:Reception
END:VEVENT
BEGIN:VEVENT
DTSTART;TZID=UTC:20190203T130000
DTEND;TZID=UTC:20190203T150000
DTSTAMP:20260423T232237
CREATED:20181210T203954Z
LAST-MODIFIED:20181210T203954Z
UID:5130-1549198800-1549206000@jekyllartists.com
SUMMARY:February Gallery Show Reception
DESCRIPTION:The Monthly Gallery Exhibit Reception by the Artists whose work is featured. The reception features wine and selection of tasty morsels.
URL:https://jekyllartists.com/event/february-gallery-show-reception-2/
CATEGORIES:Reception
END:VEVENT
BEGIN:VEVENT
DTSTART;TZID=UTC:20190106T130000
DTEND;TZID=UTC:20190106T150000
DTSTAMP:20260423T232237
CREATED:20181210T203034Z
LAST-MODIFIED:20181210T203034Z
UID:5124-1546779600-1546786800@jekyllartists.com
SUMMARY:January Gallery Show Reception
DESCRIPTION:The Monthly Gallery Exhibit Reception by the Artists whose work is featured. The reception features wine and selection of tasty morsels.
URL:https://jekyllartists.com/event/january-gallery-show-reception-2/
CATEGORIES:Reception
END:VEVENT
BEGIN:VEVENT
DTSTART;TZID=UTC:20181104T130000
DTEND;TZID=UTC:20181104T150000
DTSTAMP:20260423T232237
CREATED:20180128T024215Z
LAST-MODIFIED:20181001T220858Z
UID:3353-1541336400-1541343600@jekyllartists.com
SUMMARY:November Gallery Show Reception
DESCRIPTION:The Monthly Gallery Exhibit Reception by the Artists whose work is featured. The reception features wine and selection of tasty morsels.
URL:https://jekyllartists.com/event/november-gallery-show-reception/
CATEGORIES:Reception
END:VEVENT
BEGIN:VEVENT
DTSTART;TZID=UTC:20181007T130000
DTEND;TZID=UTC:20181007T150000
DTSTAMP:20260423T232237
CREATED:20180128T024059Z
LAST-MODIFIED:20181001T220803Z
UID:3351-1538917200-1538924400@jekyllartists.com
SUMMARY:October Gallery Show Reception
DESCRIPTION:The Monthly Gallery Exhibit Reception by the Artists whose work is featured. The reception features wine and selection of tasty morsels.
URL:https://jekyllartists.com/event/october-gallery-show-reception/
CATEGORIES:Reception
END:VEVENT
BEGIN:VEVENT
DTSTART;TZID=UTC:20180902T130000
DTEND;TZID=UTC:20180902T150000
DTSTAMP:20260423T232237
CREATED:20180128T023514Z
LAST-MODIFIED:20180128T023514Z
UID:3345-1535893200-1535900400@jekyllartists.com
SUMMARY:September Gallery Show Reception - tentative date
DESCRIPTION:The Monthly Gallery Exhibit Reception by the Artists whose work is featured. The reception features wine and selection of tasty morsels.
URL:https://jekyllartists.com/event/september-gallery-show-reception-tentative-date/
CATEGORIES:Reception
END:VEVENT
BEGIN:VEVENT
DTSTART;TZID=UTC:20180708T130000
DTEND;TZID=UTC:20180708T150000
DTSTAMP:20260423T232238
CREATED:20180128T022041Z
LAST-MODIFIED:20180128T022041Z
UID:3335-1531054800-1531062000@jekyllartists.com
SUMMARY:July Gallery Show Reception
DESCRIPTION:The Monthly Gallery Exhibit Reception by the Artists whose work is featured. The reception features wine and selection of tasty morsels.
URL:https://jekyllartists.com/event/july-gallery-show-reception/
CATEGORIES:Reception
END:VEVENT
BEGIN:VEVENT
DTSTART;TZID=UTC:20180603T130000
DTEND;TZID=UTC:20180603T150000
DTSTAMP:20260423T232238
CREATED:20180126T220246Z
LAST-MODIFIED:20180126T220246Z
UID:3276-1528030800-1528038000@jekyllartists.com
SUMMARY:June Gallery Show Reception
DESCRIPTION:The Monthly Gallery Exhibit Reception by the Artists whose work is featured. The reception features wine and selection of tasty morsels.
URL:https://jekyllartists.com/event/june-gallery-show-reception/
CATEGORIES:Reception
END:VEVENT
BEGIN:VEVENT
DTSTART;TZID=UTC:20180506T130000
DTEND;TZID=UTC:20180506T150000
DTSTAMP:20260423T232238
CREATED:20180118T211913Z
LAST-MODIFIED:20180124T201259Z
UID:2957-1525611600-1525618800@jekyllartists.com
SUMMARY:May Gallery Show Reception
DESCRIPTION:The Monthly Gallery Exhibit Reception by the Artists whose work is featured. The reception features wine and selection of tasty morsels.
URL:https://jekyllartists.com/event/may-gallery-show-reception/
CATEGORIES:Reception
END:VEVENT
BEGIN:VEVENT
DTSTART;TZID=UTC:20180204T130000
DTEND;TZID=UTC:20180204T150000
DTSTAMP:20260423T232238
CREATED:20171218T214430Z
LAST-MODIFIED:20180205T193230Z
UID:1703-1517749200-1517756400@jekyllartists.com
SUMMARY:February Gallery Show Reception
DESCRIPTION:The Monthly Gallery Exhibit Reception by the Artists whose work is featured. The reception features Wine and selection of Tasty Morsels.
URL:https://jekyllartists.com/event/february-gallery-show-reception/
CATEGORIES:Reception
END:VEVENT
BEGIN:VEVENT
DTSTART;TZID=UTC:20180107T130000
DTEND;TZID=UTC:20180107T150000
DTSTAMP:20260423T232238
CREATED:20171218T214426Z
LAST-MODIFIED:20171218T220128Z
UID:1698-1515330000-1515337200@jekyllartists.com
SUMMARY:January Gallery Show Reception
DESCRIPTION:The Monthly Gallery Exhibit Reception by the Artists whose work is featured. The reception features Wine and selection of Tasty Morsels.
URL:https://jekyllartists.com/event/january-gallery-show-reception/
CATEGORIES:Reception
END:VEVENT
END:VCALENDAR