BEGIN:VCALENDAR
VERSION:2.0
PRODID:-//Jekyll Island Arts Association - ECPv6.15.20//NONSGML v1.0//EN
CALSCALE:GREGORIAN
METHOD:PUBLISH
X-ORIGINAL-URL:https://jekyllartists.com
X-WR-CALDESC:Events for Jekyll Island Arts Association
REFRESH-INTERVAL;VALUE=DURATION:PT1H
X-Robots-Tag:noindex
X-PUBLISHED-TTL:PT1H
BEGIN:VTIMEZONE
TZID:UTC
BEGIN:STANDARD
TZOFFSETFROM:+0000
TZOFFSETTO:+0000
TZNAME:UTC
DTSTART:20190101T000000
END:STANDARD
END:VTIMEZONE
BEGIN:VEVENT
DTSTART;TZID=UTC:20231203T100000
DTEND;TZID=UTC:20231203T170000
DTSTAMP:20260424T030834
CREATED:20231202T201717Z
LAST-MODIFIED:20231202T201747Z
UID:9438-1701597600-1701622800@jekyllartists.com
SUMMARY:Daily Demonstration Schedule
DESCRIPTION:
URL:https://jekyllartists.com/event/daily-demonstration-schedule-2/
LOCATION:Goodyear Cottage\, 321 Riverview Drive\, Jekyll Island\, GA\, 31527\, United States
CATEGORIES:Public Invited
END:VEVENT
BEGIN:VEVENT
DTSTART;TZID=UTC:20231202T100000
DTEND;TZID=UTC:20231202T170000
DTSTAMP:20260424T030834
CREATED:20231202T201513Z
LAST-MODIFIED:20231202T201600Z
UID:9435-1701511200-1701536400@jekyllartists.com
SUMMARY:Daily Demonstration Schedule
DESCRIPTION:
URL:https://jekyllartists.com/event/daily-demonstration-schedule/
LOCATION:Goodyear Cottage\, 321 Riverview Drive\, Jekyll Island\, GA\, 31527\, United States
CATEGORIES:Public Invited
END:VEVENT
BEGIN:VEVENT
DTSTART;TZID=UTC:20231124T100000
DTEND;TZID=UTC:20231124T170000
DTSTAMP:20260424T030834
CREATED:20230322T001536Z
LAST-MODIFIED:20231111T203257Z
UID:8741-1700820000-1700845200@jekyllartists.com
SUMMARY:Merry Artists Market Opens
DESCRIPTION:
URL:https://jekyllartists.com/event/merry-artists-market-opens-2/
LOCATION:Goodyear Cottage\, 321 Riverview Drive\, Jekyll Island\, GA\, 31527\, United States
CATEGORIES:Public Invited
END:VEVENT
BEGIN:VEVENT
DTSTART;TZID=UTC:20231101T120000
DTEND;TZID=UTC:20231101T160000
DTSTAMP:20260424T030834
CREATED:20230515T185627Z
LAST-MODIFIED:20231016T225433Z
UID:8846-1698840000-1698854400@jekyllartists.com
SUMMARY:November Gallery Show Opens
DESCRIPTION:An Eclectic Exhibition of Works in Fiber by Jekyll Island’s Finest Weavers\, Quilters and Fabric Artisans
URL:https://jekyllartists.com/event/november-gallery-show-opens-6/
LOCATION:Goodyear Cottage\, 321 Riverview Drive\, Jekyll Island\, GA\, 31527\, United States
CATEGORIES:Public Invited
END:VEVENT
BEGIN:VEVENT
DTSTART;TZID=UTC:20231001T100000
DTEND;TZID=UTC:20231001T160000
DTSTAMP:20260424T030834
CREATED:20230515T185103Z
LAST-MODIFIED:20230909T000310Z
UID:8840-1696154400-1696176000@jekyllartists.com
SUMMARY:October Gallery Show Opens
DESCRIPTION:Deanna Brown\, Painting \nMichelle DeHaven\, Heritage Arts \nLinda Lanter\, Heritage Arts \nCathy Miller\, Heritage Arts \nBarbara Poloncic\, Heritage Arts
URL:https://jekyllartists.com/event/october-gallery-show-opens-6/
LOCATION:Goodyear Cottage\, 321 Riverview Drive\, Jekyll Island\, GA\, 31527\, United States
CATEGORIES:Public Invited
END:VEVENT
BEGIN:VEVENT
DTSTART;TZID=UTC:20230901T120000
DTEND;TZID=UTC:20230901T160000
DTSTAMP:20260424T030834
CREATED:20230515T184614Z
LAST-MODIFIED:20230519T221009Z
UID:8834-1693569600-1693584000@jekyllartists.com
SUMMARY:September Gallery Show Opens
DESCRIPTION:Constance Dalbo\, Fiber Arts \nRobert Dalbo\, Heritage Arts \nChris Dougherty\, Painter
URL:https://jekyllartists.com/event/september-gallery-show-opens-3/
LOCATION:Goodyear Cottage\, 321 Riverview Drive\, Jekyll Island\, GA\, 31527\, United States
CATEGORIES:Public Invited
END:VEVENT
BEGIN:VEVENT
DTSTART;TZID=UTC:20230801T120000
DTEND;TZID=UTC:20230801T160000
DTSTAMP:20260424T030834
CREATED:20230515T184005Z
LAST-MODIFIED:20230519T220851Z
UID:8827-1690891200-1690905600@jekyllartists.com
SUMMARY:August Gallery Show Opens
DESCRIPTION:Georgia Coastal Artists
URL:https://jekyllartists.com/event/august-gallery-show-opens-4/
LOCATION:Goodyear Cottage\, 321 Riverview Drive\, Jekyll Island\, GA\, 31527\, United States
CATEGORIES:Public Invited
END:VEVENT
BEGIN:VEVENT
DTSTART;TZID=UTC:20230709T130000
DTEND;TZID=UTC:20230709T150000
DTSTAMP:20260424T030834
CREATED:20230516T173853Z
LAST-MODIFIED:20230628T191220Z
UID:8854-1688907600-1688914800@jekyllartists.com
SUMMARY:Artist Spotlight - Elizabeth DuBignon
DESCRIPTION:Meet Elizabeth duBignon\, Author and Illustrator of Tea for Ten\, a children’s activity book.
URL:https://jekyllartists.com/event/artist-spotlight-elizabeth-dubignon/
LOCATION:Goodyear Cottage\, 321 Riverview Drive\, Jekyll Island\, GA\, 31527\, United States
CATEGORIES:Public Invited
END:VEVENT
BEGIN:VEVENT
DTSTART;TZID=UTC:20230708T130000
DTEND;TZID=UTC:20230708T150000
DTSTAMP:20260424T030834
CREATED:20230618T223458Z
LAST-MODIFIED:20230628T191144Z
UID:9022-1688821200-1688828400@jekyllartists.com
SUMMARY:Artist Spotlight - Elizabeth DuBignon
DESCRIPTION:Meet Elizabeth duBignon\, Author and Illustrator of Tea for Ten\, a children’s activity book.
URL:https://jekyllartists.com/event/artist-spotlight-elizabeth-dubignon-2/
LOCATION:Goodyear Cottage\, 321 Riverview Drive\, Jekyll Island\, GA\, 31527\, United States
CATEGORIES:Public Invited
END:VEVENT
BEGIN:VEVENT
DTSTART;TZID=UTC:20230701T100000
DTEND;TZID=UTC:20230701T160000
DTSTAMP:20260424T030834
CREATED:20230322T001015Z
LAST-MODIFIED:20230519T220817Z
UID:8735-1688205600-1688227200@jekyllartists.com
SUMMARY:July Gallery Show Opens
DESCRIPTION:Michele Levani\, Painter \nJekyll Island Pottery Guild\, Pottery
URL:https://jekyllartists.com/event/july-gallery-show-opens-6/
LOCATION:Goodyear Cottage\, 321 Riverview Drive\, Jekyll Island\, GA\, 31527\, United States
CATEGORIES:Gallery Exhibition,Public Invited
END:VEVENT
BEGIN:VEVENT
DTSTART;TZID=UTC:20230601T120000
DTEND;TZID=UTC:20230601T160000
DTSTAMP:20260424T030834
CREATED:20230322T000358Z
LAST-MODIFIED:20230519T220940Z
UID:8726-1685620800-1685635200@jekyllartists.com
SUMMARY:June Gallery Show Opens
DESCRIPTION:Carla Price\, Pottery \nPenny Scarboro\, Painting
URL:https://jekyllartists.com/event/june-gallery-show-opens-6/
LOCATION:Goodyear Cottage\, 321 Riverview Drive\, Jekyll Island\, GA\, 31527\, United States
CATEGORIES:Public Invited
END:VEVENT
BEGIN:VEVENT
DTSTART;TZID=UTC:20230308T130000
DTEND;TZID=UTC:20230308T160000
DTSTAMP:20260424T030834
CREATED:20230215T234657Z
LAST-MODIFIED:20230218T233604Z
UID:8613-1678280400-1678291200@jekyllartists.com
SUMMARY:Manna House Pottery Sale
DESCRIPTION:Annual pottery sale to benefit Manna House in Brunswick.  Manna House serves close to 300 meals\, 7 days a week\, year-round.
URL:https://jekyllartists.com/event/manna-house-pottery-sale/
LOCATION:Jekyll Island Baptist Church\, 501 Riverview Dr. N\, Jekyll Island\, GA\, 31527\, United States
CATEGORIES:Public Invited
END:VEVENT
BEGIN:VEVENT
DTSTART;TZID=UTC:20230205T130000
DTEND;TZID=UTC:20230205T150000
DTSTAMP:20260424T030834
CREATED:20221205T213045Z
LAST-MODIFIED:20230124T220049Z
UID:8431-1675602000-1675609200@jekyllartists.com
SUMMARY:Meet the February Artists
DESCRIPTION:Lesley Hughes – Pottery\, Mahlon Stacy – Photography
URL:https://jekyllartists.com/event/meet-the-february-artists-2/
LOCATION:Goodyear Cottage\, 321 Riverview Drive\, Jekyll Island\, GA\, 31527\, United States
CATEGORIES:Public Invited
END:VEVENT
BEGIN:VEVENT
DTSTART;TZID=UTC:20230108T130000
DTEND;TZID=UTC:20230108T150000
DTSTAMP:20260424T030834
CREATED:20221205T212935Z
LAST-MODIFIED:20221205T212935Z
UID:8429-1673182800-1673190000@jekyllartists.com
SUMMARY:Meet the January Artists
DESCRIPTION:
URL:https://jekyllartists.com/event/meet-the-january-artists/
LOCATION:Goodyear Cottage\, 321 Riverview Drive\, Jekyll Island\, GA\, 31527\, United States
CATEGORIES:Public Invited
END:VEVENT
BEGIN:VEVENT
DTSTART;TZID=UTC:20220915T183000
DTEND;TZID=UTC:20220915T200000
DTSTAMP:20260424T030834
CREATED:20220830T215253Z
LAST-MODIFIED:20220830T215253Z
UID:7872-1663266600-1663272000@jekyllartists.com
SUMMARY:The Goodyears of Jekyll Island - Friends of Historic Jekyll Island Program
DESCRIPTION:The next Friends Of Historic Jekyll Island program is Thursday\, September 15\, 2022: It will start at 6:30 in the Tack Room at the Mosaic Museum on Stable Rd. Bonnie Householder kicks off the program season with “The Goodyears of Jekyll Island”. Learn where the family stayed on Jekyll Island\, how long it took to build their new home\, and how Frank Goodyear found the spot he fell in love with. The programs are open to the public and are free.\n\n\nPlease register for this event through Eventbrite: https://www.eventbrite.com/e/the-goodyears-of-jekyll-island-tickets-405558675917 (This helps us know how to prepare.)  More information about FOHJI can be found at http://www.friendsofhistoricjekyll.org/index.html
URL:https://jekyllartists.com/event/the-goodyears-of-jekyll-island-friends-of-historic-jekyll-island-program/
LOCATION:Mosaic Museum
CATEGORIES:Public Invited
END:VEVENT
BEGIN:VEVENT
DTSTART;TZID=UTC:20220206T130000
DTEND;TZID=UTC:20220206T150000
DTSTAMP:20260424T030834
CREATED:20220130T000302Z
LAST-MODIFIED:20220130T000302Z
UID:7524-1644152400-1644159600@jekyllartists.com
SUMMARY:Meet the February Artists
DESCRIPTION:
URL:https://jekyllartists.com/event/meet-the-february-artists/
CATEGORIES:Public Invited,Reception
END:VEVENT
BEGIN:VEVENT
DTSTART;TZID=UTC:20211229T160000
DTEND;TZID=UTC:20211229T160000
DTSTAMP:20260424T030834
CREATED:20211101T183008Z
LAST-MODIFIED:20211101T183008Z
UID:7365-1640793600-1640793600@jekyllartists.com
SUMMARY:Merry Artist Market Closes
DESCRIPTION:
URL:https://jekyllartists.com/event/merry-artist-market-closes-2/
CATEGORIES:Public Invited
END:VEVENT
BEGIN:VEVENT
DTSTART;TZID=UTC:20211127T100000
DTEND;TZID=UTC:20211127T180000
DTSTAMP:20260424T030834
CREATED:20211101T183125Z
LAST-MODIFIED:20211101T183125Z
UID:7367-1638007200-1638036000@jekyllartists.com
SUMMARY:Merry Artist Market Extended Hours
DESCRIPTION:
URL:https://jekyllartists.com/event/merry-artist-market-extended-hours/
CATEGORIES:Public Invited
END:VEVENT
BEGIN:VEVENT
DTSTART;TZID=UTC:20211126T100000
DTEND;TZID=UTC:20211126T180000
DTSTAMP:20260424T030834
CREATED:20211101T182907Z
LAST-MODIFIED:20211101T182907Z
UID:7363-1637920800-1637949600@jekyllartists.com
SUMMARY:Merry Artist Market Begins!
DESCRIPTION:
URL:https://jekyllartists.com/event/merry-artist-market-begins/
CATEGORIES:Public Invited
END:VEVENT
BEGIN:VEVENT
DTSTART;TZID=UTC:20211107T130000
DTEND;TZID=UTC:20211107T150000
DTSTAMP:20260424T030834
CREATED:20210719T225808Z
LAST-MODIFIED:20210719T225808Z
UID:7257-1636290000-1636297200@jekyllartists.com
SUMMARY:Meet the November Artists
DESCRIPTION:
URL:https://jekyllartists.com/event/meet-the-november-artists/
CATEGORIES:Public Invited
END:VEVENT
BEGIN:VEVENT
DTSTART;TZID=UTC:20211003T130000
DTEND;TZID=UTC:20211003T150000
DTSTAMP:20260424T030834
CREATED:20210719T225523Z
LAST-MODIFIED:20210719T225541Z
UID:7251-1633266000-1633273200@jekyllartists.com
SUMMARY:Meet the October Gallery Artists
DESCRIPTION:
URL:https://jekyllartists.com/event/meet-the-october-gallery-artists/
CATEGORIES:Public Invited
END:VEVENT
BEGIN:VEVENT
DTSTART;TZID=UTC:20210808T130000
DTEND;TZID=UTC:20210808T150000
DTSTAMP:20260424T030834
CREATED:20210719T224720Z
LAST-MODIFIED:20210719T224720Z
UID:7238-1628427600-1628434800@jekyllartists.com
SUMMARY:Meet the August Artists
DESCRIPTION:
URL:https://jekyllartists.com/event/meet-the-august-artists/
CATEGORIES:Public Invited
END:VEVENT
BEGIN:VEVENT
DTSTART;TZID=UTC:20210710T130000
DTEND;TZID=UTC:20210710T150000
DTSTAMP:20260424T030834
CREATED:20210701T194448Z
LAST-MODIFIED:20210701T194448Z
UID:7215-1625922000-1625929200@jekyllartists.com
SUMMARY:Meet the July Artists
DESCRIPTION:
URL:https://jekyllartists.com/event/meet-the-july-artists/
CATEGORIES:Public Invited
END:VEVENT
BEGIN:VEVENT
DTSTART;TZID=UTC:20210606T130000
DTEND;TZID=UTC:20210606T150000
DTSTAMP:20260424T030834
CREATED:20210522T231145Z
LAST-MODIFIED:20210522T231145Z
UID:7192-1622984400-1622991600@jekyllartists.com
SUMMARY:Meet the June Artists
DESCRIPTION:
URL:https://jekyllartists.com/event/meet-the-june-artists/
CATEGORIES:Public Invited
END:VEVENT
BEGIN:VEVENT
DTSTART;TZID=UTC:20210502T130000
DTEND;TZID=UTC:20210502T150000
DTSTAMP:20260424T030834
CREATED:20210430T003437Z
LAST-MODIFIED:20210430T003437Z
UID:7179-1619960400-1619967600@jekyllartists.com
SUMMARY:Meet the May Artists
DESCRIPTION:
URL:https://jekyllartists.com/event/meet-the-may-artists/
CATEGORIES:Public Invited
END:VEVENT
BEGIN:VEVENT
DTSTART;TZID=UTC:20210404T130000
DTEND;TZID=UTC:20210404T150000
DTSTAMP:20260424T030834
CREATED:20210330T031725Z
LAST-MODIFIED:20210330T031725Z
UID:7155-1617541200-1617548400@jekyllartists.com
SUMMARY:Meet the April Artist
DESCRIPTION:
URL:https://jekyllartists.com/event/meet-the-april-artist/
CATEGORIES:Public Invited
END:VEVENT
BEGIN:VEVENT
DTSTART;TZID=UTC:20210403T100000
DTEND;TZID=UTC:20210403T160000
DTSTAMP:20260424T030834
CREATED:20210330T031623Z
LAST-MODIFIED:20210330T031832Z
UID:7153-1617444000-1617465600@jekyllartists.com
SUMMARY:Spring Pottery Sale
DESCRIPTION:
URL:https://jekyllartists.com/event/spring-pottery-sale/
CATEGORIES:Public Invited
END:VEVENT
BEGIN:VEVENT
DTSTART;TZID=UTC:20210321T130000
DTEND;TZID=UTC:20210321T150000
DTSTAMP:20260424T030834
CREATED:20210228T015421Z
LAST-MODIFIED:20210228T015421Z
UID:7134-1616331600-1616338800@jekyllartists.com
SUMMARY:Meet the March Artists
DESCRIPTION:
URL:https://jekyllartists.com/event/meet-the-march-artists-2/
CATEGORIES:Public Invited
END:VEVENT
BEGIN:VEVENT
DTSTART;TZID=UTC:20210307T130000
DTEND;TZID=UTC:20210307T150000
DTSTAMP:20260424T030834
CREATED:20210228T015329Z
LAST-MODIFIED:20210228T015329Z
UID:7132-1615122000-1615129200@jekyllartists.com
SUMMARY:Meet the March Artists
DESCRIPTION:
URL:https://jekyllartists.com/event/meet-the-march-artists/
CATEGORIES:Public Invited
END:VEVENT
BEGIN:VEVENT
DTSTART;TZID=UTC:20201227T160000
DTEND;TZID=UTC:20201227T160000
DTSTAMP:20260424T030834
CREATED:20200603T181639Z
LAST-MODIFIED:20201227T224840Z
UID:6780-1609084800-1609084800@jekyllartists.com
SUMMARY:Merry Artist Market closes
DESCRIPTION:
URL:https://jekyllartists.com/event/merry-artist-market-closes/
CATEGORIES:Public Invited
END:VEVENT
END:VCALENDAR