BEGIN:VCALENDAR
VERSION:2.0
PRODID:-//Jekyll Island Arts Association - ECPv6.15.20//NONSGML v1.0//EN
CALSCALE:GREGORIAN
METHOD:PUBLISH
X-ORIGINAL-URL:https://jekyllartists.com
X-WR-CALDESC:Events for Jekyll Island Arts Association
REFRESH-INTERVAL;VALUE=DURATION:PT1H
X-Robots-Tag:noindex
X-PUBLISHED-TTL:PT1H
BEGIN:VTIMEZONE
TZID:America/New_York
BEGIN:DAYLIGHT
TZOFFSETFROM:-0500
TZOFFSETTO:-0400
TZNAME:EDT
DTSTART:20240310T070000
END:DAYLIGHT
BEGIN:STANDARD
TZOFFSETFROM:-0400
TZOFFSETTO:-0500
TZNAME:EST
DTSTART:20241103T060000
END:STANDARD
BEGIN:DAYLIGHT
TZOFFSETFROM:-0500
TZOFFSETTO:-0400
TZNAME:EDT
DTSTART:20250309T070000
END:DAYLIGHT
BEGIN:STANDARD
TZOFFSETFROM:-0400
TZOFFSETTO:-0500
TZNAME:EST
DTSTART:20251102T060000
END:STANDARD
BEGIN:DAYLIGHT
TZOFFSETFROM:-0500
TZOFFSETTO:-0400
TZNAME:EDT
DTSTART:20260308T070000
END:DAYLIGHT
BEGIN:STANDARD
TZOFFSETFROM:-0400
TZOFFSETTO:-0500
TZNAME:EST
DTSTART:20261101T060000
END:STANDARD
END:VTIMEZONE
BEGIN:VEVENT
DTSTART;TZID=America/New_York:20250913T120000
DTEND;TZID=America/New_York:20250913T160000
DTSTAMP:20260424T031604
CREATED:20250823T182320Z
LAST-MODIFIED:20250823T182320Z
UID:10670-1757764800-1757779200@jekyllartists.com
SUMMARY:Book Signing - Sandy Malone
DESCRIPTION:
URL:https://jekyllartists.com/event/book-signing-sandy-malone/
LOCATION:Goodyear Cottage\, 321 Riverview Drive\, Jekyll Island\, GA\, 31527\, United States
CATEGORIES:Public Invited
END:VEVENT
BEGIN:VEVENT
DTSTART;TZID=America/New_York:20250913T120000
DTEND;TZID=America/New_York:20250913T160000
DTSTAMP:20260424T031604
CREATED:20250908T190156Z
LAST-MODIFIED:20250908T190238Z
UID:10705-1757764800-1757779200@jekyllartists.com
SUMMARY:Artists Meet & Greet
DESCRIPTION:Potter Jonathan Currier\nPhotographer Christine Dorrestein\nPhotographer Steve Kendall
URL:https://jekyllartists.com/event/artists-meet-greet/
LOCATION:Goodyear Cottage\, 321 Riverview Drive\, Jekyll Island\, GA\, 31527\, United States
CATEGORIES:Public Invited
END:VEVENT
BEGIN:VEVENT
DTSTART;TZID=America/New_York:20250918T120000
DTEND;TZID=America/New_York:20250918T160000
DTSTAMP:20260424T031604
CREATED:20250909T143007Z
LAST-MODIFIED:20250909T143407Z
UID:10714-1758196800-1758211200@jekyllartists.com
SUMMARY:Artist Meet & Greet
DESCRIPTION:Photographer Susan Lutz
URL:https://jekyllartists.com/event/meet-the-artist-2/
LOCATION:Goodyear Cottage\, 321 Riverview Drive\, Jekyll Island\, GA\, 31527\, United States
CATEGORIES:Public Invited
END:VEVENT
BEGIN:VEVENT
DTSTART;TZID=America/New_York:20250920T120000
DTEND;TZID=America/New_York:20250920T160000
DTSTAMP:20260424T031604
CREATED:20250908T190531Z
LAST-MODIFIED:20250908T190531Z
UID:10707-1758369600-1758384000@jekyllartists.com
SUMMARY:Artists Meet & Greet
DESCRIPTION:Photographer Jen Hatcher\nPhotographer George Hernandez
URL:https://jekyllartists.com/event/artists-meet-greet-2/
LOCATION:Goodyear Cottage\, 321 Riverview Drive\, Jekyll Island\, GA\, 31527\, United States
CATEGORIES:Public Invited
END:VEVENT
BEGIN:VEVENT
DTSTART;TZID=America/New_York:20250921T120000
DTEND;TZID=America/New_York:20250921T160000
DTSTAMP:20260424T031604
CREATED:20250909T143139Z
LAST-MODIFIED:20250909T143434Z
UID:10716-1758456000-1758470400@jekyllartists.com
SUMMARY:Artist Meet & Greet
DESCRIPTION:Photographer\, Chris Slack
URL:https://jekyllartists.com/event/meet-the-artist-3/
LOCATION:Goodyear Cottage\, 321 Riverview Drive\, Jekyll Island\, GA\, 31527\, United States
CATEGORIES:Public Invited
END:VEVENT
END:VCALENDAR