BEGIN:VCALENDAR
VERSION:2.0
PRODID:-//Jekyll Island Arts Association - ECPv6.15.20//NONSGML v1.0//EN
CALSCALE:GREGORIAN
METHOD:PUBLISH
X-ORIGINAL-URL:https://jekyllartists.com
X-WR-CALDESC:Events for Jekyll Island Arts Association
REFRESH-INTERVAL;VALUE=DURATION:PT1H
X-Robots-Tag:noindex
X-PUBLISHED-TTL:PT1H
BEGIN:VTIMEZONE
TZID:America/New_York
BEGIN:DAYLIGHT
TZOFFSETFROM:-0500
TZOFFSETTO:-0400
TZNAME:EDT
DTSTART:20250309T070000
END:DAYLIGHT
BEGIN:STANDARD
TZOFFSETFROM:-0400
TZOFFSETTO:-0500
TZNAME:EST
DTSTART:20251102T060000
END:STANDARD
BEGIN:DAYLIGHT
TZOFFSETFROM:-0500
TZOFFSETTO:-0400
TZNAME:EDT
DTSTART:20260308T070000
END:DAYLIGHT
BEGIN:STANDARD
TZOFFSETFROM:-0400
TZOFFSETTO:-0500
TZNAME:EST
DTSTART:20261101T060000
END:STANDARD
BEGIN:DAYLIGHT
TZOFFSETFROM:-0500
TZOFFSETTO:-0400
TZNAME:EDT
DTSTART:20270314T070000
END:DAYLIGHT
BEGIN:STANDARD
TZOFFSETFROM:-0400
TZOFFSETTO:-0500
TZNAME:EST
DTSTART:20271107T060000
END:STANDARD
END:VTIMEZONE
BEGIN:VEVENT
DTSTART;TZID=America/New_York:20260117T103000
DTEND;TZID=America/New_York:20260117T120000
DTSTAMP:20260424T023109
CREATED:20260102T215228Z
LAST-MODIFIED:20260102T215228Z
UID:10887-1768645800-1768651200@jekyllartists.com
SUMMARY:Member Orientation
DESCRIPTION:There will be an Arts Association Orientation in Goodyear Cottage at 10.30am  \nJoin Beverly\, Carla & Margaret to hear what JIAA is all about\, ask your questions\, find out how to login\, enroll for a class\, teach class\, join a Guild\, enter items for the Goodyear shop\, apply to have a gallery show\, volunteer and so much more. \n Be ready for our Arts Festival\, March 6-8. \nThe more people who become involved\, the more fun it is for everyone! \n 
URL:https://jekyllartists.com/event/member-orientation-2/
LOCATION:Goodyear Cottage\, 321 Riverview Drive\, Jekyll Island\, GA\, 31527\, United States
CATEGORIES:Orientation
END:VEVENT
END:VCALENDAR