BEGIN:VCALENDAR
VERSION:2.0
PRODID:-//Jekyll Island Arts Association - ECPv6.15.20//NONSGML v1.0//EN
CALSCALE:GREGORIAN
METHOD:PUBLISH
X-WR-CALNAME:Jekyll Island Arts Association
X-ORIGINAL-URL:https://jekyllartists.com
X-WR-CALDESC:Events for Jekyll Island Arts Association
REFRESH-INTERVAL;VALUE=DURATION:PT1H
X-Robots-Tag:noindex
X-PUBLISHED-TTL:PT1H
BEGIN:VTIMEZONE
TZID:UTC
BEGIN:STANDARD
TZOFFSETFROM:+0000
TZOFFSETTO:+0000
TZNAME:UTC
DTSTART:20200101T000000
END:STANDARD
END:VTIMEZONE
BEGIN:VEVENT
DTSTART;TZID=UTC:20220501T100000
DTEND;TZID=UTC:20220501T160000
DTSTAMP:20260424T003544
CREATED:20220310T015130Z
LAST-MODIFIED:20220507T224105Z
UID:7652-1651399200-1651420800@jekyllartists.com
SUMMARY:May Gallery Show Opens
DESCRIPTION:Artists: Jean Slayton-Collins- Photography\, Mike Sluder – Sculpture
URL:https://jekyllartists.com/event/may-gallery-show-opens-4/
CATEGORIES:Gallery Exhibition
END:VEVENT
BEGIN:VEVENT
DTSTART;TZID=UTC:20220430T160000
DTEND;TZID=UTC:20220430T160000
DTSTAMP:20260424T003544
CREATED:20220325T210140Z
LAST-MODIFIED:20220325T210140Z
UID:7686-1651334400-1651334400@jekyllartists.com
SUMMARY:April Gallery Show Closes
DESCRIPTION:
URL:https://jekyllartists.com/event/april-gallery-show-closes-3/
CATEGORIES:Gallery Exhibition
END:VEVENT
BEGIN:VEVENT
DTSTART;TZID=UTC:20220401T120000
DTEND;TZID=UTC:20220401T160000
DTSTAMP:20260424T003544
CREATED:20220310T015020Z
LAST-MODIFIED:20220319T224452Z
UID:7650-1648814400-1648828800@jekyllartists.com
SUMMARY:April Gallery Show Opens
DESCRIPTION:
URL:https://jekyllartists.com/event/april-gallery-show-opens-4/
CATEGORIES:Gallery Exhibition
END:VEVENT
BEGIN:VEVENT
DTSTART;TZID=UTC:20220331T160000
DTEND;TZID=UTC:20220331T160000
DTSTAMP:20260424T003544
CREATED:20220325T210241Z
LAST-MODIFIED:20220325T210241Z
UID:7688-1648742400-1648742400@jekyllartists.com
SUMMARY:March Gallery Show Closes
DESCRIPTION:
URL:https://jekyllartists.com/event/march-gallery-show-closes-3/
CATEGORIES:Gallery Exhibition
END:VEVENT
BEGIN:VEVENT
DTSTART;TZID=UTC:20220228T160000
DTEND;TZID=UTC:20220228T160000
DTSTAMP:20260424T003544
CREATED:20220129T235047Z
LAST-MODIFIED:20220129T235047Z
UID:7520-1646064000-1646064000@jekyllartists.com
SUMMARY:February Gallery Show Closes
DESCRIPTION:
URL:https://jekyllartists.com/event/february-gallery-show-closes-5/
CATEGORIES:Gallery Exhibition
END:VEVENT
BEGIN:VEVENT
DTSTART;TZID=UTC:20220201T120000
DTEND;TZID=UTC:20220201T160000
DTSTAMP:20260424T003544
CREATED:20211101T184317Z
LAST-MODIFIED:20211101T184317Z
UID:7379-1643716800-1643731200@jekyllartists.com
SUMMARY:February Gallery Show Opens
DESCRIPTION:
URL:https://jekyllartists.com/event/february-gallery-show-opens-5/
CATEGORIES:Gallery Exhibition
END:VEVENT
BEGIN:VEVENT
DTSTART;TZID=UTC:20220131T160000
DTEND;TZID=UTC:20220131T160000
DTSTAMP:20260424T003544
CREATED:20211101T184109Z
LAST-MODIFIED:20211101T184109Z
UID:7377-1643644800-1643644800@jekyllartists.com
SUMMARY:January Gallery Show Closes
DESCRIPTION:
URL:https://jekyllartists.com/event/january-gallery-show-closes-5/
CATEGORIES:Gallery Exhibition
END:VEVENT
BEGIN:VEVENT
DTSTART;TZID=UTC:20211231T100000
DTEND;TZID=UTC:20211231T160000
DTSTAMP:20260424T003544
CREATED:20211101T184008Z
LAST-MODIFIED:20211229T195335Z
UID:7375-1640944800-1640966400@jekyllartists.com
SUMMARY:January Gallery Show Opens
DESCRIPTION:
URL:https://jekyllartists.com/event/january-gallery-show-opens-5/
CATEGORIES:Gallery Exhibition
END:VEVENT
BEGIN:VEVENT
DTSTART;TZID=UTC:20211121T160000
DTEND;TZID=UTC:20211121T160000
DTSTAMP:20260424T003544
CREATED:20210719T225939Z
LAST-MODIFIED:20210719T225939Z
UID:7259-1637510400-1637510400@jekyllartists.com
SUMMARY:November Gallery Show Closes
DESCRIPTION:
URL:https://jekyllartists.com/event/november-gallery-show-closes-4/
CATEGORIES:Gallery Exhibition
END:VEVENT
BEGIN:VEVENT
DTSTART;TZID=UTC:20211101T120000
DTEND;TZID=UTC:20211101T160000
DTSTAMP:20260424T003544
CREATED:20210719T225702Z
LAST-MODIFIED:20210719T225702Z
UID:7254-1635768000-1635782400@jekyllartists.com
SUMMARY:November Gallery Show Opens
DESCRIPTION:
URL:https://jekyllartists.com/event/november-gallery-show-opens-4/
CATEGORIES:Gallery Exhibition
END:VEVENT
BEGIN:VEVENT
DTSTART;TZID=UTC:20211031T160000
DTEND;TZID=UTC:20211031T160000
DTSTAMP:20260424T003544
CREATED:20210719T230202Z
LAST-MODIFIED:20210719T230202Z
UID:7261-1635696000-1635696000@jekyllartists.com
SUMMARY:October Gallery Show Closes
DESCRIPTION:
URL:https://jekyllartists.com/event/october-gallery-show-closes-3/
CATEGORIES:Gallery Exhibition
END:VEVENT
BEGIN:VEVENT
DTSTART;TZID=UTC:20211001T120000
DTEND;TZID=UTC:20211001T160000
DTSTAMP:20260424T003544
CREATED:20210719T225348Z
LAST-MODIFIED:20210719T225348Z
UID:7249-1633089600-1633104000@jekyllartists.com
SUMMARY:October Gallery Show Opens
DESCRIPTION:
URL:https://jekyllartists.com/event/october-gallery-show-opens-4/
CATEGORIES:Gallery Exhibition
END:VEVENT
BEGIN:VEVENT
DTSTART;TZID=UTC:20210930T160000
DTEND;TZID=UTC:20210930T160000
DTSTAMP:20260424T003544
CREATED:20210719T225248Z
LAST-MODIFIED:20210719T225248Z
UID:7247-1633017600-1633017600@jekyllartists.com
SUMMARY:September Gallery Show Closes
DESCRIPTION:
URL:https://jekyllartists.com/event/september-gallery-show-closes-2/
CATEGORIES:Gallery Exhibition
END:VEVENT
BEGIN:VEVENT
DTSTART;TZID=UTC:20210905T130000
DTEND;TZID=UTC:20210905T150000
DTSTAMP:20260424T003544
CREATED:20210719T225108Z
LAST-MODIFIED:20210901T030523Z
UID:7245-1630846800-1630854000@jekyllartists.com
SUMMARY:Meet the September Artists
DESCRIPTION:
URL:https://jekyllartists.com/event/meet-the-september-artists/
CATEGORIES:Gallery Exhibition
END:VEVENT
BEGIN:VEVENT
DTSTART;TZID=UTC:20210901T120000
DTEND;TZID=UTC:20210901T160000
DTSTAMP:20260424T003544
CREATED:20210719T224929Z
LAST-MODIFIED:20210719T224929Z
UID:7243-1630497600-1630512000@jekyllartists.com
SUMMARY:September Gallery Show Opens
DESCRIPTION:
URL:https://jekyllartists.com/event/september-gallery-show-opens/
CATEGORIES:Gallery Exhibition
END:VEVENT
BEGIN:VEVENT
DTSTART;TZID=UTC:20210831T160000
DTEND;TZID=UTC:20210831T160000
DTSTAMP:20260424T003544
CREATED:20210719T224817Z
LAST-MODIFIED:20210719T224817Z
UID:7241-1630425600-1630425600@jekyllartists.com
SUMMARY:August Gallery Show Closes
DESCRIPTION:
URL:https://jekyllartists.com/event/august-gallery-show-closes/
CATEGORIES:Gallery Exhibition
END:VEVENT
BEGIN:VEVENT
DTSTART;TZID=UTC:20210801T100000
DTEND;TZID=UTC:20210801T160000
DTSTAMP:20260424T003544
CREATED:20210713T183959Z
LAST-MODIFIED:20210713T183959Z
UID:7226-1627812000-1627833600@jekyllartists.com
SUMMARY:August Gallery Show Opens
DESCRIPTION:
URL:https://jekyllartists.com/event/august-gallery-show-opens-2/
CATEGORIES:Gallery Exhibition
END:VEVENT
BEGIN:VEVENT
DTSTART;TZID=UTC:20210731T160000
DTEND;TZID=UTC:20210731T160000
DTSTAMP:20260424T003544
CREATED:20210522T231758Z
LAST-MODIFIED:20210522T231758Z
UID:7200-1627747200-1627747200@jekyllartists.com
SUMMARY:July Gallery Show Closes
DESCRIPTION:
URL:https://jekyllartists.com/event/july-gallery-show-closes-4/
CATEGORIES:Gallery Exhibition
END:VEVENT
BEGIN:VEVENT
DTSTART;TZID=UTC:20210701T120000
DTEND;TZID=UTC:20210701T160000
DTSTAMP:20260424T003544
CREATED:20210522T231650Z
LAST-MODIFIED:20210522T231650Z
UID:7198-1625140800-1625155200@jekyllartists.com
SUMMARY:July Gallery Show Opens
DESCRIPTION:
URL:https://jekyllartists.com/event/july-gallery-show-opens-4/
CATEGORIES:Gallery Exhibition
END:VEVENT
BEGIN:VEVENT
DTSTART;TZID=UTC:20210630T160000
DTEND;TZID=UTC:20210630T160000
DTSTAMP:20260424T003544
CREATED:20210522T231554Z
LAST-MODIFIED:20210522T231554Z
UID:7196-1625068800-1625068800@jekyllartists.com
SUMMARY:June Gallery Show Closes
DESCRIPTION:
URL:https://jekyllartists.com/event/june-gallery-show-closes-4/
CATEGORIES:Gallery Exhibition
END:VEVENT
BEGIN:VEVENT
DTSTART;TZID=UTC:20210601T120000
DTEND;TZID=UTC:20210601T160000
DTSTAMP:20260424T003544
CREATED:20210522T230535Z
LAST-MODIFIED:20210522T230535Z
UID:7190-1622548800-1622563200@jekyllartists.com
SUMMARY:June Gallery Show Opens
DESCRIPTION:
URL:https://jekyllartists.com/event/june-gallery-show-opens-4/
CATEGORIES:Gallery Exhibition
END:VEVENT
BEGIN:VEVENT
DTSTART;TZID=UTC:20210531T160000
DTEND;TZID=UTC:20210531T160000
DTSTAMP:20260424T003544
CREATED:20210522T230238Z
LAST-MODIFIED:20210522T230238Z
UID:7188-1622476800-1622476800@jekyllartists.com
SUMMARY:May Gallery Show Closes
DESCRIPTION:
URL:https://jekyllartists.com/event/may-gallery-show-closes-3/
CATEGORIES:Gallery Exhibition
END:VEVENT
BEGIN:VEVENT
DTSTART;TZID=UTC:20210501T120000
DTEND;TZID=UTC:20210501T160000
DTSTAMP:20260424T003544
CREATED:20210427T220446Z
LAST-MODIFIED:20210427T220446Z
UID:7172-1619870400-1619884800@jekyllartists.com
SUMMARY:May Gallery Show Opens
DESCRIPTION:
URL:https://jekyllartists.com/event/may-gallery-show-opens-3/
CATEGORIES:Gallery Exhibition
END:VEVENT
BEGIN:VEVENT
DTSTART;TZID=UTC:20210430T160000
DTEND;TZID=UTC:20210430T160000
DTSTAMP:20260424T003544
CREATED:20210427T220206Z
LAST-MODIFIED:20210427T220206Z
UID:7170-1619798400-1619798400@jekyllartists.com
SUMMARY:April Gallery Show Closes
DESCRIPTION:
URL:https://jekyllartists.com/event/april-gallery-show-closes-2/
CATEGORIES:Gallery Exhibition
END:VEVENT
BEGIN:VEVENT
DTSTART;TZID=UTC:20210401T120000
DTEND;TZID=UTC:20210401T160000
DTSTAMP:20260424T003544
CREATED:20210228T015617Z
LAST-MODIFIED:20210228T015617Z
UID:7138-1617278400-1617292800@jekyllartists.com
SUMMARY:April Gallery Show Opens
DESCRIPTION:
URL:https://jekyllartists.com/event/april-gallery-show-opens-3/
CATEGORIES:Gallery Exhibition
END:VEVENT
BEGIN:VEVENT
DTSTART;TZID=UTC:20210331T160000
DTEND;TZID=UTC:20210331T160000
DTSTAMP:20260424T003544
CREATED:20210228T015520Z
LAST-MODIFIED:20210228T015520Z
UID:7136-1617206400-1617206400@jekyllartists.com
SUMMARY:March Gallery Show Closes
DESCRIPTION:
URL:https://jekyllartists.com/event/march-gallery-show-closes-2/
CATEGORIES:Gallery Exhibition
END:VEVENT
BEGIN:VEVENT
DTSTART;TZID=UTC:20210301T120000
DTEND;TZID=UTC:20210301T160000
DTSTAMP:20260424T003544
CREATED:20210228T015217Z
LAST-MODIFIED:20210228T015217Z
UID:7130-1614600000-1614614400@jekyllartists.com
SUMMARY:March Gallery Show Opens
DESCRIPTION:
URL:https://jekyllartists.com/event/march-gallery-show-opens/
CATEGORIES:Gallery Exhibition
END:VEVENT
BEGIN:VEVENT
DTSTART;TZID=UTC:20210228T160000
DTEND;TZID=UTC:20210228T160000
DTSTAMP:20260424T003544
CREATED:20201230T214120Z
LAST-MODIFIED:20201230T214120Z
UID:7049-1614528000-1614528000@jekyllartists.com
SUMMARY:February Gallery Show Closes
DESCRIPTION:
URL:https://jekyllartists.com/event/february-gallery-show-closes-4/
CATEGORIES:Gallery Exhibition
END:VEVENT
BEGIN:VEVENT
DTSTART;TZID=UTC:20210131T120000
DTEND;TZID=UTC:20210131T160000
DTSTAMP:20260424T003544
CREATED:20201230T213955Z
LAST-MODIFIED:20210131T204028Z
UID:7047-1612094400-1612108800@jekyllartists.com
SUMMARY:February Gallery Show Opens
DESCRIPTION:
URL:https://jekyllartists.com/event/february-gallery-show-opens-4/
CATEGORIES:Gallery Exhibition
END:VEVENT
BEGIN:VEVENT
DTSTART;TZID=UTC:20210130T160000
DTEND;TZID=UTC:20210130T160000
DTSTAMP:20260424T003544
CREATED:20201230T213823Z
LAST-MODIFIED:20210131T203947Z
UID:7045-1612022400-1612022400@jekyllartists.com
SUMMARY:January Gallery Show Closes
DESCRIPTION:
URL:https://jekyllartists.com/event/january-gallery-show-closes-4/
CATEGORIES:Gallery Exhibition
END:VEVENT
END:VCALENDAR