BEGIN:VCALENDAR
VERSION:2.0
PRODID:-//Jekyll Island Arts Association - ECPv6.15.20//NONSGML v1.0//EN
CALSCALE:GREGORIAN
METHOD:PUBLISH
X-WR-CALNAME:Jekyll Island Arts Association
X-ORIGINAL-URL:https://jekyllartists.com
X-WR-CALDESC:Events for Jekyll Island Arts Association
REFRESH-INTERVAL;VALUE=DURATION:PT1H
X-Robots-Tag:noindex
X-PUBLISHED-TTL:PT1H
BEGIN:VTIMEZONE
TZID:UTC
BEGIN:STANDARD
TZOFFSETFROM:+0000
TZOFFSETTO:+0000
TZNAME:UTC
DTSTART:20170101T000000
END:STANDARD
END:VTIMEZONE
BEGIN:VTIMEZONE
TZID:America/New_York
BEGIN:DAYLIGHT
TZOFFSETFROM:-0500
TZOFFSETTO:-0400
TZNAME:EDT
DTSTART:20190310T070000
END:DAYLIGHT
BEGIN:STANDARD
TZOFFSETFROM:-0400
TZOFFSETTO:-0500
TZNAME:EST
DTSTART:20191103T060000
END:STANDARD
BEGIN:DAYLIGHT
TZOFFSETFROM:-0500
TZOFFSETTO:-0400
TZNAME:EDT
DTSTART:20200308T070000
END:DAYLIGHT
BEGIN:STANDARD
TZOFFSETFROM:-0400
TZOFFSETTO:-0500
TZNAME:EST
DTSTART:20201101T060000
END:STANDARD
BEGIN:DAYLIGHT
TZOFFSETFROM:-0500
TZOFFSETTO:-0400
TZNAME:EDT
DTSTART:20210314T070000
END:DAYLIGHT
BEGIN:STANDARD
TZOFFSETFROM:-0400
TZOFFSETTO:-0500
TZNAME:EST
DTSTART:20211107T060000
END:STANDARD
END:VTIMEZONE
BEGIN:VEVENT
DTSTART;TZID=UTC:20200604T120000
DTEND;TZID=UTC:20200604T160000
DTSTAMP:20260424T074013
CREATED:20200603T175958Z
LAST-MODIFIED:20200603T180221Z
UID:6770-1591272000-1591286400@jekyllartists.com
SUMMARY:June Gallery Show Opens
DESCRIPTION:
URL:https://jekyllartists.com/event/june-gallery-show-opens-3/
CATEGORIES:Gallery Exhibition
END:VEVENT
BEGIN:VEVENT
DTSTART;VALUE=DATE:20200317
DTEND;VALUE=DATE:20200401
DTSTAMP:20260424T074013
CREATED:20200122T203307Z
LAST-MODIFIED:20200318T192529Z
UID:6331-1584403200-1585699199@jekyllartists.com
SUMMARY:Gallery and Shop Closed
DESCRIPTION:It is with great sadness that the board of the Jekyll Island Arts Association has decided to follow the lead  of the Jekyll Island Authority and close Goodyear Cottage.  We will close beginning Tuesday\, March 17th until the further notice.  We take this action to protect our volunteers\, our members\, as well as visitors to our island during the Covid19 crisis.
URL:https://jekyllartists.com/event/juried-art-show-closes/
CATEGORIES:Gallery Exhibition
END:VEVENT
BEGIN:VEVENT
DTSTART;TZID=America/New_York:20200305T160000
DTEND;TZID=America/New_York:20200305T160000
DTSTAMP:20260424T074013
CREATED:20191201T214702Z
LAST-MODIFIED:20200130T003232Z
UID:6207-1583424000-1583424000@jekyllartists.com
SUMMARY:February Gallery Show Closes
DESCRIPTION:
URL:https://jekyllartists.com/event/february-gallery-show-closes-3/
CATEGORIES:Gallery Exhibition
END:VEVENT
BEGIN:VEVENT
DTSTART;TZID=UTC:20200201T100000
DTEND;TZID=UTC:20200201T160000
DTSTAMP:20260424T074013
CREATED:20191201T214314Z
LAST-MODIFIED:20191201T214314Z
UID:6203-1580551200-1580572800@jekyllartists.com
SUMMARY:February Gallery Show Opens
DESCRIPTION:
URL:https://jekyllartists.com/event/february-gallery-show-opens-3/
CATEGORIES:Gallery Exhibition
END:VEVENT
BEGIN:VEVENT
DTSTART;TZID=UTC:20200131T120000
DTEND;TZID=UTC:20200131T160000
DTSTAMP:20260424T074013
CREATED:20191201T214145Z
LAST-MODIFIED:20191201T214540Z
UID:6201-1580472000-1580486400@jekyllartists.com
SUMMARY:January Gallery Show Closes
DESCRIPTION:
URL:https://jekyllartists.com/event/january-gallery-show-closes-3/
CATEGORIES:Gallery Exhibition
END:VEVENT
BEGIN:VEVENT
DTSTART;TZID=UTC:20200102T120000
DTEND;TZID=UTC:20200102T160000
DTSTAMP:20260424T074013
CREATED:20191201T213810Z
LAST-MODIFIED:20191201T213810Z
UID:6197-1577966400-1577980800@jekyllartists.com
SUMMARY:January Gallery Show Opens
DESCRIPTION:
URL:https://jekyllartists.com/event/january-gallery-show-opens-3/
CATEGORIES:Gallery Exhibition
END:VEVENT
BEGIN:VEVENT
DTSTART;TZID=UTC:20191125T100000
DTEND;TZID=UTC:20191125T160000
DTSTAMP:20260424T074013
CREATED:20190508T004358Z
LAST-MODIFIED:20191011T190640Z
UID:5704-1574676000-1574697600@jekyllartists.com
SUMMARY:November Gallery Show Closes
DESCRIPTION:
URL:https://jekyllartists.com/event/november-gallery-show-closes-2/
CATEGORIES:Gallery Exhibition
END:VEVENT
BEGIN:VEVENT
DTSTART;TZID=UTC:20191103T130000
DTEND;TZID=UTC:20191103T150000
DTSTAMP:20260424T074013
CREATED:20190508T004010Z
LAST-MODIFIED:20190508T004114Z
UID:5699-1572786000-1572793200@jekyllartists.com
SUMMARY:November Gallery Show Reception
DESCRIPTION:
URL:https://jekyllartists.com/event/november-gallery-show-opens-2/
CATEGORIES:Gallery Exhibition
END:VEVENT
BEGIN:VEVENT
DTSTART;TZID=UTC:20191101T100000
DTEND;TZID=UTC:20191101T160000
DTSTAMP:20260424T074013
CREATED:20190508T004229Z
LAST-MODIFIED:20190508T004229Z
UID:5702-1572602400-1572624000@jekyllartists.com
SUMMARY:November Gallery Show Opens
DESCRIPTION:
URL:https://jekyllartists.com/event/november-gallery-show-opens-3/
CATEGORIES:Gallery Exhibition
END:VEVENT
BEGIN:VEVENT
DTSTART;TZID=UTC:20191031T100000
DTEND;TZID=UTC:20191031T160000
DTSTAMP:20260424T074013
CREATED:20190508T003430Z
LAST-MODIFIED:20190508T003430Z
UID:5694-1572516000-1572537600@jekyllartists.com
SUMMARY:October Gallery Show Closes
DESCRIPTION:
URL:https://jekyllartists.com/event/october-gallery-show-closes-2/
CATEGORIES:Gallery Exhibition
END:VEVENT
BEGIN:VEVENT
DTSTART;TZID=UTC:20191006T130000
DTEND;TZID=UTC:20191006T150000
DTSTAMP:20260424T074013
CREATED:20190508T003824Z
LAST-MODIFIED:20190508T003844Z
UID:5697-1570366800-1570374000@jekyllartists.com
SUMMARY:October Gallery Show Reception
DESCRIPTION:
URL:https://jekyllartists.com/event/october-gallery-show-reception-2/
CATEGORIES:Gallery Exhibition,Public Invited,Reception
END:VEVENT
BEGIN:VEVENT
DTSTART;TZID=UTC:20191001T100000
DTEND;TZID=UTC:20191001T160000
DTSTAMP:20260424T074013
CREATED:20190508T003256Z
LAST-MODIFIED:20190508T003256Z
UID:5692-1569924000-1569945600@jekyllartists.com
SUMMARY:October Gallery Show Opens
DESCRIPTION:
URL:https://jekyllartists.com/event/october-gallery-show-opens-2/
CATEGORIES:Gallery Exhibition
END:VEVENT
BEGIN:VEVENT
DTSTART;TZID=UTC:20190831T100000
DTEND;TZID=UTC:20190831T160000
DTSTAMP:20260424T074013
CREATED:20190508T000223Z
LAST-MODIFIED:20190626T193924Z
UID:5684-1567245600-1567267200@jekyllartists.com
SUMMARY:August Gallery Show Closes
DESCRIPTION:
URL:https://jekyllartists.com/event/august-september-gallery-show-closes/
CATEGORIES:Gallery Exhibition
END:VEVENT
BEGIN:VEVENT
DTSTART;TZID=UTC:20190804T130000
DTEND;TZID=UTC:20190804T150000
DTSTAMP:20260424T074013
CREATED:20190508T000401Z
LAST-MODIFIED:20190626T193749Z
UID:5685-1564923600-1564930800@jekyllartists.com
SUMMARY:August Gallery Show Reception
DESCRIPTION:
URL:https://jekyllartists.com/event/august-september-gallery-show-reception/
CATEGORIES:Gallery Exhibition,Public Invited,Reception
END:VEVENT
BEGIN:VEVENT
DTSTART;TZID=UTC:20190801T100000
DTEND;TZID=UTC:20190801T160000
DTSTAMP:20260424T074013
CREATED:20190508T000013Z
LAST-MODIFIED:20190626T193830Z
UID:5681-1564653600-1564675200@jekyllartists.com
SUMMARY:August Gallery Show Opens
DESCRIPTION:
URL:https://jekyllartists.com/event/august-september-gallery-show-opens/
CATEGORIES:Gallery Exhibition
END:VEVENT
BEGIN:VEVENT
DTSTART;TZID=UTC:20190731T100000
DTEND;TZID=UTC:20190731T160000
DTSTAMP:20260424T074013
CREATED:20190507T235743Z
LAST-MODIFIED:20190626T194250Z
UID:5679-1564567200-1564588800@jekyllartists.com
SUMMARY:July Gallery Show Closes
DESCRIPTION:
URL:https://jekyllartists.com/event/july-gallery-show-closes-2/
CATEGORIES:Gallery Exhibition
END:VEVENT
BEGIN:VEVENT
DTSTART;TZID=UTC:20190707T130000
DTEND;TZID=UTC:20190707T150000
DTSTAMP:20260424T074013
CREATED:20190507T235537Z
LAST-MODIFIED:20190507T235537Z
UID:5677-1562504400-1562511600@jekyllartists.com
SUMMARY:July Gallery Show Reception
DESCRIPTION:
URL:https://jekyllartists.com/event/july-gallery-show-reception-2/
CATEGORIES:Gallery Exhibition,Public Invited,Reception
END:VEVENT
BEGIN:VEVENT
DTSTART;TZID=UTC:20190701T100000
DTEND;TZID=UTC:20190701T160000
DTSTAMP:20260424T074013
CREATED:20190507T235345Z
LAST-MODIFIED:20190507T235345Z
UID:5675-1561975200-1561996800@jekyllartists.com
SUMMARY:July Gallery Show Opens
DESCRIPTION:
URL:https://jekyllartists.com/event/july-gallery-show-opens-2/
CATEGORIES:Gallery Exhibition
END:VEVENT
BEGIN:VEVENT
DTSTART;TZID=UTC:20190630T100000
DTEND;TZID=UTC:20190630T160000
DTSTAMP:20260424T074013
CREATED:20181210T211942Z
LAST-MODIFIED:20181210T211942Z
UID:5160-1561888800-1561910400@jekyllartists.com
SUMMARY:June Gallery Show Closes
DESCRIPTION:
URL:https://jekyllartists.com/event/june-gallery-show-closes-2/
CATEGORIES:Gallery Exhibition
END:VEVENT
BEGIN:VEVENT
DTSTART;TZID=UTC:20190601T100000
DTEND;TZID=UTC:20190601T160000
DTSTAMP:20260424T074013
CREATED:20181210T211653Z
LAST-MODIFIED:20181210T211653Z
UID:5156-1559383200-1559404800@jekyllartists.com
SUMMARY:June Gallery Show Opens
DESCRIPTION:
URL:https://jekyllartists.com/event/june-gallery-show-opens-2/
CATEGORIES:Gallery Exhibition
END:VEVENT
BEGIN:VEVENT
DTSTART;TZID=UTC:20190531T120000
DTEND;TZID=UTC:20190531T160000
DTSTAMP:20260424T074013
CREATED:20181210T211007Z
LAST-MODIFIED:20181210T211007Z
UID:5154-1559304000-1559318400@jekyllartists.com
SUMMARY:May Gallery Show Closes
DESCRIPTION:
URL:https://jekyllartists.com/event/may-gallery-show-closes-2/
CATEGORIES:Gallery Exhibition
END:VEVENT
BEGIN:VEVENT
DTSTART;TZID=UTC:20190501T120000
DTEND;TZID=UTC:20190501T160000
DTSTAMP:20260424T074013
CREATED:20181210T210732Z
LAST-MODIFIED:20181210T210732Z
UID:5150-1556712000-1556726400@jekyllartists.com
SUMMARY:May Gallery Show Opens
DESCRIPTION:
URL:https://jekyllartists.com/event/may-gallery-show-opens-2/
CATEGORIES:Gallery Exhibition
END:VEVENT
BEGIN:VEVENT
DTSTART;TZID=UTC:20190430T120000
DTEND;TZID=UTC:20190430T160000
DTSTAMP:20260424T074013
CREATED:20181210T210057Z
LAST-MODIFIED:20181210T210057Z
UID:5142-1556625600-1556640000@jekyllartists.com
SUMMARY:April Gallery Show Closes
DESCRIPTION:
URL:https://jekyllartists.com/event/april-gallery-show-closes/
CATEGORIES:Gallery Exhibition
END:VEVENT
BEGIN:VEVENT
DTSTART;TZID=UTC:20190401T000000
DTEND;TZID=UTC:20190401T160000
DTSTAMP:20260424T074013
CREATED:20181210T205846Z
LAST-MODIFIED:20181210T205846Z
UID:5138-1554076800-1554134400@jekyllartists.com
SUMMARY:April Gallery Show Opens
DESCRIPTION:
URL:https://jekyllartists.com/event/april-gallery-show-opens-2/
CATEGORIES:Gallery Exhibition
END:VEVENT
BEGIN:VEVENT
DTSTART;TZID=UTC:20190301T120000
DTEND;TZID=UTC:20190301T160000
DTSTAMP:20260424T074013
CREATED:20181210T204529Z
LAST-MODIFIED:20181210T204529Z
UID:5134-1551441600-1551456000@jekyllartists.com
SUMMARY:February Gallery Show Closes
DESCRIPTION:
URL:https://jekyllartists.com/event/february-gallery-show-closes-2/
CATEGORIES:Gallery Exhibition
END:VEVENT
BEGIN:VEVENT
DTSTART;TZID=UTC:20190201T120000
DTEND;TZID=UTC:20190201T160000
DTSTAMP:20260424T074013
CREATED:20181210T203534Z
LAST-MODIFIED:20181210T203534Z
UID:5128-1549022400-1549036800@jekyllartists.com
SUMMARY:February Gallery Show Opens
DESCRIPTION:
URL:https://jekyllartists.com/event/february-gallery-show-opens-2/
CATEGORIES:Gallery Exhibition
END:VEVENT
BEGIN:VEVENT
DTSTART;TZID=UTC:20190131T120000
DTEND;TZID=UTC:20190131T160000
DTSTAMP:20260424T074013
CREATED:20181210T203420Z
LAST-MODIFIED:20181210T203420Z
UID:5126-1548936000-1548950400@jekyllartists.com
SUMMARY:January Gallery Show Closes
DESCRIPTION:
URL:https://jekyllartists.com/event/january-gallery-show-closes-2/
CATEGORIES:Gallery Exhibition
END:VEVENT
BEGIN:VEVENT
DTSTART;TZID=UTC:20190103T120000
DTEND;TZID=UTC:20190103T160000
DTSTAMP:20260424T074013
CREATED:20181210T202751Z
LAST-MODIFIED:20181210T202751Z
UID:5122-1546516800-1546531200@jekyllartists.com
SUMMARY:January Gallery Show Opens
DESCRIPTION:
URL:https://jekyllartists.com/event/january-gallery-show-opens-2/
CATEGORIES:Gallery Exhibition
END:VEVENT
BEGIN:VEVENT
DTSTART;TZID=UTC:20181230T100000
DTEND;TZID=UTC:20181230T160000
DTSTAMP:20260424T074013
CREATED:20180720T193735Z
LAST-MODIFIED:20180720T193924Z
UID:4637-1546164000-1546185600@jekyllartists.com
SUMMARY:Merry Artists Market Closes
DESCRIPTION:
URL:https://jekyllartists.com/event/merry-artists-market-closes/
CATEGORIES:Gallery Exhibition
END:VEVENT
BEGIN:VEVENT
DTSTART;TZID=UTC:20181123T120000
DTEND;TZID=UTC:20181123T160000
DTSTAMP:20260424T074013
CREATED:20180128T025146Z
LAST-MODIFIED:20180720T193424Z
UID:3365-1542974400-1542988800@jekyllartists.com
SUMMARY:Merry Artists Market Opens
DESCRIPTION:
URL:https://jekyllartists.com/event/merry-artists-market-opens-tentative-date/
CATEGORIES:Gallery Exhibition
END:VEVENT
END:VCALENDAR