BEGIN:VCALENDAR
VERSION:2.0
PRODID:-//Jekyll Island Arts Association - ECPv6.15.20//NONSGML v1.0//EN
CALSCALE:GREGORIAN
METHOD:PUBLISH
X-WR-CALNAME:Jekyll Island Arts Association
X-ORIGINAL-URL:https://jekyllartists.com
X-WR-CALDESC:Events for Jekyll Island Arts Association
REFRESH-INTERVAL;VALUE=DURATION:PT1H
X-Robots-Tag:noindex
X-PUBLISHED-TTL:PT1H
BEGIN:VTIMEZONE
TZID:UTC
BEGIN:STANDARD
TZOFFSETFROM:+0000
TZOFFSETTO:+0000
TZNAME:UTC
DTSTART:20170101T000000
END:STANDARD
END:VTIMEZONE
BEGIN:VTIMEZONE
TZID:America/New_York
BEGIN:DAYLIGHT
TZOFFSETFROM:-0500
TZOFFSETTO:-0400
TZNAME:EDT
DTSTART:20190310T070000
END:DAYLIGHT
BEGIN:STANDARD
TZOFFSETFROM:-0400
TZOFFSETTO:-0500
TZNAME:EST
DTSTART:20191103T060000
END:STANDARD
BEGIN:DAYLIGHT
TZOFFSETFROM:-0500
TZOFFSETTO:-0400
TZNAME:EDT
DTSTART:20200308T070000
END:DAYLIGHT
BEGIN:STANDARD
TZOFFSETFROM:-0400
TZOFFSETTO:-0500
TZNAME:EST
DTSTART:20201101T060000
END:STANDARD
BEGIN:DAYLIGHT
TZOFFSETFROM:-0500
TZOFFSETTO:-0400
TZNAME:EDT
DTSTART:20210314T070000
END:DAYLIGHT
BEGIN:STANDARD
TZOFFSETFROM:-0400
TZOFFSETTO:-0500
TZNAME:EST
DTSTART:20211107T060000
END:STANDARD
END:VTIMEZONE
BEGIN:VEVENT
DTSTART;TZID=UTC:20221124T000000
DTEND;TZID=UTC:20221124T235900
DTSTAMP:20260423T194602
CREATED:20220527T213659Z
LAST-MODIFIED:20221111T173845Z
UID:7791-1669248000-1669334340@jekyllartists.com
SUMMARY:Happy Thanksgiving - Gallery Closed Today
DESCRIPTION:
URL:https://jekyllartists.com/event/happy-thanksgiving-gallery-closed-today/
CATEGORIES:Gallery Closed
END:VEVENT
BEGIN:VEVENT
DTSTART;TZID=UTC:20221121T080000
DTEND;TZID=UTC:20221123T170000
DTSTAMP:20260423T194602
CREATED:20221121T211436Z
LAST-MODIFIED:20221121T211436Z
UID:8394-1669017600-1669222800@jekyllartists.com
SUMMARY:Shop Closed for Merry Artist Market Staging
DESCRIPTION:We are closed while the elves get Goodyear Cottage ready for Merry Artist Market.  Please come see us opening day\, November 25th!
URL:https://jekyllartists.com/event/shop-closed-for-merry-artist-market-staging/
LOCATION:Goodyear Cottage\, 321 Riverview Drive\, Jekyll Island\, GA\, 31527\, United States
CATEGORIES:Gallery Closed
END:VEVENT
BEGIN:VEVENT
DTSTART;VALUE=DATE:20211230
DTEND;VALUE=DATE:20211231
DTSTAMP:20260423T194602
CREATED:20211221T023607Z
LAST-MODIFIED:20211229T195238Z
UID:7435-1640822400-1640908799@jekyllartists.com
SUMMARY:Gallery and Shop closed for reset
DESCRIPTION:
URL:https://jekyllartists.com/event/shop-closed-for-reset/
CATEGORIES:Gallery Closed
END:VEVENT
BEGIN:VEVENT
DTSTART;VALUE=DATE:20211225
DTEND;VALUE=DATE:20211226
DTSTAMP:20260423T194602
CREATED:20211101T183556Z
LAST-MODIFIED:20211101T183556Z
UID:7373-1640390400-1640476799@jekyllartists.com
SUMMARY:Merry Christmas! (Gallery & Shop Closed)
DESCRIPTION:
URL:https://jekyllartists.com/event/merry-christmas-gallery-shop-closed/
CATEGORIES:Gallery Closed
END:VEVENT
BEGIN:VEVENT
DTSTART;VALUE=DATE:20211125
DTEND;VALUE=DATE:20211126
DTSTAMP:20260423T194602
CREATED:20211101T183503Z
LAST-MODIFIED:20211101T183503Z
UID:7371-1637798400-1637884799@jekyllartists.com
SUMMARY:Happy Thanksgiving! (Gallery & Shop Closed)
DESCRIPTION:
URL:https://jekyllartists.com/event/happy-thanksgiving-gallery-shop-closed/
CATEGORIES:Gallery Closed
END:VEVENT
BEGIN:VEVENT
DTSTART;VALUE=DATE:20211122
DTEND;VALUE=DATE:20211125
DTSTAMP:20260423T194602
CREATED:20211101T183332Z
LAST-MODIFIED:20211101T183332Z
UID:7369-1637539200-1637798399@jekyllartists.com
SUMMARY:Gallery and Shop Closed for Merry Artist Set up
DESCRIPTION:
URL:https://jekyllartists.com/event/gallery-and-shop-closed-for-merry-artist-set-up/
CATEGORIES:Gallery Closed
END:VEVENT
BEGIN:VEVENT
DTSTART;TZID=UTC:20210707T080000
DTEND;TZID=UTC:20210707T170000
DTSTAMP:20260423T194602
CREATED:20210707T175424Z
LAST-MODIFIED:20210707T175424Z
UID:7219-1625644800-1625677200@jekyllartists.com
SUMMARY:Gallery & Shop closed\, Tropical Storm Elsa
DESCRIPTION:As Tropical Storm Elsa approaches\, Goodyear Gallery and Shop will be Closed Wednesday\, July 7.  We do this for the safety of our volunteer staff and our guests.  Goodyear will reopen after the storm has passed and as soon as building and parking lot conditions are assessed.
URL:https://jekyllartists.com/event/gallery-shop-closed-tropical-storm-elsa/
CATEGORIES:Gallery Closed
END:VEVENT
BEGIN:VEVENT
DTSTART;VALUE=DATE:20201228
DTEND;VALUE=DATE:20210102
DTSTAMP:20260423T194602
CREATED:20201227T224940Z
LAST-MODIFIED:20201227T224940Z
UID:7033-1609113600-1609545599@jekyllartists.com
SUMMARY:Gallery and Shop Closed
DESCRIPTION:
URL:https://jekyllartists.com/event/gallery-and-shop-closed-3/
CATEGORIES:Gallery Closed
END:VEVENT
BEGIN:VEVENT
DTSTART;VALUE=DATE:20201225
DTEND;VALUE=DATE:20201226
DTSTAMP:20260423T194602
CREATED:20201120T205436Z
LAST-MODIFIED:20201120T205436Z
UID:6950-1608854400-1608940799@jekyllartists.com
SUMMARY:Merry Christmas! Gallery Closed
DESCRIPTION:
URL:https://jekyllartists.com/event/merry-christmas-gallery-closed/
CATEGORIES:Gallery Closed
END:VEVENT
BEGIN:VEVENT
DTSTART;VALUE=DATE:20201126
DTEND;VALUE=DATE:20201127
DTSTAMP:20260423T194602
CREATED:20201120T203111Z
LAST-MODIFIED:20201120T205322Z
UID:6945-1606348800-1606435199@jekyllartists.com
SUMMARY:Happy Thanksgiving! - Gallery Closed
DESCRIPTION:
URL:https://jekyllartists.com/event/thanksgiving-holiday-gallery-closed/
CATEGORIES:Gallery Closed
END:VEVENT
BEGIN:VEVENT
DTSTART;VALUE=DATE:20201123
DTEND;VALUE=DATE:20201126
DTSTAMP:20260423T194602
CREATED:20201120T205117Z
LAST-MODIFIED:20201120T205117Z
UID:6947-1606089600-1606348799@jekyllartists.com
SUMMARY:Gallery Closed for Merry Artist Setup
DESCRIPTION:
URL:https://jekyllartists.com/event/gallery-closed-for-merry-artist-setup/
CATEGORIES:Gallery Closed
END:VEVENT
BEGIN:VEVENT
DTSTART;TZID=UTC:20200220T170000
DTEND;TZID=UTC:20200220T183000
DTSTAMP:20260423T194602
CREATED:20200131T212728Z
LAST-MODIFIED:20200131T212728Z
UID:6443-1582218000-1582223400@jekyllartists.com
SUMMARY:Pottery Guild Visiting Artist Reception
DESCRIPTION:The pottery guild welcomes Bill van Gilder! Check the Pottery Guild page for more workshop information. By Invitation.
URL:https://jekyllartists.com/event/pottery-guild-visiting-artist-reception/
CATEGORIES:Gallery Closed
END:VEVENT
BEGIN:VEVENT
DTSTART;TZID=America/New_York:20200101T100000
DTEND;TZID=America/New_York:20200101T160000
DTSTAMP:20260423T194602
CREATED:20191221T024338Z
LAST-MODIFIED:20191221T024338Z
UID:6262-1577872800-1577894400@jekyllartists.com
SUMMARY:Gallery Closed - Happy New Year!
DESCRIPTION:
URL:https://jekyllartists.com/event/gallery-closed-happy-new-year/
CATEGORIES:Gallery Closed
END:VEVENT
BEGIN:VEVENT
DTSTART;TZID=UTC:20191231T100000
DTEND;TZID=UTC:20191231T160000
DTSTAMP:20260423T194602
CREATED:20191221T024020Z
LAST-MODIFIED:20191221T024219Z
UID:6259-1577786400-1577808000@jekyllartists.com
SUMMARY:Gallery Closed - Merry Artists Market take-down
DESCRIPTION:
URL:https://jekyllartists.com/event/gallery-closed-merry-artists-market-take-down/
CATEGORIES:Gallery Closed
END:VEVENT
BEGIN:VEVENT
DTSTART;VALUE=DATE:20191225
DTEND;VALUE=DATE:20191226
DTSTAMP:20260423T194602
CREATED:20190508T004629Z
LAST-MODIFIED:20190508T004629Z
UID:5709-1577232000-1577318399@jekyllartists.com
SUMMARY:Christmas Holiday - Gallery Closed
DESCRIPTION:
URL:https://jekyllartists.com/event/christmas-holiday-gallery-closed/
CATEGORIES:Gallery Closed
END:VEVENT
BEGIN:VEVENT
DTSTART;VALUE=DATE:20191128
DTEND;VALUE=DATE:20191129
DTSTAMP:20260423T194602
CREATED:20190508T004513Z
LAST-MODIFIED:20190508T004525Z
UID:5706-1574899200-1574985599@jekyllartists.com
SUMMARY:Thanksgiving Holiday- Gallery Closed
DESCRIPTION:
URL:https://jekyllartists.com/event/thanksgiving-gallery-closed-2/
CATEGORIES:Gallery Closed
END:VEVENT
BEGIN:VEVENT
DTSTART;TZID=UTC:20191127T080000
DTEND;TZID=UTC:20191127T170000
DTSTAMP:20260423T194602
CREATED:20191027T175531Z
LAST-MODIFIED:20191027T175531Z
UID:6006-1574841600-1574874000@jekyllartists.com
SUMMARY:Gallery and Shop Closed
DESCRIPTION:Merry Artist Setup
URL:https://jekyllartists.com/event/gallery-and-shop-closed-2/
CATEGORIES:Gallery Closed
END:VEVENT
BEGIN:VEVENT
DTSTART;TZID=UTC:20191126T080000
DTEND;TZID=UTC:20191126T170000
DTSTAMP:20260423T194602
CREATED:20191027T175409Z
LAST-MODIFIED:20191027T175627Z
UID:6003-1574755200-1574787600@jekyllartists.com
SUMMARY:Gallery and Shop Closed
DESCRIPTION:Merry Artist Setup
URL:https://jekyllartists.com/event/gallery-and-shop-closed/
CATEGORIES:Gallery Closed
END:VEVENT
BEGIN:VEVENT
DTSTART;TZID=UTC:20181231T080000
DTEND;TZID=UTC:20190102T170000
DTSTAMP:20260423T194602
CREATED:20181210T214337Z
LAST-MODIFIED:20181210T214337Z
UID:5168-1546243200-1546448400@jekyllartists.com
SUMMARY:Gallery Closed
DESCRIPTION:
URL:https://jekyllartists.com/event/gallery-closed-2/
CATEGORIES:Gallery Closed
END:VEVENT
BEGIN:VEVENT
DTSTART;TZID=UTC:20181225T080000
DTEND;TZID=UTC:20181225T170000
DTSTAMP:20260423T194602
CREATED:20180128T030612Z
LAST-MODIFIED:20180128T030612Z
UID:3376-1545724800-1545757200@jekyllartists.com
SUMMARY:Christmas- Gallery Closed
DESCRIPTION:
URL:https://jekyllartists.com/event/christmas-gallery-closed/
CATEGORIES:Gallery Closed
END:VEVENT
BEGIN:VEVENT
DTSTART;TZID=UTC:20181122T080000
DTEND;TZID=UTC:20181122T170000
DTSTAMP:20260423T194602
CREATED:20180128T030419Z
LAST-MODIFIED:20180128T030452Z
UID:3373-1542873600-1542906000@jekyllartists.com
SUMMARY:Thanksgiving - Gallery Closed
DESCRIPTION:Happy Thanksgiving!
URL:https://jekyllartists.com/event/thanksgiving-gallery-closed/
CATEGORIES:Gallery Closed
END:VEVENT
BEGIN:VEVENT
DTSTART;VALUE=DATE:20180810
DTEND;VALUE=DATE:20180831
DTSTAMP:20260423T194602
CREATED:20180128T023023Z
LAST-MODIFIED:20180709T032413Z
UID:3342-1533859200-1535673599@jekyllartists.com
SUMMARY:Gallery Closed
DESCRIPTION:Closed for floor maintenance.
URL:https://jekyllartists.com/event/gallery-closed/
CATEGORIES:Gallery Closed
END:VEVENT
BEGIN:VEVENT
DTSTART;TZID=UTC:20180401T000000
DTEND;TZID=UTC:20180401T000000
DTSTAMP:20260423T194602
CREATED:20171218T214126Z
LAST-MODIFIED:20180331T194013Z
UID:1686-1522540800-1522540800@jekyllartists.com
SUMMARY:Gallery Closed - Happy Easter!
DESCRIPTION:
URL:https://jekyllartists.com/event/gallery-shop-open-92/
CATEGORIES:Gallery Closed
END:VEVENT
END:VCALENDAR