BEGIN:VCALENDAR
VERSION:2.0
PRODID:-//Jekyll Island Arts Association - ECPv6.15.20//NONSGML v1.0//EN
CALSCALE:GREGORIAN
METHOD:PUBLISH
X-WR-CALNAME:Jekyll Island Arts Association
X-ORIGINAL-URL:https://jekyllartists.com
X-WR-CALDESC:Events for Jekyll Island Arts Association
REFRESH-INTERVAL;VALUE=DURATION:PT1H
X-Robots-Tag:noindex
X-PUBLISHED-TTL:PT1H
BEGIN:VTIMEZONE
TZID:America/New_York
BEGIN:DAYLIGHT
TZOFFSETFROM:-0500
TZOFFSETTO:-0400
TZNAME:EDT
DTSTART:20230312T070000
END:DAYLIGHT
BEGIN:STANDARD
TZOFFSETFROM:-0400
TZOFFSETTO:-0500
TZNAME:EST
DTSTART:20231105T060000
END:STANDARD
BEGIN:DAYLIGHT
TZOFFSETFROM:-0500
TZOFFSETTO:-0400
TZNAME:EDT
DTSTART:20240310T070000
END:DAYLIGHT
BEGIN:STANDARD
TZOFFSETFROM:-0400
TZOFFSETTO:-0500
TZNAME:EST
DTSTART:20241103T060000
END:STANDARD
BEGIN:DAYLIGHT
TZOFFSETFROM:-0500
TZOFFSETTO:-0400
TZNAME:EDT
DTSTART:20250309T070000
END:DAYLIGHT
BEGIN:STANDARD
TZOFFSETFROM:-0400
TZOFFSETTO:-0500
TZNAME:EST
DTSTART:20251102T060000
END:STANDARD
BEGIN:DAYLIGHT
TZOFFSETFROM:-0500
TZOFFSETTO:-0400
TZNAME:EDT
DTSTART:20260308T070000
END:DAYLIGHT
BEGIN:STANDARD
TZOFFSETFROM:-0400
TZOFFSETTO:-0500
TZNAME:EST
DTSTART:20261101T060000
END:STANDARD
BEGIN:DAYLIGHT
TZOFFSETFROM:-0500
TZOFFSETTO:-0400
TZNAME:EDT
DTSTART:20270314T070000
END:DAYLIGHT
BEGIN:STANDARD
TZOFFSETFROM:-0400
TZOFFSETTO:-0500
TZNAME:EST
DTSTART:20271107T060000
END:STANDARD
END:VTIMEZONE
BEGIN:VTIMEZONE
TZID:UTC
BEGIN:STANDARD
TZOFFSETFROM:+0000
TZOFFSETTO:+0000
TZNAME:UTC
DTSTART:20190101T000000
END:STANDARD
END:VTIMEZONE
BEGIN:VEVENT
DTSTART;TZID=America/New_York:20260305T080000
DTEND;TZID=America/New_York:20260305T160000
DTSTAMP:20260423T161222
CREATED:20260210T170028Z
LAST-MODIFIED:20260210T170028Z
UID:11011-1772697600-1772726400@jekyllartists.com
SUMMARY:Gallery & Shop Closed for Festival Setup
DESCRIPTION:
URL:https://jekyllartists.com/event/gallery-shop-closed-for-festival-setup/
LOCATION:Goodyear Cottage\, 321 Riverview Drive\, Jekyll Island\, GA\, 31527\, United States
CATEGORIES:Gallery Closed
END:VEVENT
BEGIN:VEVENT
DTSTART;VALUE=DATE:20260301
DTEND;VALUE=DATE:20260305
DTSTAMP:20260423T161222
CREATED:20260210T165916Z
LAST-MODIFIED:20260210T165916Z
UID:11009-1772323200-1772668799@jekyllartists.com
SUMMARY:Gallery & Shop Closed for Arts Festival Setup
DESCRIPTION:
URL:https://jekyllartists.com/event/gallery-shop-closed-for-arts-festival-setup/
LOCATION:Goodyear Cottage\, 321 Riverview Drive\, Jekyll Island\, GA\, 31527\, United States
CATEGORIES:Gallery Closed
END:VEVENT
BEGIN:VEVENT
DTSTART;TZID=America/New_York:20251230T080000
DTEND;TZID=America/New_York:20251231T170000
DTSTAMP:20260423T161222
CREATED:20251121T003838Z
LAST-MODIFIED:20251121T003838Z
UID:10802-1767081600-1767200400@jekyllartists.com
SUMMARY:Gallery Closed for Reset
DESCRIPTION:
URL:https://jekyllartists.com/event/gallery-closed-for-reset/
LOCATION:Goodyear Cottage\, 321 Riverview Drive\, Jekyll Island\, GA\, 31527\, United States
CATEGORIES:Gallery Closed
END:VEVENT
BEGIN:VEVENT
DTSTART;VALUE=DATE:20251225
DTEND;VALUE=DATE:20251226
DTSTAMP:20260423T161222
CREATED:20250331T144329Z
LAST-MODIFIED:20250331T144342Z
UID:10463-1766620800-1766707199@jekyllartists.com
SUMMARY:Merry Christmas! Shop and Gallery are closed
DESCRIPTION:
URL:https://jekyllartists.com/event/merry-christmas-shop-and-gallery-are-closed/
LOCATION:Goodyear Cottage\, 321 Riverview Drive\, Jekyll Island\, GA\, 31527\, United States
CATEGORIES:Gallery Closed
END:VEVENT
BEGIN:VEVENT
DTSTART;VALUE=DATE:20251127
DTEND;VALUE=DATE:20251128
DTSTAMP:20260423T161222
CREATED:20250331T144240Z
LAST-MODIFIED:20250331T144240Z
UID:10461-1764201600-1764287999@jekyllartists.com
SUMMARY:Happy Thanksgiving! Shop and Gallery are closed
DESCRIPTION:
URL:https://jekyllartists.com/event/happy-thanksgiving-shop-and-gallery-are-closed/
LOCATION:Goodyear Cottage\, 321 Riverview Drive\, Jekyll Island\, GA\, 31527\, United States
CATEGORIES:Gallery Closed
END:VEVENT
BEGIN:VEVENT
DTSTART;TZID=America/New_York:20251125T080000
DTEND;TZID=America/New_York:20251126T170000
DTSTAMP:20260423T161222
CREATED:20251121T003354Z
LAST-MODIFIED:20251121T003354Z
UID:10796-1764057600-1764176400@jekyllartists.com
SUMMARY:Gallery Closed for Merry Artists setup
DESCRIPTION:
URL:https://jekyllartists.com/event/gallery-closed-for-merry-artists-setup/
LOCATION:Goodyear Cottage\, 321 Riverview Drive\, Jekyll Island\, GA\, 31527\, United States
CATEGORIES:Gallery Closed
END:VEVENT
BEGIN:VEVENT
DTSTART;TZID=America/New_York:20250301T080000
DTEND;TZID=America/New_York:20250306T190000
DTSTAMP:20260423T161222
CREATED:20250224T191825Z
LAST-MODIFIED:20250224T191825Z
UID:10379-1740816000-1741287600@jekyllartists.com
SUMMARY:Gallery and Shop Closed for Festival Preparation
DESCRIPTION:
URL:https://jekyllartists.com/event/gallery-and-shop-closed-for-festival-preparation/
LOCATION:Goodyear Cottage\, 321 Riverview Drive\, Jekyll Island\, GA\, 31527\, United States
CATEGORIES:Gallery Closed
END:VEVENT
BEGIN:VEVENT
DTSTART;TZID=America/New_York:20250101T080000
DTEND;TZID=America/New_York:20250101T170000
DTSTAMP:20260423T161222
CREATED:20241210T185657Z
LAST-MODIFIED:20241210T185817Z
UID:10150-1735718400-1735750800@jekyllartists.com
SUMMARY:Goodyear Cottage Closed for Gallery Reset
DESCRIPTION:
URL:https://jekyllartists.com/event/goodyear-cottage-closed-for-gallery-reset/
LOCATION:Goodyear Cottage\, 321 Riverview Drive\, Jekyll Island\, GA\, 31527\, United States
CATEGORIES:Gallery Closed
END:VEVENT
BEGIN:VEVENT
DTSTART;TZID=America/New_York:20241225T100000
DTEND;TZID=America/New_York:20241225T160000
DTSTAMP:20260423T161222
CREATED:20240331T005135Z
LAST-MODIFIED:20241210T182602Z
UID:9790-1735120800-1735142400@jekyllartists.com
SUMMARY:Merry Christmas - Gallery and Shop are Closed
DESCRIPTION:
URL:https://jekyllartists.com/event/merry-christmas-gallery-and-shop-are-closed/
LOCATION:Goodyear Cottage\, 321 Riverview Drive\, Jekyll Island\, GA\, 31527\, United States
CATEGORIES:Gallery Closed
END:VEVENT
BEGIN:VEVENT
DTSTART;TZID=UTC:20241128T100000
DTEND;TZID=UTC:20241128T160000
DTSTAMP:20260423T161222
CREATED:20240331T004917Z
LAST-MODIFIED:20240331T005341Z
UID:9786-1732788000-1732809600@jekyllartists.com
SUMMARY:Happy Thanksgiving - Gallery and Shop are Closed
DESCRIPTION:
URL:https://jekyllartists.com/event/happy-thanksgiving-gallery-and-shop-are-closed/
LOCATION:Goodyear Cottage\, 321 Riverview Drive\, Jekyll Island\, GA\, 31527\, United States
CATEGORIES:Gallery Closed
END:VEVENT
BEGIN:VEVENT
DTSTART;VALUE=DATE:20241126
DTEND;VALUE=DATE:20241128
DTSTAMP:20260423T161222
CREATED:20241118T014555Z
LAST-MODIFIED:20241118T014555Z
UID:10090-1732579200-1732751999@jekyllartists.com
SUMMARY:Gallery & Shop closed for Merry Artists reset
DESCRIPTION:
URL:https://jekyllartists.com/event/gallery-shop-closed-for-merry-artists-reset/
LOCATION:Goodyear Cottage\, 321 Riverview Drive\, Jekyll Island\, GA\, 31527\, United States
CATEGORIES:Gallery Closed
END:VEVENT
BEGIN:VEVENT
DTSTART;TZID=UTC:20240805T100000
DTEND;TZID=UTC:20240805T160000
DTSTAMP:20260423T161222
CREATED:20240805T172622Z
LAST-MODIFIED:20240805T172622Z
UID:9941-1722852000-1722873600@jekyllartists.com
SUMMARY:Shop & Gallery Closed - Hurricane Debby
DESCRIPTION:
URL:https://jekyllartists.com/event/shop-gallery-closed-hurricane-debby-2/
LOCATION:Goodyear Cottage\, 321 Riverview Drive\, Jekyll Island\, GA\, 31527\, United States
CATEGORIES:Gallery Closed
END:VEVENT
BEGIN:VEVENT
DTSTART;TZID=UTC:20240805T100000
DTEND;TZID=UTC:20240805T160000
DTSTAMP:20260423T161222
CREATED:20240805T172551Z
LAST-MODIFIED:20240805T172551Z
UID:9939-1722852000-1722873600@jekyllartists.com
SUMMARY:Shop & Gallery Closed - Hurricane Debby
DESCRIPTION:
URL:https://jekyllartists.com/event/shop-gallery-closed-hurricane-debby/
LOCATION:Goodyear Cottage\, 321 Riverview Drive\, Jekyll Island\, GA\, 31527\, United States
CATEGORIES:Gallery Closed
END:VEVENT
BEGIN:VEVENT
DTSTART;VALUE=DATE:20240101
DTEND;VALUE=DATE:20240102
DTSTAMP:20260423T161222
CREATED:20231230T215423Z
LAST-MODIFIED:20231230T215423Z
UID:9492-1704067200-1704153599@jekyllartists.com
SUMMARY:Happy New Year - Goodyear Cottage is Closed
DESCRIPTION:
URL:https://jekyllartists.com/event/happy-new-year-goodyear-cottage-is-closed/
LOCATION:Goodyear Cottage\, 321 Riverview Drive\, Jekyll Island\, GA\, 31527\, United States
CATEGORIES:Gallery Closed
END:VEVENT
BEGIN:VEVENT
DTSTART;VALUE=DATE:20231225
DTEND;VALUE=DATE:20231226
DTSTAMP:20260423T161222
CREATED:20230322T002025Z
LAST-MODIFIED:20230322T002120Z
UID:8749-1703462400-1703548799@jekyllartists.com
SUMMARY:Merry Christmas - Gallery Closed
DESCRIPTION:
URL:https://jekyllartists.com/event/merry-christmas-gallery-closed-3/
LOCATION:Goodyear Cottage\, 321 Riverview Drive\, Jekyll Island\, GA\, 31527\, United States
CATEGORIES:Gallery Closed
END:VEVENT
BEGIN:VEVENT
DTSTART;VALUE=DATE:20231123
DTEND;VALUE=DATE:20231124
DTSTAMP:20260423T161222
CREATED:20230322T001633Z
LAST-MODIFIED:20230322T001927Z
UID:8743-1700697600-1700783999@jekyllartists.com
SUMMARY:Happy Thanksgiving - Gallery Closed
DESCRIPTION:
URL:https://jekyllartists.com/event/thanksgiving-day-gallery-closed/
LOCATION:Goodyear Cottage\, 321 Riverview Drive\, Jekyll Island\, GA\, 31527\, United States
CATEGORIES:Gallery Closed
END:VEVENT
BEGIN:VEVENT
DTSTART;TZID=UTC:20230831T120000
DTEND;TZID=UTC:20230831T160000
DTSTAMP:20260423T161222
CREATED:20230831T025952Z
LAST-MODIFIED:20230831T030041Z
UID:9112-1693483200-1693497600@jekyllartists.com
SUMMARY:Gallery & Shop Closed - Hurricane Idalia
DESCRIPTION:
URL:https://jekyllartists.com/event/gallery-shop-closed-hurricane-idalia-2/
LOCATION:Goodyear Cottage\, 321 Riverview Drive\, Jekyll Island\, GA\, 31527\, United States
CATEGORIES:Gallery Closed
END:VEVENT
BEGIN:VEVENT
DTSTART;TZID=UTC:20230830T120000
DTEND;TZID=UTC:20230830T170000
DTSTAMP:20260423T161222
CREATED:20230829T193111Z
LAST-MODIFIED:20230831T025918Z
UID:9107-1693396800-1693414800@jekyllartists.com
SUMMARY:Gallery & Shop Closed - Hurricane Idalia
DESCRIPTION:
URL:https://jekyllartists.com/event/gallery-shop-closed-hurricane-idalia/
LOCATION:Goodyear Cottage\, 321 Riverview Drive\, Jekyll Island\, GA\, 31527\, United States
CATEGORIES:Gallery Closed
END:VEVENT
BEGIN:VEVENT
DTSTART;TZID=UTC:20230304T080000
DTEND;TZID=UTC:20230309T160000
DTSTAMP:20260423T161222
CREATED:20230303T232624Z
LAST-MODIFIED:20230303T232712Z
UID:8665-1677916800-1678377600@jekyllartists.com
SUMMARY:Gallery & Shop Closed for Festival Set Up
DESCRIPTION:
URL:https://jekyllartists.com/event/gallery-shop-closed-for-festival-set-up/
LOCATION:Goodyear Cottage\, 321 Riverview Drive\, Jekyll Island\, GA\, 31527\, United States
CATEGORIES:Gallery Closed
END:VEVENT
BEGIN:VEVENT
DTSTART;VALUE=DATE:20221225
DTEND;VALUE=DATE:20221226
DTSTAMP:20260423T161222
CREATED:20220717T003016Z
LAST-MODIFIED:20220717T003016Z
UID:7821-1671926400-1672012799@jekyllartists.com
SUMMARY:Merry Christmas! Gallery Closed
DESCRIPTION:
URL:https://jekyllartists.com/event/merry-christmas-gallery-closed-2/
LOCATION:Goodyear Cottage\, 321 Riverview Drive\, Jekyll Island\, GA\, 31527\, United States
CATEGORIES:Gallery Closed
END:VEVENT
BEGIN:VEVENT
DTSTART;TZID=UTC:20221124T000000
DTEND;TZID=UTC:20221124T235900
DTSTAMP:20260423T161222
CREATED:20220527T213659Z
LAST-MODIFIED:20221111T173845Z
UID:7791-1669248000-1669334340@jekyllartists.com
SUMMARY:Happy Thanksgiving - Gallery Closed Today
DESCRIPTION:
URL:https://jekyllartists.com/event/happy-thanksgiving-gallery-closed-today/
CATEGORIES:Gallery Closed
END:VEVENT
BEGIN:VEVENT
DTSTART;TZID=UTC:20221121T080000
DTEND;TZID=UTC:20221123T170000
DTSTAMP:20260423T161222
CREATED:20221121T211436Z
LAST-MODIFIED:20221121T211436Z
UID:8394-1669017600-1669222800@jekyllartists.com
SUMMARY:Shop Closed for Merry Artist Market Staging
DESCRIPTION:We are closed while the elves get Goodyear Cottage ready for Merry Artist Market.  Please come see us opening day\, November 25th!
URL:https://jekyllartists.com/event/shop-closed-for-merry-artist-market-staging/
LOCATION:Goodyear Cottage\, 321 Riverview Drive\, Jekyll Island\, GA\, 31527\, United States
CATEGORIES:Gallery Closed
END:VEVENT
BEGIN:VEVENT
DTSTART;VALUE=DATE:20211230
DTEND;VALUE=DATE:20211231
DTSTAMP:20260423T161222
CREATED:20211221T023607Z
LAST-MODIFIED:20211229T195238Z
UID:7435-1640822400-1640908799@jekyllartists.com
SUMMARY:Gallery and Shop closed for reset
DESCRIPTION:
URL:https://jekyllartists.com/event/shop-closed-for-reset/
CATEGORIES:Gallery Closed
END:VEVENT
BEGIN:VEVENT
DTSTART;VALUE=DATE:20211225
DTEND;VALUE=DATE:20211226
DTSTAMP:20260423T161222
CREATED:20211101T183556Z
LAST-MODIFIED:20211101T183556Z
UID:7373-1640390400-1640476799@jekyllartists.com
SUMMARY:Merry Christmas! (Gallery & Shop Closed)
DESCRIPTION:
URL:https://jekyllartists.com/event/merry-christmas-gallery-shop-closed/
CATEGORIES:Gallery Closed
END:VEVENT
BEGIN:VEVENT
DTSTART;VALUE=DATE:20211125
DTEND;VALUE=DATE:20211126
DTSTAMP:20260423T161222
CREATED:20211101T183503Z
LAST-MODIFIED:20211101T183503Z
UID:7371-1637798400-1637884799@jekyllartists.com
SUMMARY:Happy Thanksgiving! (Gallery & Shop Closed)
DESCRIPTION:
URL:https://jekyllartists.com/event/happy-thanksgiving-gallery-shop-closed/
CATEGORIES:Gallery Closed
END:VEVENT
BEGIN:VEVENT
DTSTART;VALUE=DATE:20211122
DTEND;VALUE=DATE:20211125
DTSTAMP:20260423T161222
CREATED:20211101T183332Z
LAST-MODIFIED:20211101T183332Z
UID:7369-1637539200-1637798399@jekyllartists.com
SUMMARY:Gallery and Shop Closed for Merry Artist Set up
DESCRIPTION:
URL:https://jekyllartists.com/event/gallery-and-shop-closed-for-merry-artist-set-up/
CATEGORIES:Gallery Closed
END:VEVENT
BEGIN:VEVENT
DTSTART;TZID=UTC:20210707T080000
DTEND;TZID=UTC:20210707T170000
DTSTAMP:20260423T161222
CREATED:20210707T175424Z
LAST-MODIFIED:20210707T175424Z
UID:7219-1625644800-1625677200@jekyllartists.com
SUMMARY:Gallery & Shop closed\, Tropical Storm Elsa
DESCRIPTION:As Tropical Storm Elsa approaches\, Goodyear Gallery and Shop will be Closed Wednesday\, July 7.  We do this for the safety of our volunteer staff and our guests.  Goodyear will reopen after the storm has passed and as soon as building and parking lot conditions are assessed.
URL:https://jekyllartists.com/event/gallery-shop-closed-tropical-storm-elsa/
CATEGORIES:Gallery Closed
END:VEVENT
BEGIN:VEVENT
DTSTART;VALUE=DATE:20201228
DTEND;VALUE=DATE:20210102
DTSTAMP:20260423T161222
CREATED:20201227T224940Z
LAST-MODIFIED:20201227T224940Z
UID:7033-1609113600-1609545599@jekyllartists.com
SUMMARY:Gallery and Shop Closed
DESCRIPTION:
URL:https://jekyllartists.com/event/gallery-and-shop-closed-3/
CATEGORIES:Gallery Closed
END:VEVENT
BEGIN:VEVENT
DTSTART;VALUE=DATE:20201225
DTEND;VALUE=DATE:20201226
DTSTAMP:20260423T161222
CREATED:20201120T205436Z
LAST-MODIFIED:20201120T205436Z
UID:6950-1608854400-1608940799@jekyllartists.com
SUMMARY:Merry Christmas! Gallery Closed
DESCRIPTION:
URL:https://jekyllartists.com/event/merry-christmas-gallery-closed/
CATEGORIES:Gallery Closed
END:VEVENT
BEGIN:VEVENT
DTSTART;VALUE=DATE:20201126
DTEND;VALUE=DATE:20201127
DTSTAMP:20260423T161222
CREATED:20201120T203111Z
LAST-MODIFIED:20201120T205322Z
UID:6945-1606348800-1606435199@jekyllartists.com
SUMMARY:Happy Thanksgiving! - Gallery Closed
DESCRIPTION:
URL:https://jekyllartists.com/event/thanksgiving-holiday-gallery-closed/
CATEGORIES:Gallery Closed
END:VEVENT
END:VCALENDAR