BEGIN:VCALENDAR
VERSION:2.0
PRODID:-//Jekyll Island Arts Association - ECPv6.15.20//NONSGML v1.0//EN
CALSCALE:GREGORIAN
METHOD:PUBLISH
X-ORIGINAL-URL:https://jekyllartists.com
X-WR-CALDESC:Events for Jekyll Island Arts Association
REFRESH-INTERVAL;VALUE=DURATION:PT1H
X-Robots-Tag:noindex
X-PUBLISHED-TTL:PT1H
BEGIN:VTIMEZONE
TZID:UTC
BEGIN:STANDARD
TZOFFSETFROM:+0000
TZOFFSETTO:+0000
TZNAME:UTC
DTSTART:20170101T000000
END:STANDARD
END:VTIMEZONE
BEGIN:VTIMEZONE
TZID:UTC
BEGIN:STANDARD
TZOFFSETFROM:+0000
TZOFFSETTO:+0000
TZNAME:UTC
DTSTART:20170101T000000
END:STANDARD
END:VTIMEZONE
BEGIN:VEVENT
DTSTART;TZID=UTC:20240309T100000
DTEND;TZID=UTC:20240309T170000
DTSTAMP:20260424T030313
CREATED:20240201T235149Z
LAST-MODIFIED:20240228T202424Z
UID:9621-1709978400-1710003600@jekyllartists.com
SUMMARY:2024 Arts Festival
DESCRIPTION:Car Show: Arts Festival Daily Schedule – Jekyll Island Arts Association (jekyllartists.com)
URL:https://jekyllartists.com/event/2024-arts-festival/
LOCATION:Goodyear Cottage\, 321 Riverview Drive\, Jekyll Island\, GA\, 31527\, United States
CATEGORIES:Festival
END:VEVENT
BEGIN:VEVENT
DTSTART;TZID=UTC:20240308T120000
DTEND;TZID=UTC:20240308T170000
DTSTAMP:20260424T030313
CREATED:20240201T235110Z
LAST-MODIFIED:20240228T202255Z
UID:9619-1709899200-1709917200@jekyllartists.com
SUMMARY:2024 Arts Festival Begins!
DESCRIPTION: 
URL:https://jekyllartists.com/event/2024-arts-festival-begins/
LOCATION:Goodyear Cottage\, 321 Riverview Drive\, Jekyll Island\, GA\, 31527\, United States
CATEGORIES:Festival
END:VEVENT
BEGIN:VEVENT
DTSTART;TZID=UTC:20230312T100000
DTEND;TZID=UTC:20230312T160000
DTSTAMP:20260424T030313
CREATED:20221231T214935Z
LAST-MODIFIED:20221231T214935Z
UID:8468-1678615200-1678636800@jekyllartists.com
SUMMARY:2023 Arts Festival
DESCRIPTION:
URL:https://jekyllartists.com/event/2023-arts-festival-3/
LOCATION:Goodyear Cottage\, 321 Riverview Drive\, Jekyll Island\, GA\, 31527\, United States
CATEGORIES:Festival
END:VEVENT
BEGIN:VEVENT
DTSTART;TZID=UTC:20230311T100000
DTEND;TZID=UTC:20230311T170000
DTSTAMP:20260424T030313
CREATED:20221231T214854Z
LAST-MODIFIED:20221231T214854Z
UID:8466-1678528800-1678554000@jekyllartists.com
SUMMARY:2023 Arts Festival
DESCRIPTION:
URL:https://jekyllartists.com/event/2023-arts-festival-2/
LOCATION:Goodyear Cottage\, 321 Riverview Drive\, Jekyll Island\, GA\, 31527\, United States
CATEGORIES:Festival
END:VEVENT
BEGIN:VEVENT
DTSTART;TZID=UTC:20230310T120000
DTEND;TZID=UTC:20230310T170000
DTSTAMP:20260424T030313
CREATED:20221231T214803Z
LAST-MODIFIED:20221231T214815Z
UID:8463-1678449600-1678467600@jekyllartists.com
SUMMARY:2023 Arts Festival Begins!
DESCRIPTION:
URL:https://jekyllartists.com/event/2023-arts-festival/
LOCATION:Goodyear Cottage\, 321 Riverview Drive\, Jekyll Island\, GA\, 31527\, United States
CATEGORIES:Festival
END:VEVENT
BEGIN:VEVENT
DTSTART;TZID=UTC:20221125T100000
DTEND;TZID=UTC:20221125T160000
DTSTAMP:20260424T030313
CREATED:20220527T213549Z
LAST-MODIFIED:20220717T002225Z
UID:7789-1669370400-1669392000@jekyllartists.com
SUMMARY:Merry Artist Market Opens!
DESCRIPTION:
URL:https://jekyllartists.com/event/merry-artist-market-opens-2/
LOCATION:Goodyear Cottage\, 321 Riverview Drive\, Jekyll Island\, GA\, 31527\, United States
CATEGORIES:Festival
END:VEVENT
BEGIN:VEVENT
DTSTART;TZID=UTC:20220313T100000
DTEND;TZID=UTC:20220313T160000
DTSTAMP:20260424T030313
CREATED:20220127T023611Z
LAST-MODIFIED:20220127T023611Z
UID:7518-1647165600-1647187200@jekyllartists.com
SUMMARY:Arts Festival
DESCRIPTION:
URL:https://jekyllartists.com/event/arts-festival-2/
CATEGORIES:Festival
END:VEVENT
BEGIN:VEVENT
DTSTART;TZID=UTC:20220312T100000
DTEND;TZID=UTC:20220312T170000
DTSTAMP:20260424T030313
CREATED:20220127T023502Z
LAST-MODIFIED:20220308T053102Z
UID:7516-1647079200-1647104400@jekyllartists.com
SUMMARY:Arts Festival
DESCRIPTION:
URL:https://jekyllartists.com/event/arts-festival/
CATEGORIES:Festival
END:VEVENT
BEGIN:VEVENT
DTSTART;TZID=UTC:20220311T120000
DTEND;TZID=UTC:20220311T170000
DTSTAMP:20260424T030313
CREATED:20220127T023404Z
LAST-MODIFIED:20220129T234934Z
UID:7514-1647000000-1647018000@jekyllartists.com
SUMMARY:Arts Festival Begins!
DESCRIPTION:
URL:https://jekyllartists.com/event/arts-festival-begins/
CATEGORIES:Festival
END:VEVENT
BEGIN:VEVENT
DTSTART;TZID=UTC:20190310T100000
DTEND;TZID=UTC:20190310T160000
DTSTAMP:20260424T030313
CREATED:20181008T032412Z
LAST-MODIFIED:20190201T235134Z
UID:4828-1552212000-1552233600@jekyllartists.com
SUMMARY:45th Annual Arts Festival
DESCRIPTION:
URL:https://jekyllartists.com/event/45th-annual-arts-festival-3/
CATEGORIES:Festival
END:VEVENT
BEGIN:VEVENT
DTSTART;TZID=UTC:20190309T100000
DTEND;TZID=UTC:20190309T170000
DTSTAMP:20260424T030313
CREATED:20181008T032317Z
LAST-MODIFIED:20181008T032317Z
UID:4826-1552125600-1552150800@jekyllartists.com
SUMMARY:45th Annual Arts Festival
DESCRIPTION:
URL:https://jekyllartists.com/event/45th-annual-arts-festival-2/
CATEGORIES:Festival
END:VEVENT
BEGIN:VEVENT
DTSTART;TZID=UTC:20190308T100000
DTEND;TZID=UTC:20190308T170000
DTSTAMP:20260424T030313
CREATED:20181008T032109Z
LAST-MODIFIED:20181008T032109Z
UID:4824-1552039200-1552064400@jekyllartists.com
SUMMARY:45th Annual Arts Festival
DESCRIPTION:
URL:https://jekyllartists.com/event/45th-annual-arts-festival/
CATEGORIES:Festival
END:VEVENT
BEGIN:VEVENT
DTSTART;TZID=UTC:20180314T140000
DTEND;TZID=UTC:20180314T160000
DTSTAMP:20260424T030313
CREATED:20171218T214443Z
LAST-MODIFIED:20171218T220139Z
UID:1726-1521036000-1521043200@jekyllartists.com
SUMMARY:Festival Winners Listings
DESCRIPTION:
URL:https://jekyllartists.com/event/festival-winners-listings/
CATEGORIES:Festival
END:VEVENT
BEGIN:VEVENT
DTSTART;TZID=UTC:20180313T080000
DTEND;TZID=UTC:20180313T080000
DTSTAMP:20260424T030313
CREATED:20171218T214441Z
LAST-MODIFIED:20171218T220138Z
UID:1724-1520928000-1520928000@jekyllartists.com
SUMMARY:Festival Clear Site
DESCRIPTION:
URL:https://jekyllartists.com/event/festival-clear-site/
CATEGORIES:Festival
END:VEVENT
BEGIN:VEVENT
DTSTART;TZID=UTC:20180312T080000
DTEND;TZID=UTC:20180312T080000
DTSTAMP:20260424T030313
CREATED:20171218T214441Z
LAST-MODIFIED:20171218T220137Z
UID:1723-1520841600-1520841600@jekyllartists.com
SUMMARY:Festival Take Down Completes
DESCRIPTION:
URL:https://jekyllartists.com/event/festival-take-down-completes/
CATEGORIES:Festival
END:VEVENT
BEGIN:VEVENT
DTSTART;TZID=UTC:20180311T160000
DTEND;TZID=UTC:20180311T180000
DTSTAMP:20260424T030313
CREATED:20171218T214441Z
LAST-MODIFIED:20171218T220137Z
UID:1722-1520784000-1520791200@jekyllartists.com
SUMMARY:Festival Take Down Starts
DESCRIPTION:
URL:https://jekyllartists.com/event/festival-take-down-starts/
CATEGORIES:Festival
END:VEVENT
BEGIN:VEVENT
DTSTART;TZID=UTC:20180308T160000
DTEND;TZID=UTC:20180308T180000
DTSTAMP:20260424T030313
CREATED:20171218T214438Z
LAST-MODIFIED:20171218T220136Z
UID:1717-1520524800-1520532000@jekyllartists.com
SUMMARY:Festival Sneak Peek for JIAA Memebers
DESCRIPTION:
URL:https://jekyllartists.com/event/festival-sneak-peek-for-jiaa-memebers/
CATEGORIES:Festival
END:VEVENT
BEGIN:VEVENT
DTSTART;TZID=UTC:20180307T100000
DTEND;TZID=UTC:20180307T160000
DTSTAMP:20260424T030313
CREATED:20180306T013941Z
LAST-MODIFIED:20180306T013941Z
UID:4075-1520416800-1520438400@jekyllartists.com
SUMMARY:Festival Sales Consignment Registration
DESCRIPTION:
URL:https://jekyllartists.com/event/festival-sales-consignment-registration-3/
CATEGORIES:Festival
END:VEVENT
BEGIN:VEVENT
DTSTART;TZID=UTC:20180307T080000
DTEND;TZID=UTC:20180307T160000
DTSTAMP:20260424T030313
CREATED:20171218T214438Z
LAST-MODIFIED:20171218T220136Z
UID:1716-1520409600-1520438400@jekyllartists.com
SUMMARY:Stage the Sales\, Demonstration and Classes Tents
DESCRIPTION:
URL:https://jekyllartists.com/event/stage-the-sales-demonstration-and-classes-tents/
CATEGORIES:Festival
END:VEVENT
BEGIN:VEVENT
DTSTART;TZID=UTC:20180306T100000
DTEND;TZID=UTC:20180306T160000
DTSTAMP:20260424T030313
CREATED:20171218T214436Z
LAST-MODIFIED:20171218T220135Z
UID:1714-1520330400-1520352000@jekyllartists.com
SUMMARY:Festival Sales Consignment Registration
DESCRIPTION:
URL:https://jekyllartists.com/event/festival-sales-consignment-registration-2/
CATEGORIES:Festival
END:VEVENT
BEGIN:VEVENT
DTSTART;TZID=UTC:20180306T090000
DTEND;TZID=UTC:20180306T170000
DTSTAMP:20260424T030313
CREATED:20171218T214436Z
LAST-MODIFIED:20171218T220135Z
UID:1715-1520326800-1520355600@jekyllartists.com
SUMMARY:Valdosta State U. Faculty Jury The Festival entries
DESCRIPTION:
URL:https://jekyllartists.com/event/valdosta-state-u-faculty-jury-the-festival-entries/
CATEGORIES:Festival
END:VEVENT
BEGIN:VEVENT
DTSTART;TZID=UTC:20180305T100000
DTEND;TZID=UTC:20180305T160000
DTSTAMP:20260424T030313
CREATED:20171218T214436Z
LAST-MODIFIED:20171218T220134Z
UID:1713-1520244000-1520265600@jekyllartists.com
SUMMARY:Festival Sales Consignment Registration
DESCRIPTION:
URL:https://jekyllartists.com/event/festival-sales-consignment-registration/
CATEGORIES:Festival
END:VEVENT
BEGIN:VEVENT
DTSTART;TZID=UTC:20180305T100000
DTEND;TZID=UTC:20180305T160000
DTSTAMP:20260424T030313
CREATED:20171218T214435Z
LAST-MODIFIED:20171218T220134Z
UID:1712-1520244000-1520265600@jekyllartists.com
SUMMARY:Juried Registration of Festival Entries
DESCRIPTION:
URL:https://jekyllartists.com/event/juried-registration-of-festival-entries/
CATEGORIES:Festival
END:VEVENT
BEGIN:VEVENT
DTSTART;TZID=UTC:20180305T080000
DTEND;TZID=UTC:20180305T140000
DTSTAMP:20260424T030313
CREATED:20171218T214435Z
LAST-MODIFIED:20171218T220134Z
UID:1711-1520236800-1520258400@jekyllartists.com
SUMMARY:Festival Set Up ~  Sales\, Poterry\, Demonstration & Classes Tents
DESCRIPTION:
URL:https://jekyllartists.com/event/festival-set-up-sales-poterry-demonstration-classes-tents/
CATEGORIES:Festival
END:VEVENT
BEGIN:VEVENT
DTSTART;TZID=UTC:20180303T080000
DTEND;TZID=UTC:20180303T120000
DTSTAMP:20260424T030313
CREATED:20171218T214433Z
LAST-MODIFIED:20171218T220133Z
UID:1709-1520064000-1520078400@jekyllartists.com
SUMMARY:Festival Set up Staging
DESCRIPTION:
URL:https://jekyllartists.com/event/festival-set-up-staging/
CATEGORIES:Festival
END:VEVENT
END:VCALENDAR