BEGIN:VCALENDAR
VERSION:2.0
PRODID:-//Jekyll Island Arts Association - ECPv6.15.20//NONSGML v1.0//EN
CALSCALE:GREGORIAN
METHOD:PUBLISH
X-ORIGINAL-URL:https://jekyllartists.com
X-WR-CALDESC:Events for Jekyll Island Arts Association
REFRESH-INTERVAL;VALUE=DURATION:PT1H
X-Robots-Tag:noindex
X-PUBLISHED-TTL:PT1H
BEGIN:VTIMEZONE
TZID:UTC
BEGIN:STANDARD
TZOFFSETFROM:+0000
TZOFFSETTO:+0000
TZNAME:UTC
DTSTART:20180101T000000
END:STANDARD
END:VTIMEZONE
BEGIN:VTIMEZONE
TZID:UTC
BEGIN:STANDARD
TZOFFSETFROM:+0000
TZOFFSETTO:+0000
TZNAME:UTC
DTSTART:20160101T000000
END:STANDARD
END:VTIMEZONE
BEGIN:VEVENT
DTSTART;TZID=UTC:20241102T103000
DTEND;TZID=UTC:20241102T120000
DTSTAMP:20260424T021133
CREATED:20241018T190505Z
LAST-MODIFIED:20241018T191338Z
UID:10039-1730543400-1730548800@jekyllartists.com
SUMMARY:Member Orientation
DESCRIPTION:There will be an Arts Association orientation in Goodyear Cottage at 10.30am on Saturday\, November 2nd. \nJoin Beverly\, Carla & Margaret to hear what JIAA is all about\, ask your questions\, find out how to login\, enroll for a class\, join a Guild\, enter items for the Goodyear shop\, apply to have a gallery show\, volunteer and so much more. \n Be ready for the Merry Artists’ Market opening in November. \nThe more people who become involved\, \n the more fun it is for everyone!
URL:https://jekyllartists.com/event/member-orientation/
LOCATION:Goodyear Cottage\, 321 Riverview Drive\, Jekyll Island\, GA\, 31527\, United States
CATEGORIES:Community
END:VEVENT
BEGIN:VEVENT
DTSTART;TZID=UTC:20221125T080000
DTEND;TZID=UTC:20221125T100000
DTSTAMP:20260424T021133
CREATED:20220920T174917Z
LAST-MODIFIED:20221001T212741Z
UID:7999-1669363200-1669370400@jekyllartists.com
SUMMARY:Members and Residents Early Shopping
DESCRIPTION:
URL:https://jekyllartists.com/event/members-and-residents-early-shopping/
LOCATION:Goodyear Cottage\, 321 Riverview Drive\, Jekyll Island\, GA\, 31527\, United States
CATEGORIES:Community
END:VEVENT
BEGIN:VEVENT
DTSTART;VALUE=DATE:20190920
DTEND;VALUE=DATE:20190921
DTSTAMP:20260424T021133
CREATED:20190920T222958Z
LAST-MODIFIED:20190920T222958Z
UID:5951-1568937600-1569023999@jekyllartists.com
SUMMARY:Fall Class Registration Opens
DESCRIPTION:
URL:https://jekyllartists.com/event/fall-class-registration-opens/
CATEGORIES:Community
END:VEVENT
BEGIN:VEVENT
DTSTART;TZID=UTC:20171219T200000
DTEND;TZID=UTC:20171219T210000
DTSTAMP:20260424T021133
CREATED:20171211T013436Z
LAST-MODIFIED:20171211T014015Z
UID:1507-1513713600-1513717200@jekyllartists.com
SUMMARY:525 - Advanced Pine Needle Basketry
DESCRIPTION:Ready to take your pine needle baskets to the next level? Learn how to make floating coils\, bridges and faggotting in this class. You must have taken a prior Beginner Pine Needle Basket Class to enter. Please bring your favorite needle\, a small pair of sharp scissors and a pair of pliers.
URL:https://jekyllartists.com/event/525-advanced-pine-needle-basketry/
CATEGORIES:Community
ATTACH;FMTTYPE=image/jpeg:https://jekyllartists.com/wp-content/uploads/2017/11/JekyllSingers.jpg
END:VEVENT
BEGIN:VEVENT
DTSTART;TZID=UTC:20171219T180000
DTEND;TZID=UTC:20171219T190000
DTSTAMP:20260424T021133
CREATED:20171211T013436Z
LAST-MODIFIED:20171211T014015Z
UID:1506-1513706400-1513710000@jekyllartists.com
SUMMARY:536 - Jekyll Island Writers Workshop
DESCRIPTION:Our Writers Workshop returns with some exciting changes for 2018. Our class time will now be two hours in length with the first hour devoted to creating new poems\, memoirs\, or fiction\, and the second hour focused on critique. Participants will distribute their works-in-progress prior to their scheduled critique time in order to receive thoughtful and supportive feedback from their fellow writers. Our goal is positive productivity.
URL:https://jekyllartists.com/event/536-jekyll-island-writers-workshop/
CATEGORIES:Community
ATTACH;FMTTYPE=image/jpeg:https://jekyllartists.com/wp-content/uploads/2017/11/JekyllSingers.jpg
END:VEVENT
BEGIN:VEVENT
DTSTART;TZID=UTC:20171219T160000
DTEND;TZID=UTC:20171219T170000
DTSTAMP:20260424T021133
CREATED:20171211T013433Z
LAST-MODIFIED:20171211T014012Z
UID:1505-1513699200-1513702800@jekyllartists.com
SUMMARY:533 - Multilayered Art Quilts
DESCRIPTION:Participants will create a 20×30 wall hanging/rug using techniques of design\, layering fabric\, cutting thru the fabric design\, ragging edges and machine quilting. Participants choose from three provided designs\, using a variety of beautiful batik fabrics and threads.
URL:https://jekyllartists.com/event/533-multilayered-art-quilts/
CATEGORIES:Community
ATTACH;FMTTYPE=image/jpeg:https://jekyllartists.com/wp-content/uploads/2017/11/JekyllSingers.jpg
END:VEVENT
BEGIN:VEVENT
DTSTART;TZID=UTC:20171219T140000
DTEND;TZID=UTC:20171219T150000
DTSTAMP:20260424T021133
CREATED:20171211T013433Z
LAST-MODIFIED:20171211T014012Z
UID:1504-1513692000-1513695600@jekyllartists.com
SUMMARY:598 - Introduction to Knitting
DESCRIPTION:We will learn about different kinds of knitting needles\, yarns\, yarn needles\, stitch holders\, markers and place holders. We will talk about different knit stitches. You will also receive many sources of knitting help\, advice and patterns. We will learn the basic knit stitch by making a project bag. If time and interest allow\, we will make a scarf or dishcloth.
URL:https://jekyllartists.com/event/598-introduction-to-knitting/
CATEGORIES:Community
ATTACH;FMTTYPE=image/jpeg:https://jekyllartists.com/wp-content/uploads/2017/11/JekyllSingers.jpg
END:VEVENT
BEGIN:VEVENT
DTSTART;TZID=UTC:20171219T120000
DTEND;TZID=UTC:20171219T130000
DTSTAMP:20260424T021133
CREATED:20171211T013432Z
LAST-MODIFIED:20171211T014012Z
UID:1503-1513684800-1513688400@jekyllartists.com
SUMMARY:599 - Knitting Tube Socks
DESCRIPTION:An introduction to circular knitting\, you will learn to knit tube socks. Tube socks are quick\, easy and fun! This is the easiest way to learn knitting with two sets of circular needles. I could not believe how easy the cast on is: I had to read it and watch several times to see what I was missing. Nothing!!! It is fun and easy! I can’t wait to show you!
URL:https://jekyllartists.com/event/599-knitting-tube-socks/
CATEGORIES:Community
ATTACH;FMTTYPE=image/jpeg:https://jekyllartists.com/wp-content/uploads/2017/11/JekyllSingers.jpg
END:VEVENT
BEGIN:VEVENT
DTSTART;TZID=UTC:20171219T100000
DTEND;TZID=UTC:20171219T110000
DTSTAMP:20260424T021133
CREATED:20171211T013432Z
LAST-MODIFIED:20171211T014012Z
UID:1502-1513677600-1513681200@jekyllartists.com
SUMMARY:600 - Digital Field Photography
DESCRIPTION:Digital field photography on Jekyll Island – it doesn’t get any better than that. Treat yourself to three field shoots – a sunrise shoot\, a sunset shoot\, and a mid-day shoot – at three separate venues on Jekyll Island. After each shoot\, we will download and critique the images\, and offer suggestions on how to edit them. The class is limited to eight students.
URL:https://jekyllartists.com/event/600-digital-field-photography/
CATEGORIES:Community
ATTACH;FMTTYPE=image/jpeg:https://jekyllartists.com/wp-content/uploads/2017/11/JekyllSingers.jpg
END:VEVENT
BEGIN:VEVENT
DTSTART;TZID=UTC:20171219T080000
DTEND;TZID=UTC:20171219T090000
DTSTAMP:20260424T021133
CREATED:20171211T013431Z
LAST-MODIFIED:20171211T014012Z
UID:1501-1513670400-1513674000@jekyllartists.com
SUMMARY:601 - Watercolor without Boundaries
DESCRIPTION:New instructor Catherine Hillis brings saturated color\, dramatic light and emotive atmosphere to life in watercolors. The instructor will guide students to develop solid skills\, successful compositions and how to paint reflections and dramatic light. This class begins with an introduction to the basic skills of watercolor painting\, moves on to the development of successful composition\, and covers drawing skills and expressive design. The instructor will teach students how to add atmospheric attitude to their work. Individual coaching\, daily demonstrations and positive critiques are incorporated in every class. Hillis will encourage beginners in their skills and nudge intermediates to the next level.
URL:https://jekyllartists.com/event/601-watercolor-without-boundaries/
CATEGORIES:Community
ATTACH;FMTTYPE=image/jpeg:https://jekyllartists.com/wp-content/uploads/2017/11/JekyllSingers.jpg
END:VEVENT
END:VCALENDAR