BEGIN:VCALENDAR
VERSION:2.0
PRODID:-//Jekyll Island Arts Association - ECPv6.15.20//NONSGML v1.0//EN
CALSCALE:GREGORIAN
METHOD:PUBLISH
X-ORIGINAL-URL:https://jekyllartists.com
X-WR-CALDESC:Events for Jekyll Island Arts Association
REFRESH-INTERVAL;VALUE=DURATION:PT1H
X-Robots-Tag:noindex
X-PUBLISHED-TTL:PT1H
BEGIN:VTIMEZONE
TZID:UTC
BEGIN:STANDARD
TZOFFSETFROM:+0000
TZOFFSETTO:+0000
TZNAME:UTC
DTSTART:20170101T000000
END:STANDARD
END:VTIMEZONE
BEGIN:VEVENT
DTSTART;TZID=UTC:20180228T130000
DTEND;TZID=UTC:20180228T160000
DTSTAMP:20260424T235332
CREATED:20171218T214746Z
LAST-MODIFIED:20171218T224723Z
UID:1817-1519822800-1519833600@jekyllartists.com
SUMMARY:Intermediate Watercolor Painting
DESCRIPTION:
URL:https://jekyllartists.com/event/intermediate-watercolor-painting-8/
CATEGORIES:Class #8
END:VEVENT
BEGIN:VEVENT
DTSTART;TZID=UTC:20180223T130000
DTEND;TZID=UTC:20180223T130000
DTSTAMP:20260424T235332
CREATED:20171218T214710Z
LAST-MODIFIED:20171218T214710Z
UID:1757-1519390800-1519390800@jekyllartists.com
SUMMARY:Beginning Watercolor II
DESCRIPTION:
URL:https://jekyllartists.com/event/beginning-watercolor-ii-8/
CATEGORIES:Class #8
END:VEVENT
BEGIN:VEVENT
DTSTART;TZID=UTC:20180222T100000
DTEND;TZID=UTC:20180222T123000
DTSTAMP:20260424T235332
CREATED:20171218T214706Z
LAST-MODIFIED:20171218T224701Z
UID:1749-1519293600-1519302600@jekyllartists.com
SUMMARY:Watercolor Without Boundaries
DESCRIPTION:
URL:https://jekyllartists.com/event/watercolor-without-boundaries-8/
CATEGORIES:Class #8
END:VEVENT
END:VCALENDAR