BEGIN:VCALENDAR
VERSION:2.0
PRODID:-//Jekyll Island Arts Association - ECPv6.15.20//NONSGML v1.0//EN
CALSCALE:GREGORIAN
METHOD:PUBLISH
X-WR-CALNAME:Jekyll Island Arts Association
X-ORIGINAL-URL:https://jekyllartists.com
X-WR-CALDESC:Events for Jekyll Island Arts Association
REFRESH-INTERVAL;VALUE=DURATION:PT1H
X-Robots-Tag:noindex
X-PUBLISHED-TTL:PT1H
BEGIN:VTIMEZONE
TZID:UTC
BEGIN:STANDARD
TZOFFSETFROM:+0000
TZOFFSETTO:+0000
TZNAME:UTC
DTSTART:20170101T000000
END:STANDARD
END:VTIMEZONE
BEGIN:VEVENT
DTSTART;TZID=UTC:20180221T153000
DTEND;TZID=UTC:20180221T163000
DTSTAMP:20260424T183309
CREATED:20171218T214829Z
LAST-MODIFIED:20171218T224744Z
UID:1887-1519227000-1519230600@jekyllartists.com
SUMMARY:Mindfullness ~ Meditation
DESCRIPTION:
URL:https://jekyllartists.com/event/mindfullness-meditation-6/
LOCATION:Instructor Home
CATEGORIES:Class #6
END:VEVENT
BEGIN:VEVENT
DTSTART;TZID=UTC:20180221T093000
DTEND;TZID=UTC:20180221T120000
DTSTAMP:20260424T183309
CREATED:20171218T214824Z
LAST-MODIFIED:20171218T224742Z
UID:1878-1519205400-1519214400@jekyllartists.com
SUMMARY:Painting Landscapes in an Impressionist Style
DESCRIPTION:
URL:https://jekyllartists.com/event/painting-landscapes-in-an-impressionist-style-6/
CATEGORIES:Class #6
END:VEVENT
BEGIN:VEVENT
DTSTART;TZID=UTC:20180220T190000
DTEND;TZID=UTC:20180220T200000
DTSTAMP:20260424T183309
CREATED:20171218T214820Z
LAST-MODIFIED:20171218T224739Z
UID:1872-1519153200-1519156800@jekyllartists.com
SUMMARY:The Art of Writing Poetry - Evening
DESCRIPTION:
URL:https://jekyllartists.com/event/the-art-of-writing-poetry-evening-6/
LOCATION:Instructor Home
CATEGORIES:Class #6
END:VEVENT
BEGIN:VEVENT
DTSTART;TZID=UTC:20180220T100000
DTEND;TZID=UTC:20180220T113000
DTSTAMP:20260424T183309
CREATED:20171218T214816Z
LAST-MODIFIED:20171218T224738Z
UID:1866-1519120800-1519126200@jekyllartists.com
SUMMARY:The Art of Writing Poetry  - Morning
DESCRIPTION:
URL:https://jekyllartists.com/event/the-art-of-writing-poetry-morning-6/
LOCATION:Instructor Home
CATEGORIES:Class #6
END:VEVENT
BEGIN:VEVENT
DTSTART;TZID=UTC:20180216T130000
DTEND;TZID=UTC:20180216T160000
DTSTAMP:20260424T183309
CREATED:20171218T214812Z
LAST-MODIFIED:20171218T224736Z
UID:1860-1518786000-1518796800@jekyllartists.com
SUMMARY:Advanced Weaving
DESCRIPTION:
URL:https://jekyllartists.com/event/advanced-weaving-6/
CATEGORIES:Class #6
END:VEVENT
BEGIN:VEVENT
DTSTART;TZID=UTC:20180215T180000
DTEND;TZID=UTC:20180215T200000
DTSTAMP:20260424T183309
CREATED:20171218T214756Z
LAST-MODIFIED:20171218T224728Z
UID:1834-1518717600-1518724800@jekyllartists.com
SUMMARY:Jekyll Island Writers Workshop
DESCRIPTION:
URL:https://jekyllartists.com/event/jekyll-island-writers-workshop-6/
CATEGORIES:Class #6
END:VEVENT
BEGIN:VEVENT
DTSTART;TZID=UTC:20180215T090000
DTEND;TZID=UTC:20180215T113000
DTSTAMP:20260424T183309
CREATED:20171218T214800Z
LAST-MODIFIED:20171218T224729Z
UID:1840-1518685200-1518694200@jekyllartists.com
SUMMARY:Multilayered Art Quilts
DESCRIPTION:
URL:https://jekyllartists.com/event/multilayered-art-quilts-6/
CATEGORIES:Class #6
END:VEVENT
BEGIN:VEVENT
DTSTART;TZID=UTC:20180214T130000
DTEND;TZID=UTC:20180214T160000
DTSTAMP:20260424T183309
CREATED:20171218T214753Z
LAST-MODIFIED:20171218T224726Z
UID:1828-1518613200-1518624000@jekyllartists.com
SUMMARY:Intermediate Weaving
DESCRIPTION:
URL:https://jekyllartists.com/event/intermediate-weaving-6/
CATEGORIES:Class #6
END:VEVENT
BEGIN:VEVENT
DTSTART;TZID=UTC:20180214T130000
DTEND;TZID=UTC:20180214T160000
DTSTAMP:20260424T183309
CREATED:20171218T214746Z
LAST-MODIFIED:20171218T224723Z
UID:1815-1518613200-1518624000@jekyllartists.com
SUMMARY:Intermediate Watercolor Painting
DESCRIPTION:
URL:https://jekyllartists.com/event/intermediate-watercolor-painting-6/
CATEGORIES:Class #6
END:VEVENT
BEGIN:VEVENT
DTSTART;TZID=UTC:20180212T143000
DTEND;TZID=UTC:20180212T163000
DTSTAMP:20260424T183309
CREATED:20171218T214718Z
LAST-MODIFIED:20171218T224709Z
UID:1769-1518445800-1518453000@jekyllartists.com
SUMMARY:Sculpting Clay for Intermediates
DESCRIPTION:
URL:https://jekyllartists.com/event/sculpting-clay-for-intermediates-6/
CATEGORIES:Class #6
END:VEVENT
BEGIN:VEVENT
DTSTART;TZID=UTC:20180212T120000
DTEND;TZID=UTC:20180212T140000
DTSTAMP:20260424T183309
CREATED:20171218T214714Z
LAST-MODIFIED:20171218T224707Z
UID:1763-1518436800-1518444000@jekyllartists.com
SUMMARY:Sculpting Clay for Beginners
DESCRIPTION:
URL:https://jekyllartists.com/event/sculpting-clay-for-beginners-6/
CATEGORIES:Class #6
END:VEVENT
BEGIN:VEVENT
DTSTART;TZID=UTC:20180212T100000
DTEND;TZID=UTC:20180212T130000
DTSTAMP:20260424T183309
CREATED:20171218T214724Z
LAST-MODIFIED:20171218T224712Z
UID:1781-1518429600-1518440400@jekyllartists.com
SUMMARY:Beginning Weaving
DESCRIPTION:
URL:https://jekyllartists.com/event/beginning-weaving-6/
CATEGORIES:Class #6
END:VEVENT
BEGIN:VEVENT
DTSTART;TZID=UTC:20180209T130000
DTEND;TZID=UTC:20180209T130000
DTSTAMP:20260424T183309
CREATED:20171218T214709Z
LAST-MODIFIED:20171218T214709Z
UID:1755-1518181200-1518181200@jekyllartists.com
SUMMARY:Beginning Watercolor II
DESCRIPTION:
URL:https://jekyllartists.com/event/beginning-watercolor-ii-6/
CATEGORIES:Class #6
END:VEVENT
BEGIN:VEVENT
DTSTART;TZID=UTC:20180208T100000
DTEND;TZID=UTC:20180208T123000
DTSTAMP:20260424T183309
CREATED:20171218T214705Z
LAST-MODIFIED:20171218T224700Z
UID:1747-1518084000-1518093000@jekyllartists.com
SUMMARY:Watercolor Without Boundaries
DESCRIPTION:
URL:https://jekyllartists.com/event/watercolor-without-boundaries-6/
CATEGORIES:Class #6
END:VEVENT
END:VCALENDAR