BEGIN:VCALENDAR
VERSION:2.0
PRODID:-//Jekyll Island Arts Association - ECPv6.15.20//NONSGML v1.0//EN
CALSCALE:GREGORIAN
METHOD:PUBLISH
X-WR-CALNAME:Jekyll Island Arts Association
X-ORIGINAL-URL:https://jekyllartists.com
X-WR-CALDESC:Events for Jekyll Island Arts Association
REFRESH-INTERVAL;VALUE=DURATION:PT1H
X-Robots-Tag:noindex
X-PUBLISHED-TTL:PT1H
BEGIN:VTIMEZONE
TZID:UTC
BEGIN:STANDARD
TZOFFSETFROM:+0000
TZOFFSETTO:+0000
TZNAME:UTC
DTSTART:20170101T000000
END:STANDARD
END:VTIMEZONE
BEGIN:VEVENT
DTSTART;TZID=UTC:20180131T090000
DTEND;TZID=UTC:20180131T113000
DTSTAMP:20260424T220100
CREATED:20171218T214749Z
LAST-MODIFIED:20171218T224724Z
UID:1821-1517389200-1517398200@jekyllartists.com
SUMMARY:Rag Rug Weaving
DESCRIPTION:
URL:https://jekyllartists.com/event/rag-rug-weaving-4/
CATEGORIES:Class #4
END:VEVENT
BEGIN:VEVENT
DTSTART;TZID=UTC:20180130T133000
DTEND;TZID=UTC:20180130T153000
DTSTAMP:20260424T220100
CREATED:20171218T214739Z
LAST-MODIFIED:20171218T224719Z
UID:1805-1517319000-1517326200@jekyllartists.com
SUMMARY:The Merchant of Venice
DESCRIPTION:
URL:https://jekyllartists.com/event/the-merchant-of-venice-4/
LOCATION:Jekyll Island Methodist Church\, 503 Riverview Drive\, Jekyll Island\, 31527\, United States
CATEGORIES:Class #4
END:VEVENT
BEGIN:VEVENT
DTSTART;TZID=UTC:20180130T120000
DTEND;TZID=UTC:20180130T133000
DTSTAMP:20260424T220100
CREATED:20171218T214736Z
LAST-MODIFIED:20171218T224718Z
UID:1801-1517313600-1517319000@jekyllartists.com
SUMMARY:Memoir Writing
DESCRIPTION:
URL:https://jekyllartists.com/event/memoir-writing-4/
CATEGORIES:Class #4
END:VEVENT
BEGIN:VEVENT
DTSTART;TZID=UTC:20180130T100000
DTEND;TZID=UTC:20180130T110000
DTSTAMP:20260424T220100
CREATED:20171218T214734Z
LAST-MODIFIED:20171218T224717Z
UID:1797-1517306400-1517310000@jekyllartists.com
SUMMARY:The Millionaires of Jekyll Island
DESCRIPTION:
URL:https://jekyllartists.com/event/the-millionaires-of-jekyll-island-4/
LOCATION:Jekyll Island Methodist Church\, 503 Riverview Drive\, Jekyll Island\, 31527\, United States
CATEGORIES:Class #4
END:VEVENT
BEGIN:VEVENT
DTSTART;TZID=UTC:20180130T090000
DTEND;TZID=UTC:20180130T230000
DTSTAMP:20260424T220100
CREATED:20171218T214731Z
LAST-MODIFIED:20171218T224715Z
UID:1792-1517302800-1517353200@jekyllartists.com
SUMMARY:Linocut Print Making
DESCRIPTION:
URL:https://jekyllartists.com/event/linocut-print-making-4/
CATEGORIES:Class #4
END:VEVENT
BEGIN:VEVENT
DTSTART;TZID=UTC:20180129T150000
DTEND;TZID=UTC:20180129T170000
DTSTAMP:20260424T220100
CREATED:20171218T214720Z
LAST-MODIFIED:20171218T224710Z
UID:1773-1517238000-1517245200@jekyllartists.com
SUMMARY:Fly Tying for Beginners
DESCRIPTION:
URL:https://jekyllartists.com/event/fly-tying-for-beginners-4/
LOCATION:Instructor Home
CATEGORIES:Class #4
END:VEVENT
BEGIN:VEVENT
DTSTART;TZID=UTC:20180129T143000
DTEND;TZID=UTC:20180129T163000
DTSTAMP:20260424T220100
CREATED:20171218T214716Z
LAST-MODIFIED:20171218T224708Z
UID:1767-1517236200-1517243400@jekyllartists.com
SUMMARY:Sculpting Clay for Intermediates
DESCRIPTION:
URL:https://jekyllartists.com/event/sculpting-clay-for-intermediates-4/
CATEGORIES:Class #4
END:VEVENT
BEGIN:VEVENT
DTSTART;TZID=UTC:20180129T120000
DTEND;TZID=UTC:20180129T140000
DTSTAMP:20260424T220100
CREATED:20171218T214713Z
LAST-MODIFIED:20171218T224707Z
UID:1761-1517227200-1517234400@jekyllartists.com
SUMMARY:Sculpting Clay for Beginners
DESCRIPTION:
URL:https://jekyllartists.com/event/sculpting-clay-for-beginners-4/
CATEGORIES:Class #4
END:VEVENT
BEGIN:VEVENT
DTSTART;TZID=UTC:20180129T100000
DTEND;TZID=UTC:20180129T130000
DTSTAMP:20260424T220100
CREATED:20171218T214723Z
LAST-MODIFIED:20171218T224712Z
UID:1779-1517220000-1517230800@jekyllartists.com
SUMMARY:Beginning Weaving
DESCRIPTION:
URL:https://jekyllartists.com/event/beginning-weaving-4/
CATEGORIES:Class #4
END:VEVENT
BEGIN:VEVENT
DTSTART;TZID=UTC:20180126T130000
DTEND;TZID=UTC:20180126T130000
DTSTAMP:20260424T220100
CREATED:20171218T224703Z
LAST-MODIFIED:20171218T224703Z
UID:2319-1516971600-1516971600@jekyllartists.com
SUMMARY:Beginning Watercolor II
DESCRIPTION:
URL:https://jekyllartists.com/event/beginning-watercolor-ii-28/
CATEGORIES:Class #4
END:VEVENT
BEGIN:VEVENT
DTSTART;TZID=UTC:20180125T140000
DTEND;TZID=UTC:20180125T160000
DTSTAMP:20260424T220100
CREATED:20171218T214729Z
LAST-MODIFIED:20171218T224714Z
UID:1788-1516888800-1516896000@jekyllartists.com
SUMMARY:Advanced Pine Needle Basketry
DESCRIPTION:
URL:https://jekyllartists.com/event/advanced-pine-needle-basketry-6/
CATEGORIES:Class #4
END:VEVENT
BEGIN:VEVENT
DTSTART;TZID=UTC:20180125T130000
DTEND;TZID=UTC:20180125T130000
DTSTAMP:20260424T220100
CREATED:20171218T214701Z
LAST-MODIFIED:20171218T224658Z
UID:1741-1516885200-1516885200@jekyllartists.com
SUMMARY:Learn to Knit Tube Socks
DESCRIPTION:
URL:https://jekyllartists.com/event/learn-to-knit-tube-socks-4/
CATEGORIES:Class #4
END:VEVENT
BEGIN:VEVENT
DTSTART;TZID=UTC:20180125T100000
DTEND;TZID=UTC:20180125T123000
DTSTAMP:20260424T220100
CREATED:20171218T214703Z
LAST-MODIFIED:20171218T224700Z
UID:1745-1516874400-1516883400@jekyllartists.com
SUMMARY:Watercolor Without Boundaries
DESCRIPTION:
URL:https://jekyllartists.com/event/watercolor-without-boundaries-4/
CATEGORIES:Class #4
END:VEVENT
BEGIN:VEVENT
DTSTART;TZID=UTC:20180124T130000
DTEND;TZID=UTC:20180124T160000
DTSTAMP:20260424T220100
CREATED:20171218T214657Z
LAST-MODIFIED:20171218T224656Z
UID:1737-1516798800-1516809600@jekyllartists.com
SUMMARY:Beginning Mahjong Jekyll Island Version
DESCRIPTION:
URL:https://jekyllartists.com/event/beginning-mahjong-jekyll-island-version-4/
LOCATION:Instructor Home
CATEGORIES:Class #4
END:VEVENT
BEGIN:VEVENT
DTSTART;TZID=UTC:20180123T140000
DTEND;TZID=UTC:20180123T160000
DTSTAMP:20260424T220100
CREATED:20171218T214728Z
LAST-MODIFIED:20171218T224714Z
UID:1787-1516716000-1516723200@jekyllartists.com
SUMMARY:Advanced Pine Needle Basketry
DESCRIPTION:
URL:https://jekyllartists.com/event/advanced-pine-needle-basketry-5/
CATEGORIES:Class #4
END:VEVENT
BEGIN:VEVENT
DTSTART;TZID=UTC:20180118T140000
DTEND;TZID=UTC:20180118T160000
DTSTAMP:20260424T220100
CREATED:20171218T214728Z
LAST-MODIFIED:20171218T224714Z
UID:1786-1516284000-1516291200@jekyllartists.com
SUMMARY:Advanced Pine Needle Basketry
DESCRIPTION:
URL:https://jekyllartists.com/event/advanced-pine-needle-basketry-4/
CATEGORIES:Class #4
END:VEVENT
END:VCALENDAR