BEGIN:VCALENDAR
VERSION:2.0
PRODID:-//Jekyll Island Arts Association - ECPv6.15.20//NONSGML v1.0//EN
CALSCALE:GREGORIAN
METHOD:PUBLISH
X-WR-CALNAME:Jekyll Island Arts Association
X-ORIGINAL-URL:https://jekyllartists.com
X-WR-CALDESC:Events for Jekyll Island Arts Association
REFRESH-INTERVAL;VALUE=DURATION:PT1H
X-Robots-Tag:noindex
X-PUBLISHED-TTL:PT1H
BEGIN:VTIMEZONE
TZID:UTC
BEGIN:STANDARD
TZOFFSETFROM:+0000
TZOFFSETTO:+0000
TZNAME:UTC
DTSTART:20170101T000000
END:STANDARD
END:VTIMEZONE
BEGIN:VEVENT
DTSTART;TZID=UTC:20180312T150000
DTEND;TZID=UTC:20180312T170000
DTSTAMP:20260424T183310
CREATED:20171218T214903Z
LAST-MODIFIED:20171218T224802Z
UID:1939-1520866800-1520874000@jekyllartists.com
SUMMARY:Fly Casting for Beginners
DESCRIPTION:
URL:https://jekyllartists.com/event/fly-casting-for-beginners-4/
LOCATION:Golf Course
CATEGORIES:Class #4
END:VEVENT
BEGIN:VEVENT
DTSTART;TZID=UTC:20180301T130000
DTEND;TZID=UTC:20180301T160000
DTSTAMP:20260424T183310
CREATED:20171218T214905Z
LAST-MODIFIED:20171218T224804Z
UID:1943-1519909200-1519920000@jekyllartists.com
SUMMARY:Shetland Lace Scarf
DESCRIPTION:
URL:https://jekyllartists.com/event/shetland-lace-scarf-4/
CATEGORIES:Class #4
END:VEVENT
BEGIN:VEVENT
DTSTART;TZID=UTC:20180228T130000
DTEND;TZID=UTC:20180228T160000
DTSTAMP:20260424T183310
CREATED:20171218T214850Z
LAST-MODIFIED:20171218T224756Z
UID:1920-1519822800-1519833600@jekyllartists.com
SUMMARY:Beginning Mahjong National Version
DESCRIPTION:
URL:https://jekyllartists.com/event/beginning-mahjong-national-version-4/
LOCATION:Instructor Home
CATEGORIES:Class #4
END:VEVENT
BEGIN:VEVENT
DTSTART;TZID=UTC:20180228T100000
DTEND;TZID=UTC:20180228T120000
DTSTAMP:20260424T183310
CREATED:20171218T214846Z
LAST-MODIFIED:20171218T224754Z
UID:1913-1519812000-1519819200@jekyllartists.com
SUMMARY:Mosaic Planter
DESCRIPTION:
URL:https://jekyllartists.com/event/mosaic-planter-4/
CATEGORIES:Class #4
END:VEVENT
BEGIN:VEVENT
DTSTART;TZID=UTC:20180227T133000
DTEND;TZID=UTC:20180227T153000
DTSTAMP:20260424T183310
CREATED:20171218T214844Z
LAST-MODIFIED:20171218T224752Z
UID:1909-1519738200-1519745400@jekyllartists.com
SUMMARY:Favorite Poems of Yesteryear - Gone But Not Forgotten
DESCRIPTION:
URL:https://jekyllartists.com/event/favorite-poems-of-yesteryear-gone-but-not-forgotten-4/
LOCATION:Jekyll Island Methodist Church\, 503 Riverview Drive\, Jekyll Island\, 31527\, United States
CATEGORIES:Class #4
END:VEVENT
BEGIN:VEVENT
DTSTART;TZID=UTC:20180216T090000
DTEND;TZID=UTC:20180216T113000
DTSTAMP:20260424T183310
CREATED:20171218T214855Z
LAST-MODIFIED:20171218T224759Z
UID:1928-1518771600-1518780600@jekyllartists.com
SUMMARY:Observational Drawing
DESCRIPTION:
URL:https://jekyllartists.com/event/observational-drawing-5/
CATEGORIES:Class #4
END:VEVENT
BEGIN:VEVENT
DTSTART;TZID=UTC:20180215T090000
DTEND;TZID=UTC:20180215T113000
DTSTAMP:20260424T183310
CREATED:20171218T214855Z
LAST-MODIFIED:20171218T224759Z
UID:1927-1518685200-1518694200@jekyllartists.com
SUMMARY:Observational Drawing
DESCRIPTION:
URL:https://jekyllartists.com/event/observational-drawing-4/
CATEGORIES:Class #4
END:VEVENT
BEGIN:VEVENT
DTSTART;TZID=UTC:20180213T093000
DTEND;TZID=UTC:20180213T120000
DTSTAMP:20260424T183310
CREATED:20171218T214834Z
LAST-MODIFIED:20171218T224747Z
UID:1895-1518514200-1518523200@jekyllartists.com
SUMMARY:Victorian Beaded Knitted Bag
DESCRIPTION:
URL:https://jekyllartists.com/event/victorian-beaded-knitted-bag-4/
CATEGORIES:Class #4
END:VEVENT
BEGIN:VEVENT
DTSTART;TZID=UTC:20180207T153000
DTEND;TZID=UTC:20180207T163000
DTSTAMP:20260424T183310
CREATED:20171218T214827Z
LAST-MODIFIED:20171218T224743Z
UID:1885-1518017400-1518021000@jekyllartists.com
SUMMARY:Mindfullness ~ Meditation
DESCRIPTION:
URL:https://jekyllartists.com/event/mindfullness-meditation-4/
LOCATION:Instructor Home
CATEGORIES:Class #4
END:VEVENT
BEGIN:VEVENT
DTSTART;TZID=UTC:20180207T093000
DTEND;TZID=UTC:20180207T120000
DTSTAMP:20260424T183310
CREATED:20171218T214822Z
LAST-MODIFIED:20171218T224741Z
UID:1876-1517995800-1518004800@jekyllartists.com
SUMMARY:Painting Landscapes in an Impressionist Style
DESCRIPTION:
URL:https://jekyllartists.com/event/painting-landscapes-in-an-impressionist-style-4/
CATEGORIES:Class #4
END:VEVENT
BEGIN:VEVENT
DTSTART;TZID=UTC:20180206T190000
DTEND;TZID=UTC:20180206T200000
DTSTAMP:20260424T183310
CREATED:20171218T214819Z
LAST-MODIFIED:20171218T224739Z
UID:1870-1517943600-1517947200@jekyllartists.com
SUMMARY:The Art of Writing Poetry - Evening
DESCRIPTION:
URL:https://jekyllartists.com/event/the-art-of-writing-poetry-evening-4/
LOCATION:Instructor Home
CATEGORIES:Class #4
END:VEVENT
BEGIN:VEVENT
DTSTART;TZID=UTC:20180206T100000
DTEND;TZID=UTC:20180206T113000
DTSTAMP:20260424T183310
CREATED:20171218T214815Z
LAST-MODIFIED:20171218T224737Z
UID:1864-1517911200-1517916600@jekyllartists.com
SUMMARY:The Art of Writing Poetry  - Morning
DESCRIPTION:
URL:https://jekyllartists.com/event/the-art-of-writing-poetry-morning-4/
LOCATION:Instructor Home
CATEGORIES:Class #4
END:VEVENT
BEGIN:VEVENT
DTSTART;TZID=UTC:20180202T130000
DTEND;TZID=UTC:20180202T160000
DTSTAMP:20260424T183310
CREATED:20171218T214811Z
LAST-MODIFIED:20171218T224735Z
UID:1858-1517576400-1517587200@jekyllartists.com
SUMMARY:Advanced Weaving
DESCRIPTION:
URL:https://jekyllartists.com/event/advanced-weaving-4/
CATEGORIES:Class #4
END:VEVENT
BEGIN:VEVENT
DTSTART;TZID=UTC:20180202T100000
DTEND;TZID=UTC:20180202T120000
DTSTAMP:20260424T183310
CREATED:20171218T214807Z
LAST-MODIFIED:20171218T224733Z
UID:1851-1517565600-1517572800@jekyllartists.com
SUMMARY:Introduction to Zentangle 101
DESCRIPTION:
URL:https://jekyllartists.com/event/introduction-to-zentangle-101-4/
LOCATION:Jekyll Island Methodist Church\, 503 Riverview Drive\, Jekyll Island\, 31527\, United States
CATEGORIES:Class #4
END:VEVENT
BEGIN:VEVENT
DTSTART;TZID=UTC:20180201T180000
DTEND;TZID=UTC:20180201T200000
DTSTAMP:20260424T183310
CREATED:20171218T214756Z
LAST-MODIFIED:20171218T224728Z
UID:1832-1517508000-1517515200@jekyllartists.com
SUMMARY:Jekyll Island Writers Workshop
DESCRIPTION:
URL:https://jekyllartists.com/event/jekyll-island-writers-workshop-4/
CATEGORIES:Class #4
END:VEVENT
BEGIN:VEVENT
DTSTART;TZID=UTC:20180201T100000
DTEND;TZID=UTC:20180201T120000
DTSTAMP:20260424T183310
CREATED:20171218T214805Z
LAST-MODIFIED:20171218T224732Z
UID:1847-1517479200-1517486400@jekyllartists.com
SUMMARY:Digital Field Photography
DESCRIPTION:
URL:https://jekyllartists.com/event/digital-field-photography-4/
CATEGORIES:Class #4
END:VEVENT
BEGIN:VEVENT
DTSTART;TZID=UTC:20180201T090000
DTEND;TZID=UTC:20180201T113000
DTSTAMP:20260424T183310
CREATED:20171218T214759Z
LAST-MODIFIED:20171218T224729Z
UID:1838-1517475600-1517484600@jekyllartists.com
SUMMARY:Multilayered Art Quilts
DESCRIPTION:
URL:https://jekyllartists.com/event/multilayered-art-quilts-4/
CATEGORIES:Class #4
END:VEVENT
BEGIN:VEVENT
DTSTART;TZID=UTC:20180131T130000
DTEND;TZID=UTC:20180131T160000
DTSTAMP:20260424T183310
CREATED:20171218T214751Z
LAST-MODIFIED:20171218T224725Z
UID:1826-1517403600-1517414400@jekyllartists.com
SUMMARY:Intermediate Weaving
DESCRIPTION:
URL:https://jekyllartists.com/event/intermediate-weaving-4/
CATEGORIES:Class #4
END:VEVENT
BEGIN:VEVENT
DTSTART;TZID=UTC:20180131T130000
DTEND;TZID=UTC:20180131T160000
DTSTAMP:20260424T183310
CREATED:20171218T214744Z
LAST-MODIFIED:20171218T224722Z
UID:1813-1517403600-1517414400@jekyllartists.com
SUMMARY:Intermediate Watercolor Painting
DESCRIPTION:
URL:https://jekyllartists.com/event/intermediate-watercolor-painting-4/
CATEGORIES:Class #4
END:VEVENT
BEGIN:VEVENT
DTSTART;TZID=UTC:20180131T100000
DTEND;TZID=UTC:20180131T120000
DTSTAMP:20260424T183310
CREATED:20171218T214741Z
LAST-MODIFIED:20171218T224721Z
UID:1809-1517392800-1517400000@jekyllartists.com
SUMMARY:Mosaic Birdbath
DESCRIPTION:
URL:https://jekyllartists.com/event/mosaic-birdbath-4/
CATEGORIES:Class #4
END:VEVENT
BEGIN:VEVENT
DTSTART;TZID=UTC:20180131T090000
DTEND;TZID=UTC:20180131T113000
DTSTAMP:20260424T183310
CREATED:20171218T214749Z
LAST-MODIFIED:20171218T224724Z
UID:1821-1517389200-1517398200@jekyllartists.com
SUMMARY:Rag Rug Weaving
DESCRIPTION:
URL:https://jekyllartists.com/event/rag-rug-weaving-4/
CATEGORIES:Class #4
END:VEVENT
BEGIN:VEVENT
DTSTART;TZID=UTC:20180130T133000
DTEND;TZID=UTC:20180130T153000
DTSTAMP:20260424T183310
CREATED:20171218T214739Z
LAST-MODIFIED:20171218T224719Z
UID:1805-1517319000-1517326200@jekyllartists.com
SUMMARY:The Merchant of Venice
DESCRIPTION:
URL:https://jekyllartists.com/event/the-merchant-of-venice-4/
LOCATION:Jekyll Island Methodist Church\, 503 Riverview Drive\, Jekyll Island\, 31527\, United States
CATEGORIES:Class #4
END:VEVENT
BEGIN:VEVENT
DTSTART;TZID=UTC:20180130T120000
DTEND;TZID=UTC:20180130T133000
DTSTAMP:20260424T183310
CREATED:20171218T214736Z
LAST-MODIFIED:20171218T224718Z
UID:1801-1517313600-1517319000@jekyllartists.com
SUMMARY:Memoir Writing
DESCRIPTION:
URL:https://jekyllartists.com/event/memoir-writing-4/
CATEGORIES:Class #4
END:VEVENT
BEGIN:VEVENT
DTSTART;TZID=UTC:20180130T100000
DTEND;TZID=UTC:20180130T110000
DTSTAMP:20260424T183310
CREATED:20171218T214734Z
LAST-MODIFIED:20171218T224717Z
UID:1797-1517306400-1517310000@jekyllartists.com
SUMMARY:The Millionaires of Jekyll Island
DESCRIPTION:
URL:https://jekyllartists.com/event/the-millionaires-of-jekyll-island-4/
LOCATION:Jekyll Island Methodist Church\, 503 Riverview Drive\, Jekyll Island\, 31527\, United States
CATEGORIES:Class #4
END:VEVENT
BEGIN:VEVENT
DTSTART;TZID=UTC:20180130T090000
DTEND;TZID=UTC:20180130T230000
DTSTAMP:20260424T183310
CREATED:20171218T214731Z
LAST-MODIFIED:20171218T224715Z
UID:1792-1517302800-1517353200@jekyllartists.com
SUMMARY:Linocut Print Making
DESCRIPTION:
URL:https://jekyllartists.com/event/linocut-print-making-4/
CATEGORIES:Class #4
END:VEVENT
BEGIN:VEVENT
DTSTART;TZID=UTC:20180129T150000
DTEND;TZID=UTC:20180129T170000
DTSTAMP:20260424T183310
CREATED:20171218T214720Z
LAST-MODIFIED:20171218T224710Z
UID:1773-1517238000-1517245200@jekyllartists.com
SUMMARY:Fly Tying for Beginners
DESCRIPTION:
URL:https://jekyllartists.com/event/fly-tying-for-beginners-4/
LOCATION:Instructor Home
CATEGORIES:Class #4
END:VEVENT
BEGIN:VEVENT
DTSTART;TZID=UTC:20180129T143000
DTEND;TZID=UTC:20180129T163000
DTSTAMP:20260424T183310
CREATED:20171218T214716Z
LAST-MODIFIED:20171218T224708Z
UID:1767-1517236200-1517243400@jekyllartists.com
SUMMARY:Sculpting Clay for Intermediates
DESCRIPTION:
URL:https://jekyllartists.com/event/sculpting-clay-for-intermediates-4/
CATEGORIES:Class #4
END:VEVENT
BEGIN:VEVENT
DTSTART;TZID=UTC:20180129T120000
DTEND;TZID=UTC:20180129T140000
DTSTAMP:20260424T183310
CREATED:20171218T214713Z
LAST-MODIFIED:20171218T224707Z
UID:1761-1517227200-1517234400@jekyllartists.com
SUMMARY:Sculpting Clay for Beginners
DESCRIPTION:
URL:https://jekyllartists.com/event/sculpting-clay-for-beginners-4/
CATEGORIES:Class #4
END:VEVENT
BEGIN:VEVENT
DTSTART;TZID=UTC:20180129T100000
DTEND;TZID=UTC:20180129T130000
DTSTAMP:20260424T183310
CREATED:20171218T214723Z
LAST-MODIFIED:20171218T224712Z
UID:1779-1517220000-1517230800@jekyllartists.com
SUMMARY:Beginning Weaving
DESCRIPTION:
URL:https://jekyllartists.com/event/beginning-weaving-4/
CATEGORIES:Class #4
END:VEVENT
BEGIN:VEVENT
DTSTART;TZID=UTC:20180126T130000
DTEND;TZID=UTC:20180126T130000
DTSTAMP:20260424T183310
CREATED:20171218T224703Z
LAST-MODIFIED:20171218T224703Z
UID:2319-1516971600-1516971600@jekyllartists.com
SUMMARY:Beginning Watercolor II
DESCRIPTION:
URL:https://jekyllartists.com/event/beginning-watercolor-ii-28/
CATEGORIES:Class #4
END:VEVENT
END:VCALENDAR