BEGIN:VCALENDAR
VERSION:2.0
PRODID:-//Jekyll Island Arts Association - ECPv6.15.20//NONSGML v1.0//EN
CALSCALE:GREGORIAN
METHOD:PUBLISH
X-WR-CALNAME:Jekyll Island Arts Association
X-ORIGINAL-URL:https://jekyllartists.com
X-WR-CALDESC:Events for Jekyll Island Arts Association
REFRESH-INTERVAL;VALUE=DURATION:PT1H
X-Robots-Tag:noindex
X-PUBLISHED-TTL:PT1H
BEGIN:VTIMEZONE
TZID:UTC
BEGIN:STANDARD
TZOFFSETFROM:+0000
TZOFFSETTO:+0000
TZNAME:UTC
DTSTART:20170101T000000
END:STANDARD
END:VTIMEZONE
BEGIN:VEVENT
DTSTART;TZID=UTC:20180305T150000
DTEND;TZID=UTC:20180305T170000
DTSTAMP:20260424T183310
CREATED:20171218T214903Z
LAST-MODIFIED:20171218T224802Z
UID:1938-1520262000-1520269200@jekyllartists.com
SUMMARY:Fly Casting for Beginners
DESCRIPTION:
URL:https://jekyllartists.com/event/fly-casting-for-beginners-3/
LOCATION:Golf Course
CATEGORIES:Class #3
END:VEVENT
BEGIN:VEVENT
DTSTART;TZID=UTC:20180227T130000
DTEND;TZID=UTC:20180227T160000
DTSTAMP:20260424T183310
CREATED:20171218T214905Z
LAST-MODIFIED:20171218T224804Z
UID:1942-1519736400-1519747200@jekyllartists.com
SUMMARY:Shetland Lace Scarf
DESCRIPTION:
URL:https://jekyllartists.com/event/shetland-lace-scarf-3/
CATEGORIES:Class #3
END:VEVENT
BEGIN:VEVENT
DTSTART;TZID=UTC:20180226T140000
DTEND;TZID=UTC:20180226T160000
DTSTAMP:20260424T183310
CREATED:20171218T214857Z
LAST-MODIFIED:20171218T224800Z
UID:1931-1519653600-1519660800@jekyllartists.com
SUMMARY:Intro to Knitting
DESCRIPTION:
URL:https://jekyllartists.com/event/intro-to-knitting-3/
CATEGORIES:Class #3
END:VEVENT
BEGIN:VEVENT
DTSTART;TZID=UTC:20180221T130000
DTEND;TZID=UTC:20180221T160000
DTSTAMP:20260424T183310
CREATED:20171218T214849Z
LAST-MODIFIED:20171218T224755Z
UID:1919-1519218000-1519228800@jekyllartists.com
SUMMARY:Beginning Mahjong National Version
DESCRIPTION:
URL:https://jekyllartists.com/event/beginning-mahjong-national-version-3/
LOCATION:Instructor Home
CATEGORIES:Class #3
END:VEVENT
BEGIN:VEVENT
DTSTART;TZID=UTC:20180221T100000
DTEND;TZID=UTC:20180221T120000
DTSTAMP:20260424T183310
CREATED:20171218T214848Z
LAST-MODIFIED:20171218T224755Z
UID:1916-1519207200-1519214400@jekyllartists.com
SUMMARY:Beginners Tatting
DESCRIPTION:
URL:https://jekyllartists.com/event/beginners-tatting-6/
CATEGORIES:Class #3
END:VEVENT
BEGIN:VEVENT
DTSTART;TZID=UTC:20180221T100000
DTEND;TZID=UTC:20180221T120000
DTSTAMP:20260424T183310
CREATED:20171218T214846Z
LAST-MODIFIED:20171218T224753Z
UID:1912-1519207200-1519214400@jekyllartists.com
SUMMARY:Mosaic Planter
DESCRIPTION:
URL:https://jekyllartists.com/event/mosaic-planter-3/
CATEGORIES:Class #3
END:VEVENT
BEGIN:VEVENT
DTSTART;TZID=UTC:20180220T133000
DTEND;TZID=UTC:20180220T153000
DTSTAMP:20260424T183310
CREATED:20171218T214843Z
LAST-MODIFIED:20171218T224752Z
UID:1908-1519133400-1519140600@jekyllartists.com
SUMMARY:Favorite Poems of Yesteryear - Gone But Not Forgotten
DESCRIPTION:
URL:https://jekyllartists.com/event/favorite-poems-of-yesteryear-gone-but-not-forgotten-3/
LOCATION:Jekyll Island Methodist Church\, 503 Riverview Drive\, Jekyll Island\, 31527\, United States
CATEGORIES:Class #3
END:VEVENT
BEGIN:VEVENT
DTSTART;TZID=UTC:20180218T100000
DTEND;TZID=UTC:20180218T160000
DTSTAMP:20260424T183310
CREATED:20171218T214859Z
LAST-MODIFIED:20171218T224800Z
UID:1934-1518948000-1518969600@jekyllartists.com
SUMMARY:Full Fundamentals of Drawing and Painting
DESCRIPTION:
URL:https://jekyllartists.com/event/full-fundamentals-of-drawing-and-painting-3/
CATEGORIES:Class #3
END:VEVENT
BEGIN:VEVENT
DTSTART;TZID=UTC:20180214T090000
DTEND;TZID=UTC:20180214T113000
DTSTAMP:20260424T183310
CREATED:20171218T214854Z
LAST-MODIFIED:20171218T224758Z
UID:1926-1518598800-1518607800@jekyllartists.com
SUMMARY:Observational Drawing
DESCRIPTION:
URL:https://jekyllartists.com/event/observational-drawing-3/
CATEGORIES:Class #3
END:VEVENT
BEGIN:VEVENT
DTSTART;TZID=UTC:20180206T093000
DTEND;TZID=UTC:20180206T120000
DTSTAMP:20260424T183310
CREATED:20171218T214834Z
LAST-MODIFIED:20171218T224747Z
UID:1894-1517909400-1517918400@jekyllartists.com
SUMMARY:Victorian Beaded Knitted Bag
DESCRIPTION:
URL:https://jekyllartists.com/event/victorian-beaded-knitted-bag-3/
CATEGORIES:Class #3
END:VEVENT
BEGIN:VEVENT
DTSTART;TZID=UTC:20180131T153000
DTEND;TZID=UTC:20180131T163000
DTSTAMP:20260424T183310
CREATED:20171218T214827Z
LAST-MODIFIED:20171218T224743Z
UID:1884-1517412600-1517416200@jekyllartists.com
SUMMARY:Mindfullness ~ Meditation
DESCRIPTION:
URL:https://jekyllartists.com/event/mindfullness-meditation-3/
LOCATION:Instructor Home
CATEGORIES:Class #3
END:VEVENT
BEGIN:VEVENT
DTSTART;TZID=UTC:20180131T100000
DTEND;TZID=UTC:20180131T120000
DTSTAMP:20260424T183310
CREATED:20171218T214825Z
LAST-MODIFIED:20171218T224742Z
UID:1881-1517392800-1517400000@jekyllartists.com
SUMMARY:Beginners Tatting
DESCRIPTION:
URL:https://jekyllartists.com/event/beginners-tatting-3/
CATEGORIES:Class #3
END:VEVENT
BEGIN:VEVENT
DTSTART;TZID=UTC:20180131T093000
DTEND;TZID=UTC:20180131T120000
DTSTAMP:20260424T183310
CREATED:20171218T214822Z
LAST-MODIFIED:20171218T224741Z
UID:1875-1517391000-1517400000@jekyllartists.com
SUMMARY:Painting Landscapes in an Impressionist Style
DESCRIPTION:
URL:https://jekyllartists.com/event/painting-landscapes-in-an-impressionist-style-3/
CATEGORIES:Class #3
END:VEVENT
BEGIN:VEVENT
DTSTART;TZID=UTC:20180130T190000
DTEND;TZID=UTC:20180130T200000
DTSTAMP:20260424T183310
CREATED:20171218T214818Z
LAST-MODIFIED:20171218T224739Z
UID:1869-1517338800-1517342400@jekyllartists.com
SUMMARY:The Art of Writing Poetry - Evening
DESCRIPTION:
URL:https://jekyllartists.com/event/the-art-of-writing-poetry-evening-3/
LOCATION:Instructor Home
CATEGORIES:Class #3
END:VEVENT
BEGIN:VEVENT
DTSTART;TZID=UTC:20180130T100000
DTEND;TZID=UTC:20180130T113000
DTSTAMP:20260424T183310
CREATED:20171218T214814Z
LAST-MODIFIED:20171218T224737Z
UID:1863-1517306400-1517311800@jekyllartists.com
SUMMARY:The Art of Writing Poetry  - Morning
DESCRIPTION:
URL:https://jekyllartists.com/event/the-art-of-writing-poetry-morning-3/
LOCATION:Instructor Home
CATEGORIES:Class #3
END:VEVENT
BEGIN:VEVENT
DTSTART;TZID=UTC:20180126T130000
DTEND;TZID=UTC:20180126T160000
DTSTAMP:20260424T183310
CREATED:20171218T214811Z
LAST-MODIFIED:20171218T224735Z
UID:1857-1516971600-1516982400@jekyllartists.com
SUMMARY:Advanced Weaving
DESCRIPTION:
URL:https://jekyllartists.com/event/advanced-weaving-3/
CATEGORIES:Class #3
END:VEVENT
BEGIN:VEVENT
DTSTART;TZID=UTC:20180126T100000
DTEND;TZID=UTC:20180126T120000
DTSTAMP:20260424T183310
CREATED:20171218T214807Z
LAST-MODIFIED:20171218T224733Z
UID:1850-1516960800-1516968000@jekyllartists.com
SUMMARY:Introduction to Zentangle 101
DESCRIPTION:
URL:https://jekyllartists.com/event/introduction-to-zentangle-101-3/
LOCATION:Jekyll Island Methodist Church\, 503 Riverview Drive\, Jekyll Island\, 31527\, United States
CATEGORIES:Class #3
END:VEVENT
BEGIN:VEVENT
DTSTART;TZID=UTC:20180125T180000
DTEND;TZID=UTC:20180125T200000
DTSTAMP:20260424T183310
CREATED:20171218T214754Z
LAST-MODIFIED:20171218T224727Z
UID:1831-1516903200-1516910400@jekyllartists.com
SUMMARY:Jekyll Island Writers Workshop
DESCRIPTION:
URL:https://jekyllartists.com/event/jekyll-island-writers-workshop-3/
CATEGORIES:Class #3
END:VEVENT
BEGIN:VEVENT
DTSTART;TZID=UTC:20180125T100000
DTEND;TZID=UTC:20180125T120000
DTSTAMP:20260424T183310
CREATED:20171218T214804Z
LAST-MODIFIED:20171218T224732Z
UID:1846-1516874400-1516881600@jekyllartists.com
SUMMARY:Digital Field Photography
DESCRIPTION:
URL:https://jekyllartists.com/event/digital-field-photography-3/
CATEGORIES:Class #3
END:VEVENT
BEGIN:VEVENT
DTSTART;TZID=UTC:20180125T100000
DTEND;TZID=UTC:20180125T120000
DTSTAMP:20260424T183310
CREATED:20171218T214802Z
LAST-MODIFIED:20171218T224731Z
UID:1843-1516874400-1516881600@jekyllartists.com
SUMMARY:Introduction to Knitting
DESCRIPTION:
URL:https://jekyllartists.com/event/introduction-to-knitting-3/
CATEGORIES:Class #3
END:VEVENT
BEGIN:VEVENT
DTSTART;TZID=UTC:20180125T090000
DTEND;TZID=UTC:20180125T113000
DTSTAMP:20260424T183310
CREATED:20171218T214758Z
LAST-MODIFIED:20171218T224729Z
UID:1837-1516870800-1516879800@jekyllartists.com
SUMMARY:Multilayered Art Quilts
DESCRIPTION:
URL:https://jekyllartists.com/event/multilayered-art-quilts-3/
CATEGORIES:Class #3
END:VEVENT
BEGIN:VEVENT
DTSTART;TZID=UTC:20180124T130000
DTEND;TZID=UTC:20180124T160000
DTSTAMP:20260424T183310
CREATED:20171218T214751Z
LAST-MODIFIED:20171218T224725Z
UID:1825-1516798800-1516809600@jekyllartists.com
SUMMARY:Intermediate Weaving
DESCRIPTION:
URL:https://jekyllartists.com/event/intermediate-weaving-3/
CATEGORIES:Class #3
END:VEVENT
BEGIN:VEVENT
DTSTART;TZID=UTC:20180124T130000
DTEND;TZID=UTC:20180124T160000
DTSTAMP:20260424T183310
CREATED:20171218T214743Z
LAST-MODIFIED:20171218T224722Z
UID:1812-1516798800-1516809600@jekyllartists.com
SUMMARY:Intermediate Watercolor Painting
DESCRIPTION:
URL:https://jekyllartists.com/event/intermediate-watercolor-painting-3/
CATEGORIES:Class #3
END:VEVENT
BEGIN:VEVENT
DTSTART;TZID=UTC:20180124T100000
DTEND;TZID=UTC:20180124T120000
DTSTAMP:20260424T183310
CREATED:20171218T214741Z
LAST-MODIFIED:20171218T224720Z
UID:1808-1516788000-1516795200@jekyllartists.com
SUMMARY:Mosaic Birdbath
DESCRIPTION:
URL:https://jekyllartists.com/event/mosaic-birdbath-3/
CATEGORIES:Class #3
END:VEVENT
BEGIN:VEVENT
DTSTART;TZID=UTC:20180124T090000
DTEND;TZID=UTC:20180124T113000
DTSTAMP:20260424T183310
CREATED:20171218T214748Z
LAST-MODIFIED:20171218T224724Z
UID:1820-1516784400-1516793400@jekyllartists.com
SUMMARY:Rag Rug Weaving
DESCRIPTION:
URL:https://jekyllartists.com/event/rag-rug-weaving-3/
CATEGORIES:Class #3
END:VEVENT
BEGIN:VEVENT
DTSTART;TZID=UTC:20180123T133000
DTEND;TZID=UTC:20180123T153000
DTSTAMP:20260424T183310
CREATED:20171218T214739Z
LAST-MODIFIED:20171218T224719Z
UID:1804-1516714200-1516721400@jekyllartists.com
SUMMARY:The Merchant of Venice
DESCRIPTION:
URL:https://jekyllartists.com/event/the-merchant-of-venice-3/
LOCATION:Jekyll Island Methodist Church\, 503 Riverview Drive\, Jekyll Island\, 31527\, United States
CATEGORIES:Class #3
END:VEVENT
BEGIN:VEVENT
DTSTART;TZID=UTC:20180123T120000
DTEND;TZID=UTC:20180123T133000
DTSTAMP:20260424T183310
CREATED:20171218T214736Z
LAST-MODIFIED:20171218T224718Z
UID:1800-1516708800-1516714200@jekyllartists.com
SUMMARY:Memoir Writing
DESCRIPTION:
URL:https://jekyllartists.com/event/memoir-writing-3/
CATEGORIES:Class #3
END:VEVENT
BEGIN:VEVENT
DTSTART;TZID=UTC:20180123T100000
DTEND;TZID=UTC:20180123T110000
DTSTAMP:20260424T183310
CREATED:20171218T214734Z
LAST-MODIFIED:20171218T224717Z
UID:1796-1516701600-1516705200@jekyllartists.com
SUMMARY:The Millionaires of Jekyll Island
DESCRIPTION:
URL:https://jekyllartists.com/event/the-millionaires-of-jekyll-island-3/
LOCATION:Jekyll Island Methodist Church\, 503 Riverview Drive\, Jekyll Island\, 31527\, United States
CATEGORIES:Class #3
END:VEVENT
BEGIN:VEVENT
DTSTART;TZID=UTC:20180123T090000
DTEND;TZID=UTC:20180123T230000
DTSTAMP:20260424T183310
CREATED:20171218T214731Z
LAST-MODIFIED:20171218T224715Z
UID:1791-1516698000-1516748400@jekyllartists.com
SUMMARY:Linocut Print Making
DESCRIPTION:
URL:https://jekyllartists.com/event/linocut-print-making-3/
CATEGORIES:Class #3
END:VEVENT
BEGIN:VEVENT
DTSTART;TZID=UTC:20180122T150000
DTEND;TZID=UTC:20180122T170000
DTSTAMP:20260424T183310
CREATED:20171218T214719Z
LAST-MODIFIED:20171218T224709Z
UID:1772-1516633200-1516640400@jekyllartists.com
SUMMARY:Fly Tying for Beginners
DESCRIPTION:
URL:https://jekyllartists.com/event/fly-tying-for-beginners-3/
LOCATION:Instructor Home
CATEGORIES:Class #3
END:VEVENT
END:VCALENDAR