BEGIN:VCALENDAR
VERSION:2.0
PRODID:-//Jekyll Island Arts Association - ECPv6.15.20//NONSGML v1.0//EN
CALSCALE:GREGORIAN
METHOD:PUBLISH
X-WR-CALNAME:Jekyll Island Arts Association
X-ORIGINAL-URL:https://jekyllartists.com
X-WR-CALDESC:Events for Jekyll Island Arts Association
REFRESH-INTERVAL;VALUE=DURATION:PT1H
X-Robots-Tag:noindex
X-PUBLISHED-TTL:PT1H
BEGIN:VTIMEZONE
TZID:UTC
BEGIN:STANDARD
TZOFFSETFROM:+0000
TZOFFSETTO:+0000
TZNAME:UTC
DTSTART:20170101T000000
END:STANDARD
END:VTIMEZONE
BEGIN:VEVENT
DTSTART;TZID=UTC:20180226T150000
DTEND;TZID=UTC:20180226T170000
DTSTAMP:20260424T183311
CREATED:20171218T214901Z
LAST-MODIFIED:20171218T224802Z
UID:1937-1519657200-1519664400@jekyllartists.com
SUMMARY:Fly Casting for Beginners
DESCRIPTION:
URL:https://jekyllartists.com/event/fly-casting-for-beginners-2/
LOCATION:Golf Course
CATEGORIES:Class #2
END:VEVENT
BEGIN:VEVENT
DTSTART;TZID=UTC:20180222T130000
DTEND;TZID=UTC:20180222T160000
DTSTAMP:20260424T183311
CREATED:20171218T214904Z
LAST-MODIFIED:20171218T224803Z
UID:1941-1519304400-1519315200@jekyllartists.com
SUMMARY:Shetland Lace Scarf
DESCRIPTION:
URL:https://jekyllartists.com/event/shetland-lace-scarf-2/
CATEGORIES:Class #2
END:VEVENT
BEGIN:VEVENT
DTSTART;TZID=UTC:20180219T140000
DTEND;TZID=UTC:20180219T160000
DTSTAMP:20260424T183311
CREATED:20171218T214856Z
LAST-MODIFIED:20171218T224759Z
UID:1930-1519048800-1519056000@jekyllartists.com
SUMMARY:Intro to Knitting
DESCRIPTION:
URL:https://jekyllartists.com/event/intro-to-knitting-2/
CATEGORIES:Class #2
END:VEVENT
BEGIN:VEVENT
DTSTART;TZID=UTC:20180217T100000
DTEND;TZID=UTC:20180217T160000
DTSTAMP:20260424T183311
CREATED:20171218T214858Z
LAST-MODIFIED:20171218T224800Z
UID:1933-1518861600-1518883200@jekyllartists.com
SUMMARY:Full Fundamentals of Drawing and Painting
DESCRIPTION:
URL:https://jekyllartists.com/event/full-fundamentals-of-drawing-and-painting-2/
CATEGORIES:Class #2
END:VEVENT
BEGIN:VEVENT
DTSTART;TZID=UTC:20180214T130000
DTEND;TZID=UTC:20180214T160000
DTSTAMP:20260424T183311
CREATED:20171218T214849Z
LAST-MODIFIED:20171218T224755Z
UID:1918-1518613200-1518624000@jekyllartists.com
SUMMARY:Beginning Mahjong National Version
DESCRIPTION:
URL:https://jekyllartists.com/event/beginning-mahjong-national-version-2/
LOCATION:Instructor Home
CATEGORIES:Class #2
END:VEVENT
BEGIN:VEVENT
DTSTART;TZID=UTC:20180214T100000
DTEND;TZID=UTC:20180214T120000
DTSTAMP:20260424T183311
CREATED:20171218T214847Z
LAST-MODIFIED:20171218T224754Z
UID:1915-1518602400-1518609600@jekyllartists.com
SUMMARY:Beginners Tatting
DESCRIPTION:
URL:https://jekyllartists.com/event/beginners-tatting-5/
CATEGORIES:Class #2
END:VEVENT
BEGIN:VEVENT
DTSTART;TZID=UTC:20180214T100000
DTEND;TZID=UTC:20180214T120000
DTSTAMP:20260424T183311
CREATED:20171218T214845Z
LAST-MODIFIED:20171218T224753Z
UID:1911-1518602400-1518609600@jekyllartists.com
SUMMARY:Mosaic Planter
DESCRIPTION:
URL:https://jekyllartists.com/event/mosaic-planter-2/
CATEGORIES:Class #2
END:VEVENT
BEGIN:VEVENT
DTSTART;TZID=UTC:20180213T133000
DTEND;TZID=UTC:20180213T153000
DTSTAMP:20260424T183311
CREATED:20171218T214842Z
LAST-MODIFIED:20171218T224751Z
UID:1907-1518528600-1518535800@jekyllartists.com
SUMMARY:Favorite Poems of Yesteryear - Gone But Not Forgotten
DESCRIPTION:
URL:https://jekyllartists.com/event/favorite-poems-of-yesteryear-gone-but-not-forgotten-2/
LOCATION:Jekyll Island Methodist Church\, 503 Riverview Drive\, Jekyll Island\, 31527\, United States
CATEGORIES:Class #2
END:VEVENT
BEGIN:VEVENT
DTSTART;TZID=UTC:20180213T090000
DTEND;TZID=UTC:20180213T113000
DTSTAMP:20260424T183311
CREATED:20171218T214853Z
LAST-MODIFIED:20171218T224758Z
UID:1925-1518512400-1518521400@jekyllartists.com
SUMMARY:Observational Drawing
DESCRIPTION:
URL:https://jekyllartists.com/event/observational-drawing-2/
CATEGORIES:Class #2
END:VEVENT
BEGIN:VEVENT
DTSTART;TZID=UTC:20180210T090000
DTEND;TZID=UTC:20180210T150000
DTSTAMP:20260424T183311
CREATED:20171218T214851Z
LAST-MODIFIED:20171218T224756Z
UID:1922-1518253200-1518274800@jekyllartists.com
SUMMARY:Basketmaking Step 3
DESCRIPTION:
URL:https://jekyllartists.com/event/basketmaking-step-3/
CATEGORIES:Class #2
END:VEVENT
BEGIN:VEVENT
DTSTART;TZID=UTC:20180209T130000
DTEND;TZID=UTC:20180209T160000
DTSTAMP:20260424T183311
CREATED:20171218T214837Z
LAST-MODIFIED:20171218T224749Z
UID:1899-1518181200-1518192000@jekyllartists.com
SUMMARY:The Pom Pom Bathroom Mat
DESCRIPTION:
URL:https://jekyllartists.com/event/the-pom-pom-bathroom-mat-2/
CATEGORIES:Class #2
END:VEVENT
BEGIN:VEVENT
DTSTART;TZID=UTC:20180130T130000
DTEND;TZID=UTC:20180130T150000
DTSTAMP:20260424T183311
CREATED:20171218T214832Z
LAST-MODIFIED:20171218T224746Z
UID:1891-1517317200-1517324400@jekyllartists.com
SUMMARY:Paper Bead Necklace
DESCRIPTION:
URL:https://jekyllartists.com/event/paper-bead-necklace-2/
CATEGORIES:Class #2
END:VEVENT
BEGIN:VEVENT
DTSTART;TZID=UTC:20180130T093000
DTEND;TZID=UTC:20180130T120000
DTSTAMP:20260424T183311
CREATED:20171218T214833Z
LAST-MODIFIED:20171218T224747Z
UID:1893-1517304600-1517313600@jekyllartists.com
SUMMARY:Victorian Beaded Knitted Bag
DESCRIPTION:
URL:https://jekyllartists.com/event/victorian-beaded-knitted-bag-2/
CATEGORIES:Class #2
END:VEVENT
BEGIN:VEVENT
DTSTART;TZID=UTC:20180130T090000
DTEND;TZID=UTC:20180130T110000
DTSTAMP:20260424T183311
CREATED:20171218T214830Z
LAST-MODIFIED:20171218T224745Z
UID:1889-1517302800-1517310000@jekyllartists.com
SUMMARY:Paper Bead Bracelet
DESCRIPTION:
URL:https://jekyllartists.com/event/paper-bead-bracelet-2/
CATEGORIES:Class #2
END:VEVENT
BEGIN:VEVENT
DTSTART;TZID=UTC:20180124T153000
DTEND;TZID=UTC:20180124T163000
DTSTAMP:20260424T183311
CREATED:20171218T214826Z
LAST-MODIFIED:20171218T224743Z
UID:1883-1516807800-1516811400@jekyllartists.com
SUMMARY:Mindfullness ~ Meditation
DESCRIPTION:
URL:https://jekyllartists.com/event/mindfullness-meditation-2/
LOCATION:Instructor Home
CATEGORIES:Class #2
END:VEVENT
BEGIN:VEVENT
DTSTART;TZID=UTC:20180124T100000
DTEND;TZID=UTC:20180124T120000
DTSTAMP:20260424T183311
CREATED:20171218T214824Z
LAST-MODIFIED:20171218T224742Z
UID:1880-1516788000-1516795200@jekyllartists.com
SUMMARY:Beginners Tatting
DESCRIPTION:
URL:https://jekyllartists.com/event/beginners-tatting-2/
CATEGORIES:Class #2
END:VEVENT
BEGIN:VEVENT
DTSTART;TZID=UTC:20180124T093000
DTEND;TZID=UTC:20180124T120000
DTSTAMP:20260424T183311
CREATED:20171218T214821Z
LAST-MODIFIED:20171218T224740Z
UID:1874-1516786200-1516795200@jekyllartists.com
SUMMARY:Painting Landscapes in an Impressionist Style
DESCRIPTION:
URL:https://jekyllartists.com/event/painting-landscapes-in-an-impressionist-style-2/
CATEGORIES:Class #2
END:VEVENT
BEGIN:VEVENT
DTSTART;TZID=UTC:20180123T190000
DTEND;TZID=UTC:20180123T200000
DTSTAMP:20260424T183311
CREATED:20171218T214817Z
LAST-MODIFIED:20171218T224738Z
UID:1868-1516734000-1516737600@jekyllartists.com
SUMMARY:The Art of Writing Poetry - Evening
DESCRIPTION:
URL:https://jekyllartists.com/event/the-art-of-writing-poetry-evening-2/
LOCATION:Instructor Home
CATEGORIES:Class #2
END:VEVENT
BEGIN:VEVENT
DTSTART;TZID=UTC:20180123T100000
DTEND;TZID=UTC:20180123T113000
DTSTAMP:20260424T183311
CREATED:20171218T214814Z
LAST-MODIFIED:20171218T224737Z
UID:1862-1516701600-1516707000@jekyllartists.com
SUMMARY:The Art of Writing Poetry  - Morning
DESCRIPTION:
URL:https://jekyllartists.com/event/the-art-of-writing-poetry-morning-2/
LOCATION:Instructor Home
CATEGORIES:Class #2
END:VEVENT
BEGIN:VEVENT
DTSTART;TZID=UTC:20180119T130000
DTEND;TZID=UTC:20180119T160000
DTSTAMP:20260424T183311
CREATED:20171218T214811Z
LAST-MODIFIED:20171218T224735Z
UID:1856-1516366800-1516377600@jekyllartists.com
SUMMARY:Advanced Weaving
DESCRIPTION:
URL:https://jekyllartists.com/event/advanced-weaving-2/
CATEGORIES:Class #2
END:VEVENT
BEGIN:VEVENT
DTSTART;TZID=UTC:20180119T100000
DTEND;TZID=UTC:20180119T120000
DTSTAMP:20260424T183311
CREATED:20171218T214806Z
LAST-MODIFIED:20171218T224733Z
UID:1849-1516356000-1516363200@jekyllartists.com
SUMMARY:Introduction to Zentangle 101
DESCRIPTION:
URL:https://jekyllartists.com/event/introduction-to-zentangle-101-2/
LOCATION:Jekyll Island Methodist Church\, 503 Riverview Drive\, Jekyll Island\, 31527\, United States
CATEGORIES:Class #2
END:VEVENT
BEGIN:VEVENT
DTSTART;TZID=UTC:20180119T090000
DTEND;TZID=UTC:20180119T110000
DTSTAMP:20260424T183311
CREATED:20171218T214809Z
LAST-MODIFIED:20171218T224734Z
UID:1854-1516352400-1516359600@jekyllartists.com
SUMMARY:Gelli Printing
DESCRIPTION:
URL:https://jekyllartists.com/event/gelli-printing-2/
CATEGORIES:Class #2
END:VEVENT
BEGIN:VEVENT
DTSTART;TZID=UTC:20180118T180000
DTEND;TZID=UTC:20180118T200000
DTSTAMP:20260424T183311
CREATED:20171218T214754Z
LAST-MODIFIED:20171218T224727Z
UID:1830-1516298400-1516305600@jekyllartists.com
SUMMARY:Jekyll Island Writers Workshop
DESCRIPTION:
URL:https://jekyllartists.com/event/jekyll-island-writers-workshop-2/
CATEGORIES:Class #2
END:VEVENT
BEGIN:VEVENT
DTSTART;TZID=UTC:20180118T100000
DTEND;TZID=UTC:20180118T120000
DTSTAMP:20260424T183311
CREATED:20171218T214804Z
LAST-MODIFIED:20171218T224732Z
UID:1845-1516269600-1516276800@jekyllartists.com
SUMMARY:Digital Field Photography
DESCRIPTION:
URL:https://jekyllartists.com/event/digital-field-photography-2/
CATEGORIES:Class #2
END:VEVENT
BEGIN:VEVENT
DTSTART;TZID=UTC:20180118T100000
DTEND;TZID=UTC:20180118T120000
DTSTAMP:20260424T183311
CREATED:20171218T214802Z
LAST-MODIFIED:20171218T224730Z
UID:1842-1516269600-1516276800@jekyllartists.com
SUMMARY:Introduction to Knitting
DESCRIPTION:
URL:https://jekyllartists.com/event/introduction-to-knitting-2/
CATEGORIES:Class #2
END:VEVENT
BEGIN:VEVENT
DTSTART;TZID=UTC:20180118T090000
DTEND;TZID=UTC:20180118T113000
DTSTAMP:20260424T183311
CREATED:20171218T214758Z
LAST-MODIFIED:20171218T224729Z
UID:1836-1516266000-1516275000@jekyllartists.com
SUMMARY:Multilayered Art Quilts
DESCRIPTION:
URL:https://jekyllartists.com/event/multilayered-art-quilts-2/
CATEGORIES:Class #2
END:VEVENT
BEGIN:VEVENT
DTSTART;TZID=UTC:20180117T130000
DTEND;TZID=UTC:20180117T160000
DTSTAMP:20260424T183311
CREATED:20171218T214751Z
LAST-MODIFIED:20171218T224725Z
UID:1824-1516194000-1516204800@jekyllartists.com
SUMMARY:Intermediate Weaving
DESCRIPTION:
URL:https://jekyllartists.com/event/intermediate-weaving-2/
CATEGORIES:Class #2
END:VEVENT
BEGIN:VEVENT
DTSTART;TZID=UTC:20180117T130000
DTEND;TZID=UTC:20180117T160000
DTSTAMP:20260424T183311
CREATED:20171218T214743Z
LAST-MODIFIED:20171218T224722Z
UID:1811-1516194000-1516204800@jekyllartists.com
SUMMARY:Intermediate Watercolor Painting
DESCRIPTION:
URL:https://jekyllartists.com/event/intermediate-watercolor-painting-2/
CATEGORIES:Class #2
END:VEVENT
BEGIN:VEVENT
DTSTART;TZID=UTC:20180117T100000
DTEND;TZID=UTC:20180117T120000
DTSTAMP:20260424T183311
CREATED:20171218T214741Z
LAST-MODIFIED:20171218T224720Z
UID:1807-1516183200-1516190400@jekyllartists.com
SUMMARY:Mosaic Birdbath
DESCRIPTION:
URL:https://jekyllartists.com/event/mosaic-birdbath-2/
CATEGORIES:Class #2
END:VEVENT
BEGIN:VEVENT
DTSTART;TZID=UTC:20180117T090000
DTEND;TZID=UTC:20180117T113000
DTSTAMP:20260424T183311
CREATED:20171218T214748Z
LAST-MODIFIED:20171218T224724Z
UID:1819-1516179600-1516188600@jekyllartists.com
SUMMARY:Rag Rug Weaving
DESCRIPTION:
URL:https://jekyllartists.com/event/rag-rug-weaving-2/
CATEGORIES:Class #2
END:VEVENT
END:VCALENDAR